{"text_format":"1","workbook":"xlsx","n_sheets":2,"sheets":["чай+кофе","Лист1"],"not_rendered":{"charts":0,"images":45,"macros":1,"external_links":0,"defined_names":2,"comments":0,"pivot_tables":0},"unopened":[],"bounds":{"document_bytes":16777216,"sheet_cells":100000,"rows_first":2000,"rows_last":500,"rows_between":2000,"halvings":0,"cell_chars":16384,"cell_head_chars":4096},"cells_cut":0,"cells_raw":0,"read":"whole","date_system":"1900"}

{"sheet":"чай+кофе","index":0,"n_rows":747,"n_cols":11,"rows_kept":747,"cut":false,"hidden":false,"merged":[[2,2,2,7],[3,2,3,7],[1,2,1,7],[0,2,0,7]]}
[null,null,"Преимущества и условия отгрузки"]
[null,null,"Чай фасуется по 0,25 кг, 0,5 кг или 1кг и мешками от 10 до 35 кг."]
[null,null,"Акционные позиции отмечены желтым цветом."]
[]
[null,null,null,null,null,null,null,null,"Итого со скидкой"]
[null,null,null,null,null,null,"Кол-во",{"$f":"SUMIF(D9:D732,\"за 1 кг\",G9:G732)","v":111.25},{"$f":"IF(H7<20000,0,IF((H7>=20000)*AND(H7<40000),0.05,IF((H7>=40000)*AND(H7<80000),0.1,IF((H7>=80000)*AND(H7<150000),0.15,0.2))))","v":0.2}]
[null,"Артикул","Наименование","Вес","Закуп от 3000р","цена со скидкой ",null,{"$f":"SUM(H8:H1048576)","v":197613},{"$f":"SUM(K9:K732)","v":{"$error":"#REF!"}}]
[null,"kata","Черный чай AROMA"]
[50.899999976158142,"00004","Эрл грей крупнолистовой (Купаж черного чая, с ароматом \"Бергамот\") ","за 1 кг",1142,1142,0.25,{"$f":"G9*F9","v":285.5},null,null,{"$f":"IF(I9=#REF!,H9,H9*(1-$I$6))","v":{"$error":"#REF!"}}]
[50.899999976158142,"1111120","Граф Грей (Купаж черного чая, мальва, с ароматом \"Бергамот и лимон\")","за 1 кг",1176,1176,0.25,294,"NEW!",null,{"$f":"IF(I10=#REF!,H10,H10*(1-$I$6))","v":{"$error":"#REF!"}}]
[50.899999976158142,"1111123","Белый бергамот (Купаж черного чая, Бай Му Дань, с ароматом \"Бергамот\")","за 1 кг",1885,1885,0.25,471.25,"NEW!",null,{"$f":"IF(I11=#REF!,H11,H11*(1-$I$6))","v":{"$error":"#REF!"}}]
[50.899999976158142,"00010","Граф Орлов (Купаж черного чая, мальва, сафлор, клубника ягода, цукаты, персик, с ароматом \"Земляника\")","за 1 кг",1234,1234,0.25,308.5,null,null,{"$f":"IF(I12=#REF!,H12,H12*(1-$I$6))","v":{"$error":"#REF!"}}]
[50.899999976158142,"1111117","Граф Гренадин (Купаж черного чая, Сенча, ежевика ягода, черемуха ягода, роза лепестки, с ароматом \"Гранат, черника, смородина\")","за 1 кг",1364,1364,0.25,341,"NEW!",null,{"$f":"IF(I13=#REF!,H13,H13*(1-$I$6))","v":{"$error":"#REF!"}}]
[50.899999976158142,"1111118","Ванильная клюква (Купаж черного чая, клюква, роза лепестки, карамель, с ароматом \"Ваниль и сливки\")","за 1 кг",1129,904,0.25,226,"Акция!",null,{"$f":"IF(I14=#REF!,H14,H14*(1-$I$6))","v":{"$error":"#REF!"}}]
[50.899999976158142,"1111119","Смородина с мятой (Купаж черного чая, брусника лист, мята лист, черная смородина ягода, с ароматом \"Смородина и мята\") ","за 1 кг",1334,1334,0.25,333.5,"NEW!",null,{"$f":"IF(I15=#REF!,H15,H15*(1-$I$6))","v":{"$error":"#REF!"}}]
[50.899999976158142,"1111121","Черничный йогурт (Купаж черного чая, смородина лист, ежевика лист,мальва, с ароматом \"Черника и пломбир\")","за 1 кг",1364,1364,0.25,341,"NEW!",null,{"$f":"IF(I16=#REF!,H16,H16*(1-$I$6))","v":{"$error":"#REF!"}}]
[50.899999976158142,"1111674","Золотая осень (Ассам ОРА,цейлон ОР, апельсин,яблоко,с ароматом \"Клубника и карамель\")","за 1 кг",1361,1361,0.25,340.25,null,null,{"$f":"IF(I17=#REF!,H17,H17*(1-$I$6))","v":{"$error":"#REF!"}}]
[50.899999976158142,"1111675","Снежная королева (Купаж черного чая, мята, мальва, хризантема, цукаты, малина ягода, с ароматом \"Лимон\")","за 1 кг",1230,1230,0.25,307.5,null,null,{"$f":"IF(I18=#REF!,H18,H18*(1-$I$6))","v":{"$error":"#REF!"}}]
[50.899999976158142,"1111709","Черный чай \"Темный капучино\" (Купаж черного чая, карамель,шоколад, с ароматом \" Капучино\")","за 1 кг",1295,1295,0.25,323.75,"NEW!",null,{"$f":"IF(I19=#REF!,H19,H19*(1-$I$6))","v":{"$error":"#REF!"}}]
[50.899999976158142,"1111705","Черный чай \"Ореховая долина\" (Купаж черного чая, сенча, кедровый орех, смородина лист, с ароматом \"Фисташка\")","за 1 кг",1333,1333,0.25,333.25,"NEW!",null,{"$f":"IF(I20=#REF!,H20,H20*(1-$I$6))","v":{"$error":"#REF!"}}]
[50.899999976158142,"00027","Изысканный бергамот (Купаж черного чая, мальва, шиповник кожура, черноплодная рябина ягода, с ароматом \"Бергамот\")","за 1 кг",1378,1378,0.25,344.5,null,null,{"$f":"IF(I21=#REF!,H21,H21*(1-$I$6))","v":{"$error":"#REF!"}}]
[50.899999976158142,"00025","Дикая вишня (Купаж черного чая, роза лепестки, вишня ягода, вишня лист, гранат цветки, с ароматом \"Вишня\")","за 1 кг",1222,1222,0.25,305.5,null,null,{"$f":"IF(I22=#REF!,H22,H22*(1-$I$6))","v":{"$error":"#REF!"}}]
[50.899999976158142,"00026","Цитрус блэнд (Купаж черного чая, Лемонграсс, лимон корка, апельсин корка, календула, сафлор, с ароматом \"Мандарин\")","за 1 кг",1364,1364,0.25,341,null,null,{"$f":"IF(I23=#REF!,H23,H23*(1-$I$6))","v":{"$error":"#REF!"}}]
[50.899999976158142,"00011","Пряный цитрус (Купаж черного чая, душистый перец, кориандр, кардамон, яблоко, корица, апельсин корка, с ароматом \"Апельсин\")","за 1 кг",1351,1351,0.25,337.75,null,null,{"$f":"IF(I24=#REF!,H24,H24*(1-$I$6))","v":{"$error":"#REF!"}}]
[50.899999976158142,"00023","Ранетка (Купаж черного чая, зеленый чай \"Сенча\", Лемонграсс, вишня ягода, яблоко, вишня лист, с ароматом \"Яблоко\")","за 1 кг",1351,1216,0.25,304,"Акция!",null,{"$f":"IF(I25=#REF!,H25,H25*(1-$I$6))","v":{"$error":"#REF!"}}]
[50.899999976158142,"1110716","Вишня в шоколаде кат.В (Вьетнамский черный чай, вишня лист, вишня ягода, шоколад, кофе зерна, сафлор, с ароматом \"Шоколад и Вишня\")","за 1 кг",1153,1153,0.25,288.25,null,null,{"$f":"IF(I26=#REF!,H26,H26*(1-$I$6))","v":{"$error":"#REF!"}}]
[50.899999976158142,"00024\n","Вишня в шоколаде (Купаж черного чая, вишня лист, вишня ягода, шоколад, кофе зерна, сафлор, с ароматом \"Шоколад и Вишня\") ","за 1 кг",1217,1096,0.25,274,"Акция!",null,{"$f":"IF(I27=#REF!,H27,H27*(1-$I$6))","v":{"$error":"#REF!"}}]
[50.899999976158142,"00028\n","Клубника со сливками (Купаж черного чая, клубника кусочки, смородина лист, сафлор, с ароматом \"Клубника и Молоко\")","за 1 кг",1256,1256,0.25,314,null,null,{"$f":"IF(I28=#REF!,H28,H28*(1-$I$6))","v":{"$error":"#REF!"}}]
[50.899999976158142,"00029","Баунти (Купаж черного чая, мальва, сафлор, кокос кубик, шоколад, кофе зерна, с ароматом \"Кокос и Шоколад\")","за 1 кг",1351,1351,0.25,337.75,null,null,{"$f":"IF(I29=#REF!,H29,H29*(1-$I$6))","v":{"$error":"#REF!"}}]
[50.899999976158142,"00013","Черный чай с розой (Купаж черного чая, изюм, роза лепестки, с ароматом \"Персик-роза\") ","за 1 кг",1351,1351,0.25,337.75,null,null,{"$f":"IF(I30=#REF!,H30,H30*(1-$I$6))","v":{"$error":"#REF!"}}]
[50.899999976158142,"00860","Соусеп (Купаж черного чая, сафлор, календула, цукаты, мальва, с ароматом \"Соусеп\")","за 1 кг",1195,1195,0.25,298.75,null,null,{"$f":"IF(I31=#REF!,H31,H31*(1-$I$6))","v":{"$error":"#REF!"}}]
[50.899999976158142,"00002","Брызги шампанского (Купаж черного чая, клубника кусочки, изюм, календула, смородина лист, с ароматом \"Виноград\")","за 1 кг",1184,1184,0.25,296,null,null,{"$f":"IF(I32=#REF!,H32,H32*(1-$I$6))","v":{"$error":"#REF!"}}]
[50.899999976158142,"00003","Спелый барбарис (Купаж черного чая, барбарис, смородина лист, клюква ягода, сафлор, с ароматом \"Барбарис\")","за 1 кг",1378,1378,0.25,344.5,null,null,{"$f":"IF(I33=#REF!,H33,H33*(1-$I$6))","v":{"$error":"#REF!"}}]
[50.899999976158142,"00005","Императорский черный (Купаж черного чая, цукаты, яблоко, лимон корка, шиповник кожура, роза лепестки, клубника кусочки, с ароматом \"Клубника\") ","за 1 кг",1399,1399,0.25,349.75,null,null,{"$f":"IF(I34=#REF!,H34,H34*(1-$I$6))","v":{"$error":"#REF!"}}]
[50.899999976158142,"00666","Екатерина великая кат.В (Вьетнамский черный чай, роза лепестки, мальва, клубника кусочки, Каркаде, с ароматом \"Клубника\")","за 1 кг",1208,1208,0.25,302,null,null,{"$f":"IF(I35=#REF!,H35,H35*(1-$I$6))","v":{"$error":"#REF!"}}]
[50.899999976158142,"00018","Екатерина великая (Купаж черного чая, роза лепестки, мальва, клубника кусочки, Каркаде, с ароматом \"Клубника\")","за 1 кг",1362,1362,0.25,340.5,null,null,{"$f":"IF(I36=#REF!,H36,H36*(1-$I$6))","v":{"$error":"#REF!"}}]
[50.899999976158142,"00660","Конго кат.В (Вьетнамский черный чай, банан, цукаты, календула, с ароматом \"Банан\")","за 1 кг",1141,1084,0.25,271,"Акция!",null,{"$f":"IF(I37=#REF!,H37,H37*(1-$I$6))","v":{"$error":"#REF!"}}]
[50.899999976158142,"00019","Конго (Купаж черного чая, банан, цукаты, календула, с ароматом \"Банан\")","за 1 кг",1388,1388,0.25,347,null,null,{"$f":"IF(I38=#REF!,H38,H38*(1-$I$6))","v":{"$error":"#REF!"}}]
[50.899999976158142,"00667","Изабелла кат.В (Вьетнамский черный чай, Каркаде, вишня лист, клюква ягода, изюм, с ароматом \"Виноград\") ","за 1 кг",1124,1068,0.25,267,"Акция!",null,{"$f":"IF(I39=#REF!,H39,H39*(1-$I$6))","v":{"$error":"#REF!"}}]
[50.899999976158142,"00020","Изабелла (Купаж черного чая, Каркаде, вишня лист, клюква ягода, изюм, с ароматом \"Виноград\") ","за 1 кг",1364,1364,0.25,341,null,null,{"$f":"IF(I40=#REF!,H40,H40*(1-$I$6))","v":{"$error":"#REF!"}}]
[50.899999976158142,"00021","Робинзон (Купаж черного чая, цукаты, мальва, гранат цветки, с ароматом \"Тропический фрукт\")","за 1 кг",1388,1388,0.25,{"$f":"G41*F41","v":347},null,null,{"$f":"IF(I41=#REF!,H41,H41*(1-$I$6))","v":{"$error":"#REF!"}}]
[50.899999976158142,"00654","Мишки Гамми кат.В (Вьетнамский черный чай, цукаты, клюква ягода, малина ягода, клубника кусочки, смородина лист, календула, с ароматом \"Малина\")","за 1 кг",1218,1218,0.25,304.5,null,null,{"$f":"IF(I42=#REF!,H42,H42*(1-$I$6))","v":{"$error":"#REF!"}}]
[50.899999976158142,"00022","Мишки гамми (Купаж черного чая, цукаты, клюква ягода, малина ягода, клубника кусочки, смородина лист, календула, с ароматом \"Малина\")","за 1 кг",1417,1417,0.25,354.25,null,null,{"$f":"IF(I43=#REF!,H43,H43*(1-$I$6))","v":{"$error":"#REF!"}}]
[50.899999976158142,"00668","Ирландские сливки черный кат.В (Вьетнамский черный чай, сафлор, корица, с ароматом \"Пломбир\")","за 1 кг",1195,1195,0.25,298.75,null,null,{"$f":"IF(I44=#REF!,H44,H44*(1-$I$6))","v":{"$error":"#REF!"}}]
[50.899999976158142,"00030","Ирландские сливки черный (Купаж черного чая, сафлор, корица, с ароматом \"Пломбир\")","за 1 кг",1336,1336,0.25,334,null,null,{"$f":"IF(I45=#REF!,H45,H45*(1-$I$6))","v":{"$error":"#REF!"}}]
[50.899999976158142,"1110166","Сокровище дракона (Купаж черного чая, Каркаде, яблоко, шиповник кожура, ягоды годжи, сафлор, с ароматом \"Соусеп\")","за 1 кг",1272,1272,0.25,318,null,null,{"$f":"IF(I46=#REF!,H46,H46*(1-$I$6))","v":{"$error":"#REF!"}}]
[50.899999976158142,"00934","Чай черный \"Шоколад\" (Купаж черного чая, шоколад капли, с ароматом \"Шоколад\")","за 1 кг",1148,1148,0.25,287,null,null,{"$f":"IF(I47=#REF!,H47,H47*(1-$I$6))","v":{"$error":"#REF!"}}]
[50.899999976158142,"00933","Черный чай \"Земляника со сливками\" (Купаж черного чая, клубника кусочки, сафлор, с ароматом \"Земляника и сливки\")","за 1 кг",1312,1312,0.25,328,null,null,{"$f":"IF(I48=#REF!,H48,H48*(1-$I$6))","v":{"$error":"#REF!"}}]
[50.899999976158142,"00669","Черный чай с Медовой Дыней кат.В (Вьетнамский черный чай, цукаты, яблоко, календула, с ароматом \"Дыня и Мёд\")","за 1 кг",1190,1190,0.25,297.5,null,null,{"$f":"IF(I49=#REF!,H49,H49*(1-$I$6))","v":{"$error":"#REF!"}}]
[50.899999976158142,"00031","Черный чай с Медовой Дыней (Купаж черного чая, цукаты, яблоко, календула, с ароматом \"Дыня и Мёд\")","за 1 кг",1304,1304,0.25,326,null,null,{"$f":"IF(I50=#REF!,H50,H50*(1-$I$6))","v":{"$error":"#REF!"}}]
[50.899999976158142,"00671","Черный чай с персиком кат.В (Вьетнамский черный чай, персик, цукаты, черноплодная рябина ягода, календула, с ароматом \"Персик и Роза\")","за 1 кг",1190,833,0.25,208.25,"Акция!",null,{"$f":"IF(I51=#REF!,H51,H51*(1-$I$6))","v":{"$error":"#REF!"}}]
[50.899999976158142,"00033","Черный чай с персиком (Купаж черного чая, персик, цукаты, черноплодная рябина ягода, календула, с ароматом \"Персик и Роза\")","за 1 кг",1388,1388,0.25,347,null,null,{"$f":"IF(I52=#REF!,H52,H52*(1-$I$6))","v":{"$error":"#REF!"}}]
[50.899999976158142,"00672","Черный чай с клюквой кат.В (Вьетнамский черный чай, смородина лист, клюква ягода, изюм, гранат цветки, с ароматом \"Клюква\")","за 1 кг",1168,1168,0.25,292,null,null,{"$f":"IF(I53=#REF!,H53,H53*(1-$I$6))","v":{"$error":"#REF!"}}]
[50.899999976158142,"00034","Черный чай с клюквой (Купаж черного чая, смородина лист, клюква ягода, изюм, гранат цветки, с ароматом \"Клюква\")","за 1 кг",1256,1256,0.25,314,null,null,{"$f":"IF(I54=#REF!,H54,H54*(1-$I$6))","v":{"$error":"#REF!"}}]
[50.899999976158142,"00676","Черный Баттерскотч кат.В (Вьетнамский черный чай, цукаты, бессмертник, сафлор, с ароматом \"Ирландский крем\")","за 1 кг",1205,1144,0.25,286,"Акция!",null,{"$f":"IF(I55=#REF!,H55,H55*(1-$I$6))","v":{"$error":"#REF!"}}]
[50.899999976158142,"00038","Черный Баттерскотч (Купаж черного чая, цукаты, бессмертник, сафлор, с ароматом \"Ирландский крем\")","за 1 кг",1474,1474,0.25,368.5,null,null,{"$f":"IF(I56=#REF!,H56,H56*(1-$I$6))","v":{"$error":"#REF!"}}]
[50.899999976158142,"00039","Джекфрут (Купаж черного чая, цукаты, яблоко, ежевика ягода, ежевика лист, мальва, с ароматом \"Фруктовое ассорти\")","за 1 кг",1388,1388,0.25,347,null,null,{"$f":"IF(I57=#REF!,H57,H57*(1-$I$6))","v":{"$error":"#REF!"}}]
[50.899999976158142,"00695","Лиловая слива (Купаж черного чая, вишня лист, черноплодная рябина ягода, цукаты, роза лепестки, с ароматом \"Слива\")","за 1 кг",1388,1388,0.25,347,null,null,{"$f":"IF(I58=#REF!,H58,H58*(1-$I$6))","v":{"$error":"#REF!"}}]
[50.899999976158142,"00699","Румяный персик (Купаж черного чая, персик, цукаты, клубника кусочки, календула, с ароматом \"Персик\")","за 1 кг",1388,1388,0.25,347,null,null,{"$f":"IF(I59=#REF!,H59,H59*(1-$I$6))","v":{"$error":"#REF!"}}]
[50.899999976158142,"00012","Ягода-малина (Купаж черного чая, малина лист, малина ягода, роза лепестки, с ароматом \"Малина\")","за 1 кг",1408,1408,0.25,352,null,null,{"$f":"IF(I60=#REF!,H60,H60*(1-$I$6))","v":{"$error":"#REF!"}}]
[50.899999976158142,"00009","Звездное небо (Купаж черного чая, можжевельник ягода, боярышник, календула, мальва, бессмертник, шалфей, с ароматом \"Соусеп\")","за 1 кг",1364,1364,0.25,341,null,null,{"$f":"IF(I61=#REF!,H61,H61*(1-$I$6))","v":{"$error":"#REF!"}}]
[50.899999976158142,"00661","Апельсин в шоколаде кат.В (Вьетнамский черный чай, кофе зерна, календула, апельсин корка, шоколад, с ароматом \"Апельсин и Шоколад\")","за 1 кг",1153,1153,0.25,288.25,null,null,{"$f":"IF(I62=#REF!,H62,H62*(1-$I$6))","v":{"$error":"#REF!"}}]
[50.899999976158142,"00014","Апельсин в шоколаде (Купаж черного чая, зерна кофе, календула, апельсин корка, шоколад, с ароматом \"Апельсин и Шоколад\")","за 1 кг",1408,1408,0.25,352,null,null,{"$f":"IF(I63=#REF!,H63,H63*(1-$I$6))","v":{"$error":"#REF!"}}]
[50.899999976158142,"00663","Имбирный с медом кат.В (Вьетнамский черный чай, имбирь, розовый перец, календула, с ароматом \"Мёд\")","за 1 кг",1208,1208,0.25,302,null,null,{"$f":"IF(I64=#REF!,H64,H64*(1-$I$6))","v":{"$error":"#REF!"}}]
[50.899999976158142,"00015","Имбирный с медом (Купаж черного чая, имбирь, розовый перец, календула, с ароматом \"Мёд\")","за 1 кг",1451,1451,0.25,362.75,null,null,{"$f":"IF(I65=#REF!,H65,H65*(1-$I$6))","v":{"$error":"#REF!"}}]
[50.899999976158142,"1110729","Жгучий Апельсин кат.В (Вьетнамский черный чай, апельсин корка, перец чили, перец розовый, корица, с ароматом \"Апельсин\")","за 1 кг",1195,1135,0.25,283.75,"Акция!",null,{"$f":"IF(I66=#REF!,H66,H66*(1-$I$6))","v":{"$error":"#REF!"}}]
[50.899999976158142,"00016","Жгучий Апельсин (Купаж черного чая, корка апельсин, перец чили, перец розовый, корица, с ароматом \"Апельсин\")","за 1 кг",1420,1420,0.25,355,null,null,{"$f":"IF(I67=#REF!,H67,H67*(1-$I$6))","v":{"$error":"#REF!"}}]
[50.899999976158142,"00665","Яблочный пирог кат.В (Вьетнамский черный чай, душистый перец, кориандр, кардамон, яблоко, корица, гвоздика, с ароматом \"Яблоко\")","за 1 кг",1208,1148,0.25,287,"Акция!",null,{"$f":"IF(I68=#REF!,H68,H68*(1-$I$6))","v":{"$error":"#REF!"}}]
[50.899999976158142,"00017","Яблочный пирог (Купаж черного чая, душистый перец, кориандр, кардамон, яблоко, корица, гвоздика, с ароматом \"Яблоко\")","за 1 кг",1420,1420,0.25,355,null,null,{"$f":"IF(I69=#REF!,H69,H69*(1-$I$6))","v":{"$error":"#REF!"}}]
[50.899999976158142,"00670","Черный чай \"Таёжный\" кат.В (Вьетнамский черный чай, можжевельник ягода, ягода рябина, черемуха ягода, мальва, с ароматом \"Лесные ягоды\")","за 1 кг",1224,1224,0.25,306,null,null,{"$f":"IF(I70=#REF!,H70,H70*(1-$I$6))","v":{"$error":"#REF!"}}]
[50.899999976158142,"00032","Черный чай \"Таёжный\" (Купаж черного чая, можжевельник ягода, ягода рябина, черемуха ягода, мальва, с ароматом \"Лесные ягоды\")","за 1 кг",1408,1408,0.25,352,null,null,{"$f":"IF(I71=#REF!,H71,H71*(1-$I$6))","v":{"$error":"#REF!"}}]
[50.899999976158142,"00673","Абрикосовый десерт кат.В (Вьетнамский черный чай, яблоко, цукаты, календула, с ароматом \"Абрикос\")","за 1 кг",1148,1148,0.25,287,null,null,{"$f":"IF(I72=#REF!,H72,H72*(1-$I$6))","v":{"$error":"#REF!"}}]
[50.899999976158142,"00035","Абрикосовый десерт (Купаж черного чая, яблоко, цукаты, календула, с ароматом \"Абрикос\")","за 1 кг",1474,1474,0.25,{"$f":"G73*F73","v":368.5},null,null,{"$f":"IF(I73=#REF!,H73,H73*(1-$I$6))","v":{"$error":"#REF!"}}]
[50.899999976158142,"00694","Орех в шоколаде (Купаж черного чая, кедровый орех, шоколад, календула, кофе зерна, с ароматом \"Шоколад и Орех\")","за 1 кг",1399,1399,0.25,349.75,null,null,{"$f":"IF(I74=#REF!,H74,H74*(1-$I$6))","v":{"$error":"#REF!"}}]
[50.899999976158142,"00506","Соусеп Манго (Купаж черного чая, цукаты, мальва, календула, с ароматом \"Манго и Соусеп\")","за 1 кг",1264,1264,0.25,316,null,null,{"$f":"IF(I75=#REF!,H75,H75*(1-$I$6))","v":{"$error":"#REF!"}}]
[50.899999976158142,"00697","Лимонный фреш (Купаж черного чая, лимон корка, Лемонграсс, календула, с ароматом \"Лимон\")","за 1 кг",1364,1296,0.25,324,"Акция!",null,{"$f":"IF(I76=#REF!,H76,H76*(1-$I$6))","v":{"$error":"#REF!"}}]
[50.899999976158142,"00510","Дивный сад (Купаж черного чая, смородина лист, вишня лист, облепиха лист, малина ягода, мальва, черноплодная рябина ягода, с ароматом \"Облепиха\")","за 1 кг",1609,1609,0.25,402.25,null,null,{"$f":"IF(I77=#REF!,H77,H77*(1-$I$6))","v":{"$error":"#REF!"}}]
[50.899999976158142,"00508","Дары тайги (Купаж черного чая, можжевельник ягода, шиповник кожура, боярышник, мальва, чабрец, с ароматом \"Черника\")","за 1 кг",1451,1451,0.25,362.75,null,null,{"$f":"IF(I78=#REF!,H78,H78*(1-$I$6))","v":{"$error":"#REF!"}}]
[50.899999976158142,"1110234","Волшебная луна (Сенча, кенийский черный, сафлор, календула, мальва, роза лепестки, жасмин, персик, цукаты, с ароматом \"Персик\")","за 1 кг",1499,1424,0.25,356,"Акция!",null,{"$f":"IF(I79=#REF!,H79,H79*(1-$I$6))","v":{"$error":"#REF!"}}]
[50.899999976158142,"1110238","Ночь Клеопатры (Купаж черного чая, Сенча, мальва, роза лепестки, календула, клубника кусочки, персик, с ароматом \"Манго\")","за 1 кг",1451,1451,0.25,362.75,null,null,{"$f":"IF(I80=#REF!,H80,H80*(1-$I$6))","v":{"$error":"#REF!"}}]
[50.899999976158142,"1110249","Рождественский (Купаж черного чая, Сенча, лимон корка, яблоко, апельсин дольки, Лемонграсс, корица, гвоздика, с ароматом \"Сливки\")","за 1 кг",1435,1435,0.25,358.75,null,null,{"$f":"IF(I81=#REF!,H81,H81*(1-$I$6))","v":{"$error":"#REF!"}}]
[50.899999976158142,"1110212","Загадка фараона (Купаж черного чая, шоколад капли, изюм, с ароматомы \"Виноград\" и \"Коньяк\")","за 1 кг",1301,1301,0.25,325.25,null,null,{"$f":"IF(I82=#REF!,H82,H82*(1-$I$6))","v":{"$error":"#REF!"}}]
[50.899999976158142,"1110214","Апельсиновое печенье (Купаж черного чая, яблоко, корица, кориандр, кардамон, апельсин корка, розовый перец, гвоздика, с ароматом \"Апельсин\")","за 1 кг",1378,1378,0.25,344.5,null,null,{"$f":"IF(I83=#REF!,H83,H83*(1-$I$6))","v":{"$error":"#REF!"}}]
[50.899999976158142,"1110245","Зимняя вишня (Купаж черного чая, вишня ягода, шоколад капли, с ароматомы \"Вишня\" и \"Сливки\")","за 1 кг",1390,1390,0.25,347.5,null,null,{"$f":"IF(I84=#REF!,H84,H84*(1-$I$6))","v":{"$error":"#REF!"}}]
[50.899999976158142,"1110247","Новогодний (Купаж черного чая, корица, кардамон, гвоздика, апельсин дольки, розовый перец, лимон корка, с ароматом \"Апельсин\")","за 1 кг",1312,1312,0.25,328,null,null,{"$f":"IF(I85=#REF!,H85,H85*(1-$I$6))","v":{"$error":"#REF!"}}]
[50.899999976158142,"1110257","Шоколад с мятой (Купаж черного чая, яблоко, миндаль, шоколад капли, мята, с ароматом \"Пломбир и Шоколад\")","за 1 кг",1459,1386,0.25,346.5,"Акция!",null,{"$f":"IF(I86=#REF!,H86,H86*(1-$I$6))","v":{"$error":"#REF!"}}]
[50.899999976158142,"1110258","Годжи гранат (Купаж черного чая, ягоды годжи, апельсин корка, сафлор, роза бутоны, Каркаде, с ароматом \"Гранат\")","за 1 кг",1343,1343,0.25,335.75,null,null,{"$f":"IF(I87=#REF!,H87,H87*(1-$I$6))","v":{"$error":"#REF!"}}]
[50.899999976158142,"1110259","Тоффи (Купаж черного чая, карамель кусочки, шоколад капли, с ароматомы \"Ваниль\" и \"Карамель\")","за 1 кг",1459,1386,0.25,346.5,"Акция!",null,{"$f":"IF(I88=#REF!,H88,H88*(1-$I$6))","v":{"$error":"#REF!"}}]
[50.899999976158142,"1110262","Болдинская сказка (Купаж черного чая, малина ягода, клубника кусочки, малина ягода, вишня ягода, земляника лист, календула, с ароматомы \"Смородина и Вишня\")","за 1 кг",1459,1459,0.25,364.75,null,null,{"$f":"IF(I89=#REF!,H89,H89*(1-$I$6))","v":{"$error":"#REF!"}}]
[50.899999976158142,"00512","Лавка пряностей (Купаж черного чая, кардамон, кориандр, фенхель, корица, розовый перец, с ароматом \"Корица\")","за 1 кг",1451,1451,0.25,362.75,null,null,{"$f":"IF(I90=#REF!,H90,H90*(1-$I$6))","v":{"$error":"#REF!"}}]
[50.899999976158142,"00603","Сладкий киви (Купаж черного чая, цукаты, смородина лист, календула, с ароматом \"Киви\")","за 1 кг",1474,1474,0.25,368.5,null,null,{"$f":"IF(I91=#REF!,H91,H91*(1-$I$6))","v":{"$error":"#REF!"}}]
[50.899999976158142,"00006","1001 ночь (Купаж черного чая, Сенча, изюм, цукаты, роза лепестки, календула, мальва, с ароматом \"Персик-роза\" )","за 1 кг",1400,1400,0.25,350,null,null,{"$f":"IF(I92=#REF!,H92,H92*(1-$I$6))","v":{"$error":"#REF!"}}]
[50.899999976158142,"00662","Медовая карамель кат.В (Вьетнамский черный чай, яблоко, мальва, календула, бессмертник, с ароматом \"Мед и Карамель\")","за 1 кг",1153,1153,0.25,288.25,null,null,{"$f":"IF(I93=#REF!,H93,H93*(1-$I$6))","v":{"$error":"#REF!"}}]
[50.899999976158142,"00008","Медовая карамель (купаж черного чая, яблоко, мальва, календула, бессмертник, с ароматом \"Мед и Карамель\")","за 1 кг",1456,1456,0.25,364,null,null,{"$f":"IF(I94=#REF!,H94,H94*(1-$I$6))","v":{"$error":"#REF!"}}]
[50.899999976158142,"00675","Черный чай с арбузом кат.В (Вьетнамский черный чай, смородина лист, роза лепестки, малина лист, шиповник кожура, гранат цветки, клюква ягода, с ароматом \"Арбуз\")","за 1 кг",1195,1195,0.25,298.75,null,null,{"$f":"IF(I95=#REF!,H95,H95*(1-$I$6))","v":{"$error":"#REF!"}}]
[50.899999976158142,"00037","Черный чай с арбузом (Купаж черного чая, смородина лист, роза лепестки, малина лист, гранат цветки, шиповник кожура, клюква ягода, с ароматом \"Арбуз\")","за 1 кг",1490,1416,0.25,354,"Акция!",null,{"$f":"IF(I96=#REF!,H96,H96*(1-$I$6))","v":{"$error":"#REF!"}}]
[50.899999976158142,"00674","Чай черный \"Черная смородина\" кат.В (Вьетнамский черный чай, смородина ягода, смородина лист, мальва, с ароматом \"Смородина\")","за 1 кг",1168,1168,0.25,292,null,null,{"$f":"IF(I97=#REF!,H97,H97*(1-$I$6))","v":{"$error":"#REF!"}}]
[50.899999976158142,"00036","Чай черный \"Черная смородина\" (Купаж черного чая, смородина ягода, смородина лист, мальва, с ароматом \"Смородина\")","за 1 кг",1547,1547,0.25,386.75,null,null,{"$f":"IF(I98=#REF!,H98,H98*(1-$I$6))","v":{"$error":"#REF!"}}]
[50.899999976158142,"00007","Русский чай с ягодами (Иван-чай, купаж черного чая, можжевельник ягода, шиповник кожура, смородина ягода, красная рябина ягода, с ароматом \"Лесные ягоды\")","за 1 кг",1501,1501,0.25,375.25,null,null,{"$f":"IF(I99=#REF!,H99,H99*(1-$I$6))","v":{"$error":"#REF!"}}]
[50.899999976158142,"00639","1001 ночь Premium (Цейлонский ОР, Сенча, черемуха ягода, персик, изюм, цукаты, роза лепестки, гранат цветки, мальва, с ароматом \"Персик-роза\")","за 1 кг",1628,1628,0.25,407,"Premium NEW ",null,{"$f":"IF(I100=#REF!,H100,H100*(1-$I$6))","v":{"$error":"#REF!"}}]
[50.899999976158142,"00623","Соусеп Premium (Цейлонский ОР, мальва, сафлор, календула, цукаты, банан, персик, с ароматом \"Соусеп\")","за 1 кг",1674,1674,0.25,418.5,"Premium NEW ",null,{"$f":"IF(I101=#REF!,H101,H101*(1-$I$6))","v":{"$error":"#REF!"}}]
[50.899999976158142,"00625","Мишки Гамми Premium (Цейлонский ОР, цукаты, клюква ягода, бессмертник, можжевельник ягода, малина ягода, клубника кусочки, смородина лист, календула, с ароматом \"Малина\")","за 1 кг",1756,1756,0.25,439,"Premium NEW ",null,{"$f":"IF(I102=#REF!,H102,H102*(1-$I$6))","v":{"$error":"#REF!"}}]
[50.899999976158142,"00638","Брызги шампанского Premium (Цейлонский ОР, бессмертник, вишня ягода, изюм, клубника кусочки, календула, смородина лист, с ароматом \"Виноград\")","за 1 кг",1732,1732,0.25,433,"Premium NEW ",null,{"$f":"IF(I103=#REF!,H103,H103*(1-$I$6))","v":{"$error":"#REF!"}}]
[50.899999976158142,"00647","Конго Premium (Цейлонсикй Ор, персик, апельсин дольки, банан, цукаты, календула, с ароматом \"Банан и Апельсин\")","за 1 кг",1824,1824,0.25,456,"Premium NEW ",null,{"$f":"IF(I104=#REF!,H104,H104*(1-$I$6))","v":{"$error":"#REF!"}}]
[50.899999976158142,"00640","Императорский черный Premium (Цейлонский ОР, черноплодная рябина ягода, апельсин дольки, цукаты, яблоко, лимон корка, шиповник кожура, роза лепестки, клубника кусочки, с ароматом \"Клубника\") ","за 1 кг",1824,1824,0.25,{"$f":"G105*F105","v":456},"Premium NEW ",null,{"$f":"IF(I105=#REF!,H105,H105*(1-$I$6))","v":{"$error":"#REF!"}}]
[50.899999976158142,"00644","Граф Орлов Premium (Цейлонский ОР, красная рябина ягода, черноплодная рябина ягода, черемуха ягода, гранат цветки, мальва, сафлор, клубника кусочки, цукаты, персик, с ароматом \"Земляника\")","за 1 кг",1853,1853,0.25,463.25,"Premium NEW ",null,{"$f":"IF(I106=#REF!,H106,H106*(1-$I$6))","v":{"$error":"#REF!"}}]
[50.899999976158142,"00653","Пряный цитрус Premium (Цейлонский ОР, душистый перец, кориандр, кардамон, яблоко, корица, дольки апельсина, с ароматом \"Апельсин\")","за 1 кг",1830,1830,0.25,457.5,"Premium NEW ",null,{"$f":"IF(I107=#REF!,H107,H107*(1-$I$6))","v":{"$error":"#REF!"}}]
[50.899999976158142,"00643","Екатерина великая Premium (Цейлонский ОР, ежевика ягода, ежевика лист, роза лепестки, мальва, клубника кусочки, гранат цветки, Каркаде, с ароматом \"Клубника\")","за 1 кг",1873,1873,0.25,468.25,"Premium NEW ",null,{"$f":"IF(I108=#REF!,H108,H108*(1-$I$6))","v":{"$error":"#REF!"}}]
[50.899999976158142,"00642","Жгучий Апельсин Premium (Цейлонский ОР, лимон корка, Лемонграсс, перец чили, перец розовый, корица, с ароматом \"Апельсин\")","за 1 кг",1943,1943,0.25,485.75,"Premium NEW ",null,{"$f":"IF(I109=#REF!,H109,H109*(1-$I$6))","v":{"$error":"#REF!"}}]
[50.899999976158142,"01153","Клубника со сливками Premium (Цейлонский ОР, клубника кусочки, ежевика ягода, смородина лист, сафлор, с ароматом \"Клубника и Молоко\")","за 1 кг",2014,2014,0.25,503.5,"Premium NEW ",null,{"$f":"IF(I110=#REF!,H110,H110*(1-$I$6))","v":{"$error":"#REF!"}}]
[null,"katb","Чёрный чай Eco-line",null,null,null,0.25,null,null,null,{"$f":"IF(I111=#REF!,H111,H111*(1-$I$6))","v":{"$error":"#REF!"}}]
[50.899999976158142,"00977","Черный чай \"Татарский\" (Купаж черного чая, смородина лист, малина лист, брусника лист, мята, чабрец, душица, липа, ромашка)","за 1 кг",1574,1574,0.25,{"$f":"G112*F112","v":393.5},null,null,{"$f":"IF(I112=#REF!,H112,H112*(1-$I$6))","v":{"$error":"#REF!"}}]
[50.899999976158142,"00047","Охотничий (Купаж черного чая, смородина лист, можжевельник ягода, чабрец, брусника лист)","за 1 кг",1321,1321,0.25,330.25,null,null,{"$f":"IF(I113=#REF!,H113,H113*(1-$I$6))","v":{"$error":"#REF!"}}]
[50.899999976158142,"01013","Черный чай \"Для Мужчин\" (Купаж черного чая, брусника лист, можжевельник ягода, черноплодная рябина ягода, смородина лист, красная рябина)","за 1 кг",1351,1351,0.25,337.75,null,null,{"$f":"IF(I114=#REF!,H114,H114*(1-$I$6))","v":{"$error":"#REF!"}}]
[50.899999976158142,"00049","Черный с имбирем  (Купаж черного чая, имбирь)","за 1 кг",1327,1327,0.25,331.75,null,null,{"$f":"IF(I115=#REF!,H115,H115*(1-$I$6))","v":{"$error":"#REF!"}}]
[50.899999976158142,"1111679","Хорошее настроение (Купаж черного чая, мята, липа)","за 1 кг",1152,1152,0.25,288,"NEW!",null,{"$f":"IF(I116=#REF!,H116,H116*(1-$I$6))","v":{"$error":"#REF!"}}]
[50.899999976158142,"00043","Черный чай с чабрецом (Купаж черного чая, чабрец)","за 1 кг",1146,1146,0.25,286.5,null,null,{"$f":"IF(I117=#REF!,H117,H117*(1-$I$6))","v":{"$error":"#REF!"}}]
[50.899999976158142,"00048","Черный чай с лавандой (Купаж черного чая, лаванда, жасмин)","за 1 кг",1256,1194,0.25,298.5,"Акция!",null,{"$f":"IF(I118=#REF!,H118,H118*(1-$I$6))","v":{"$error":"#REF!"}}]
[50.899999976158142,"00050","Черный чай со смородиной (Купаж черного чая, смородина лист, шиповник кожура)","за 1 кг",1381,1381,0.25,345.25,null,null,{"$f":"IF(I119=#REF!,H119,H119*(1-$I$6))","v":{"$error":"#REF!"}}]
[50.899999976158142,"00052","Черный чай с мелиссой и мятой (Купаж черного чая, мелисса, мята)","за 1 кг",1386,1386,0.25,346.5,null,null,{"$f":"IF(I120=#REF!,H120,H120*(1-$I$6))","v":{"$error":"#REF!"}}]
[50.899999976158142,"00046","Лимонник (Купаж черного чая, лимон корка, Лемонграсс, календула)","за 1 кг",1381,1381,0.25,345.25,null,null,{"$f":"IF(I121=#REF!,H121,H121*(1-$I$6))","v":{"$error":"#REF!"}}]
[50.899999976158142,"00044","Черный чай с шалфеем (Купаж черного чая, шалфей)","за 1 кг",1381,1381,0.25,345.25,null,null,{"$f":"IF(I122=#REF!,H122,H122*(1-$I$6))","v":{"$error":"#REF!"}}]
[50.899999976158142,"00677","Черный чай \"С легким паром\" кат.В (Вьетнамский черный чай, мелисса, шалфей, Лемонграсс, мята, календула, чабрец, липа)","за 1 кг",1198,1138,0.25,284.5,"Акция!",null,{"$f":"IF(I123=#REF!,H123,H123*(1-$I$6))","v":{"$error":"#REF!"}}]
[50.899999976158142,"00045","Черный чай \"С легким паром\" (Купаж черного чая, мелисса, шалфей, Лемонграсс, мята, календула, чабрец, липа)","за 1 кг",1128,1128,0.25,282,null,null,{"$f":"IF(I124=#REF!,H124,H124*(1-$I$6))","v":{"$error":"#REF!"}}]
[50.899999976158142,"00051","Золотая корица (Купаж черного чая, корица, календула) ","за 1 кг",1253,1253,0.25,313.25,null,null,{"$f":"IF(I125=#REF!,H125,H125*(1-$I$6))","v":{"$error":"#REF!"}}]
[50.899999976158142,"00040","Масала Чай классический (Купаж черного чая, имбирь, фенхель, корица, кардамон, бадьян)","за 1 кг",1225,1225,0.25,306.25,null,null,{"$f":"IF(I126=#REF!,H126,H126*(1-$I$6))","v":{"$error":"#REF!"}}]
[50.899999976158142,"00041","Масала Чай с имбирем (Купаж черного чая, имбирь, фенхель, лимон корка, перец душистый, Лемонграсс)","за 1 кг",1405,1334,0.25,333.5,"Акция!",null,{"$f":"IF(I127=#REF!,H127,H127*(1-$I$6))","v":{"$error":"#REF!"}}]
[50.899999976158142,"00042","Масала Чай с корицей (Купаж черного чая, имбирь, фенхель, корица, гвоздика)","за 1 кг",1405,1405,0.25,351.25,null,null,{"$f":"IF(I128=#REF!,H128,H128*(1-$I$6))","v":{"$error":"#REF!"}}]
[50.899999976158142,"00572","Содружество (Купаж черного чая, Ассам, И Синь Хун Ча, Иван-чай)","за 1 кг",1328,1328,0.25,332,null,null,{"$f":"IF(I129=#REF!,H129,H129*(1-$I$6))","v":{"$error":"#REF!"}}]
[50.899999976158142,"1110237","Чай для бани (Купаж черного чая, Сенча, смородина лист, земляника лист, мята, крапива, красная рябина ягода, смородина ягода, черноплодная рябина ягода, чабрец, липа)","за 1 кг",1454,1454,0.25,363.5,"NEW!",null,{"$f":"IF(I130=#REF!,H130,H130*(1-$I$6))","v":{"$error":"#REF!"}}]
[50.899999976158142,"00701","Черный чай Саган-Дайля (Купаж черного чая, Ассам, Саган-Дайля)","за 1 кг",1686,1686,0.25,421.5,null,null,{"$f":"IF(I131=#REF!,H131,H131*(1-$I$6))","v":{"$error":"#REF!"}}]
[null,"katc","Чёрные (Индия, Кения, Цейлон, Китай, Вьетнам)",null,null,null,null,null,null,null,{"$f":"IF(I132=#REF!,H132,H132*(1-$I$6))","v":{"$error":"#REF!"}}]
[50.899999976158142,"00949","Черный ОРА, Вьетнам (стд. 1447) ","за 1 кг",848,848,0.25,{"$f":"G133*F133","v":212},null,null,{"$f":"IF(I133=#REF!,H133,H133*(1-$I$6))","v":{"$error":"#REF!"}}]
[50.899999976158142,"00596","Дянь Хун (Чай красный китайский) ","за 1 кг",1336,1336,0.25,334,null,null,{"$f":"IF(I134=#REF!,H134,H134*(1-$I$6))","v":{"$error":"#REF!"}}]
[50.899999976158142,"01167","Цзинь Хао Дянь Хун (Золотая Обезьяна)","за 1 кг",3905,3905,0.25,976.25,"NEW!",null,{"$f":"IF(I135=#REF!,H135,H135*(1-$I$6))","v":{"$error":"#REF!"}}]
[50.899999976158142,"00058","Най Сян Хун Ча (Красный Молочный чай) ","за 1 кг",1417,1417,0.25,354.25,null,null,{"$f":"IF(I136=#REF!,H136,H136*(1-$I$6))","v":{"$error":"#REF!"}}]
[50.899999976158142,"01021","Черный чай \"Кенийский FOP\"","за 1 кг",1514,1514,0.25,378.5,null,null,{"$f":"IF(I137=#REF!,H137,H137*(1-$I$6))","v":{"$error":"#REF!"}}]
[50.899999976158142,"00054","Ассам крупнолистовой OPA","за 1 кг",1158,1158,0.25,289.5,null,null,{"$f":"IF(I138=#REF!,H138,H138*(1-$I$6))","v":{"$error":"#REF!"}}]
[50.899999976158142,"01062","Ассам PEKOE (стд. 33 А)","за 1 кг",1170,1170,0.25,292.5,null,null,{"$f":"IF(I139=#REF!,H139,H139*(1-$I$6))","v":{"$error":"#REF!"}}]
[50.899999976158142,"00056","И Синь Хун Ча (Черный китайский чай)","за 1 кг",1370,1370,0.25,342.5,null,null,{"$f":"IF(I140=#REF!,H140,H140*(1-$I$6))","v":{"$error":"#REF!"}}]
[50.899999976158142,"01061","Цейлонский черный PEKOE (стд. 476)","за 1 кг",1378,1378,0.25,344.5,null,null,{"$f":"IF(I141=#REF!,H141,H141*(1-$I$6))","v":{"$error":"#REF!"}}]
[50.899999976158142,"00059","Цейлонский черный OP (стд. 469)","за 1 кг",1476,1476,0.25,369,null,null,{"$f":"IF(I142=#REF!,H142,H142*(1-$I$6))","v":{"$error":"#REF!"}}]
[50.899999976158142,"1110102","Ассам (с типсами) FTGFOP 385","за 1 кг",1446,1446,0.25,361.5,null,null,{"$f":"IF(I143=#REF!,H143,H143*(1-$I$6))","v":{"$error":"#REF!"}}]
[50.899999976158142,"01119","Английский завтрак (Цейлонский, Ассам ОРА, Ассам)","за 1 кг",1313,1313,0.25,328.25,null,null,{"$f":"IF(I144=#REF!,H144,H144*(1-$I$6))","v":{"$error":"#REF!"}}]
[50.899999976158142,"00053","Английский завтрак Premium (Дарджилинг, Ассам ОРА, Ассам)","за 1 кг",1462,1462,0.25,365.5,null,null,{"$f":"IF(I145=#REF!,H145,H145*(1-$I$6))","v":{"$error":"#REF!"}}]
[50.899999976158142,"00055","Дарджилинг ","за 1 кг",2306,2306,0.25,576.5,null,null,{"$f":"IF(I146=#REF!,H146,H146*(1-$I$6))","v":{"$error":"#REF!"}}]
[50.899999976158142,"00057","Лапсанг сушонг (Черный \"копченый\" китайский чай)","за 1 кг",2251,2251,0.25,562.75,null,null,{"$f":"IF(I147=#REF!,H147,H147*(1-$I$6))","v":{"$error":"#REF!"}}]
[null,"katd","Зеленый чай AROMA",null,null,null,0.25,null,null,null,{"$f":"IF(I148=#REF!,H148,H148*(1-$I$6))","v":{"$error":"#REF!"}}]
[50.899999976158142,"01068","Клубника со сливками кат.В (Ганпаудер, клубника кусочки, смородина лист, с ароматом \"Клубника и Молоко\")","за 1 кг",1051,1051,0.25,{"$f":"G149*F149","v":262.75},null,null,{"$f":"IF(I149=#REF!,H149,H149*(1-$I$6))","v":{"$error":"#REF!"}}]
[50.899999976158142,"00069","Клубника со сливками (Ганпаудер, клубника кусочки, смородина лист, с ароматом \"Клубника и Молоко\")","за 1 кг",1242,1242,0.25,310.5,null,null,{"$f":"IF(I150=#REF!,H150,H150*(1-$I$6))","v":{"$error":"#REF!"}}]
[50.899999976158142,"1111676","Золотой Самовар (Сенча, ягоды ежевики, ягоды черной смородины, клубника, яблоко, шиповник кожура, с ароматом \"Малина и смородина\")","за 1 кг",1238,1238,0.25,309.5,null,null,{"$f":"IF(I151=#REF!,H151,H151*(1-$I$6))","v":{"$error":"#REF!"}}]
[50.899999976158142,"1111677","Меч самурая (Ганпаудер, вишня ягода, лемонграсс, лимон, миндаль, с ароматом \"Лимон и миндаль\")","за 1 кг",1157,1157,0.25,289.25,null,null,{"$f":"IF(I152=#REF!,H152,H152*(1-$I$6))","v":{"$error":"#REF!"}}]
[50.899999976158142,"01073","Грезы Султана кат.В (Ганпаудер, цукаты, сафлор, мальва, календула, роза лепестки, с ароматом \"Персик-Манго\")","за 1 кг",1087,1087,0.25,271.75,null,null,{"$f":"IF(I153=#REF!,H153,H153*(1-$I$6))","v":{"$error":"#REF!"}}]
[50.899999976158142,"00517","Грезы Султана (Ганпаудер, цукаты, сафлор, мальва, календула, роза лепестки, с ароматом \"Персик-Манго\")","за 1 кг",1267,1267,0.25,316.75,null,null,{"$f":"IF(I154=#REF!,H154,H154*(1-$I$6))","v":{"$error":"#REF!"}}]
[50.899999976158142,"1111124","4 Ангела (Ганпаудер, цукаты, ягоды годжи, ежевика ягода, роза лепестки, ежевика лист, липа, с ароматом \"Абрикос и персик\")","за 1 кг",1190,1190,0.25,297.5,null,null,{"$f":"IF(I155=#REF!,H155,H155*(1-$I$6))","v":{"$error":"#REF!"}}]
[50.899999976158142,"1111125","Белая Королева (Сенча, цукаты, изюм, карамель, персик, жасмин, малина ягода, клубника ягода, с ароматом \"Жасмин и слива\")","за 1 кг",1408,1408,0.25,352,"NEW!",null,{"$f":"IF(I156=#REF!,H156,H156*(1-$I$6))","v":{"$error":"#REF!"}}]
[50.899999976158142,"01083","Земляника со сливками (Ганпаудер, клубника кусочки, сафлор, с ароматом \"Земляника+молоко\")","за 1 кг",1390,1390,0.25,347.5,null,null,{"$f":"IF(I157=#REF!,H157,H157*(1-$I$6))","v":{"$error":"#REF!"}}]
[50.899999976158142,"01070\n","Молочный Ганпаудер кат.В (Ганпаудер крупный, с ароматом \"Молоко\")","за 1 кг",1001,1001,0.25,250.25,null,null,{"$f":"IF(I158=#REF!,H158,H158*(1-$I$6))","v":{"$error":"#REF!"}}]
[50.899999976158142,"00914","Молочный Ганпаудер (Ганпаудер мелкий, с ароматом \"Молоко\")","за 1 кг",1178,1061,0.25,265.25,"Акция!",null,{"$f":"IF(I159=#REF!,H159,H159*(1-$I$6))","v":{"$error":"#REF!"}}]
[50.899999976158142,"1110253","Сокровища шейха (Ганпаудер, цукаты, апельсин корка, роза бутоны, с ароматом \"Соусеп\")","за 1 кг",1399,1399,0.25,349.75,"NEW!",null,{"$f":"IF(I160=#REF!,H160,H160*(1-$I$6))","v":{"$error":"#REF!"}}]
[50.899999976158142,"1110246","Шамаханская царица (Ганпаудер, роза бутоны, изюм, мальва, с ароматом \"Виноград\")","за 1 кг",1327,1327,0.25,331.75,null,null,{"$f":"IF(I161=#REF!,H161,H161*(1-$I$6))","v":{"$error":"#REF!"}}]
[50.899999976158142,"00514","Зеленый чай с имбирем и медом (Сенча, имбирь, календула, арома-мёд)","за 1 кг",1328,1328,0.25,332,null,null,{"$f":"IF(I162=#REF!,H162,H162*(1-$I$6))","v":{"$error":"#REF!"}}]
[50.899999976158142,"00075","Зеленый чай \"Черничный\" (Сенча, черемуха, с ароматом \"Черника\")","за 1 кг",1369,1232,0.25,308,"Акция!",null,{"$f":"IF(I163=#REF!,H163,H163*(1-$I$6))","v":{"$error":"#REF!"}}]
[50.899999976158142,"00896","Зеленый чай с жасмином (Сенча, жасмин цветы, с ароматом \"Жасмин\")","за 1 кг",1394,1394,0.25,348.5,null,null,{"$f":"IF(I164=#REF!,H164,H164*(1-$I$6))","v":{"$error":"#REF!"}}]
[50.899999976158142,"00633","Моли Хуа Ча (Зеленый чай с жасмином)","за 1 кг",1212,1212,0.25,303,null,null,{"$f":"IF(I165=#REF!,H165,H165*(1-$I$6))","v":{"$error":"#REF!"}}]
[50.899999976158142,"00077","Силуэт Императрицы (Ганпаудер, боярышник, можжевельник ягода, клубника кусочки, ромашка, корица, гранат цветки, душица, с ароматом \"Клубника и Банан\")","за 1 кг",1381,1381,0.25,345.25,null,null,{"$f":"IF(I166=#REF!,H166,H166*(1-$I$6))","v":{"$error":"#REF!"}}]
[50.899999976158142,"00064","Зеленый цитрус (Ганпаудер, Лемонграсс, лимон корка, с ароматом \"Апельсин\")","за 1 кг",1213,1213,0.25,303.25,null,null,{"$f":"IF(I167=#REF!,H167,H167*(1-$I$6))","v":{"$error":"#REF!"}}]
[50.899999976158142,"00065","Зеленое яблоко (Сенча, яблоко, смородина лист, календула, с ароматом \"Яблоко\")","за 1 кг",1249,1249,0.25,312.25,null,null,{"$f":"IF(I168=#REF!,H168,H168*(1-$I$6))","v":{"$error":"#REF!"}}]
[50.899999976158142,"00067","Апельсин с имбирем (Сенча, имбирь, Лемонграсс, апельсин корка, с ароматом \"Апельсин\")","за 1 кг",1249,1249,0.25,312.25,null,null,{"$f":"IF(I169=#REF!,H169,H169*(1-$I$6))","v":{"$error":"#REF!"}}]
[50.899999976158142,"00063","Жасминовый Ганпаудер (Ганпаудер, жасмин, с ароматом \"Жасмин\")","за 1 кг",1290,1290,0.25,322.5,null,null,{"$f":"IF(I170=#REF!,H170,H170*(1-$I$6))","v":{"$error":"#REF!"}}]
[50.899999976158142,"01069","Виноградная лоза кат.В (Ганпаудер, вишня лист, мальва, изюм, с ароматом \"Виноград\")","за 1 кг",1046,1046,0.25,261.5,null,null,{"$f":"IF(I171=#REF!,H171,H171*(1-$I$6))","v":{"$error":"#REF!"}}]
[50.899999976158142,"00070","Виноградная лоза (Ганпаудер, вишня лист, мальва, изюм, с ароматом \"Виноград\")","за 1 кг",1290,1225,0.25,306.25,"Акция!",null,{"$f":"IF(I172=#REF!,H172,H172*(1-$I$6))","v":{"$error":"#REF!"}}]
[50.899999976158142,"00091","Черничный йогурт зеленый (Сенча, черноплодная рябина ягода, клубника кусочки, мальва, с ароматом \"Йогурт и Черника\")","за 1 кг",1349,1349,0.25,337.25,null,null,{"$f":"IF(I173=#REF!,H173,H173*(1-$I$6))","v":{"$error":"#REF!"}}]
[50.899999976158142,"00094","Аргентинское танго (Сенча, Лемонграсс, ромашка, имбирь, черноплодная рябина ягода, апельсин корка, с ароматом \"Соусеп\")","за 1 кг",1349,1349,0.25,337.25,null,null,{"$f":"IF(I174=#REF!,H174,H174*(1-$I$6))","v":{"$error":"#REF!"}}]
[50.899999976158142,"00704","Вкус праздника (Сенча, мальва, сафлор, апельсин корка, цукаты, с ароматом \"Мандарин\")","за 1 кг",1372,1372,0.25,343,null,null,{"$f":"IF(I175=#REF!,H175,H175*(1-$I$6))","v":{"$error":"#REF!"}}]
[50.899999976158142,"00590","Румяный персик зеленый (Сенча, персик, цукаты, клубника кусочки, календула, с ароматом \"Персик\")","за 1 кг",1386,1386,0.25,346.5,null,null,{"$f":"IF(I176=#REF!,H176,H176*(1-$I$6))","v":{"$error":"#REF!"}}]
[50.899999976158142,"00706","Кокосовый остров (Сенча, кокос кубик, цукаты, мальва, с ароматом \"Кокос\")","за 1 кг",1386,1386,0.25,346.5,null,null,{"$f":"IF(I177=#REF!,H177,H177*(1-$I$6))","v":{"$error":"#REF!"}}]
[50.899999976158142,"1110266","Путь Дракона (Ганпаудер, яблоко, ягоды годжи, сафлор, с ароматом \"Соусеп\")","за 1 кг",1252,1252,0.25,313,null,null,{"$f":"IF(I178=#REF!,H178,H178*(1-$I$6))","v":{"$error":"#REF!"}}]
[50.899999976158142,"00061","Индийское Лето (Сенча, Бай Му Дань, брусника лист, Каркаде, шиповник кожура, яблоко, цукаты, роза лепестки, с ароматом \"Тропический фрукт\")","за 1 кг",1441,1441,0.25,360.25,null,null,{"$f":"IF(I179=#REF!,H179,H179*(1-$I$6))","v":{"$error":"#REF!"}}]
[50.899999976158142,"00062","Ламбада (Сенча, банан, календула, с ароматом \"Банан\" )","за 1 кг",1306,1176,0.25,294,"Акция!",null,{"$f":"IF(I180=#REF!,H180,H180*(1-$I$6))","v":{"$error":"#REF!"}}]
[50.899999976158142,"00066","Релакс (Сенча, валерьян корень, лаванда, мальва, вишня лист, с ароматом \"Жасмин\")","за 1 кг",1391,1391,0.25,{"$f":"G181*F181","v":347.75},null,null,{"$f":"IF(I181=#REF!,H181,H181*(1-$I$6))","v":{"$error":"#REF!"}}]
[50.899999976158142,"00068","Японская липа (Сенча, лимон корка, липа, ромашка, календула, с ароматом \"Апельсин\")","за 1 кг",1284,1284,0.25,321,null,null,{"$f":"IF(I182=#REF!,H182,H182*(1-$I$6))","v":{"$error":"#REF!"}}]
[50.899999976158142,"00705","Ванильное небо (Сенча, банан, брусника лист, жасмин, с ароматом \"Сливки и Ваниль\")","за 1 кг",1349,1349,0.25,337.25,null,null,{"$f":"IF(I183=#REF!,H183,H183*(1-$I$6))","v":{"$error":"#REF!"}}]
[50.899999976158142,"00523","Абрикосовый джем (Сенча, персик, изюм, клюква, календула, с ароматом \"Абрикос\")","за 1 кг",1349,1349,0.25,337.25,null,null,{"$f":"IF(I184=#REF!,H184,H184*(1-$I$6))","v":{"$error":"#REF!"}}]
[50.899999976158142,"00710","Пина-Колада зеленый (Сенча, кокос кубик, цукаты, жасмин, яблоко, с ароматом \"Кокос и Ананас\")","за 1 кг",1372,1372,0.25,343,null,null,{"$f":"IF(I185=#REF!,H185,H185*(1-$I$6))","v":{"$error":"#REF!"}}]
[50.899999976158142,"00085","Зеленый Эрл грей (Ганпаудер, мальва, с ароматом \"Бергамот\")","за 1 кг",1318,1318,0.25,329.5,null,null,{"$f":"IF(I186=#REF!,H186,H186*(1-$I$6))","v":{"$error":"#REF!"}}]
[50.899999976158142,"00083","Фруктовая карамель (Сенча, цукаты, яблоко, апельсин корка, малина ягода, гранат цветки, с ароматом \"Фруктовое ассорти и Карамель\")","за 1 кг",1372,1372,0.25,343,null,null,{"$f":"IF(I187=#REF!,H187,H187*(1-$I$6))","v":{"$error":"#REF!"}}]
[50.899999976158142,"00093","Фруктовый вальс (Сенча, Ганпаудер, цукаты, мальва, календула, с ароматом \"Фруктовое ассорти\")","за 1 кг",1372,1235,0.25,308.75,"Акция!",null,{"$f":"IF(I188=#REF!,H188,H188*(1-$I$6))","v":{"$error":"#REF!"}}]
[50.899999976158142,"00521","Таежный микс (Ганпаудер, черноплодная рябина ягода, шиповник кожура, ежевика лист, смородина лист, брусника лист, мальва, с ароматом \"Лесные ягоды\")","за 1 кг",1285,1285,0.25,321.25,null,null,{"$f":"IF(I189=#REF!,H189,H189*(1-$I$6))","v":{"$error":"#REF!"}}]
[50.899999976158142,"00522","Ароматный манго (Ганпаудер, цукаты, календула, мальва, яблоко, с ароматом \"Манго\")","за 1 кг",1301,1301,0.25,325.25,null,null,{"$f":"IF(I190=#REF!,H190,H190*(1-$I$6))","v":{"$error":"#REF!"}}]
[50.899999976158142,"00078","Зеленый чай \"8-е марта\" (Ганпаудер, Сенча, цукаты, роза лепестки, мальва, гранат цветки, с ароматом \"Персик и Роза\")","за 1 кг",1454,1454,0.25,363.5,null,null,{"$f":"IF(I191=#REF!,H191,H191*(1-$I$6))","v":{"$error":"#REF!"}}]
[50.899999976158142,"00703","Гавайский (Сенча, цукаты, календула, с ароматом \"Ананас\")","за 1 кг",1441,1441,0.25,360.25,null,null,{"$f":"IF(I192=#REF!,H192,H192*(1-$I$6))","v":{"$error":"#REF!"}}]
[50.899999976158142,"00092","Вишневый йогурт (Сенча, вишня лист, вишня ягода, роза лепестки, с ароматом \"Йогурт и Вишня\")","за 1 кг",1474,1474,0.25,368.5,null,null,{"$f":"IF(I193=#REF!,H193,H193*(1-$I$6))","v":{"$error":"#REF!"}}]
[50.899999976158142,"00071\n","Мишки гамми зеленый (Сенча, цукаты, клюква ягода, малина ягода, клубника кусочки, мальва, с ароматом \"Малина\")","за 1 кг",1450,1450,0.25,362.5,null,null,{"$f":"IF(I194=#REF!,H194,H194*(1-$I$6))","v":{"$error":"#REF!"}}]
[50.899999976158142,"00076","Зеленый чай Кокосовый (Сенча, кокос кубик, с ароматом \"Кокос\")","за 1 кг",1432,1432,0.25,358,null,null,{"$f":"IF(I195=#REF!,H195,H195*(1-$I$6))","v":{"$error":"#REF!"}}]
[50.899999976158142,"00079","Зеленый чай \"Свежий арбуз\" (Ганпаудер, Сенча, цукаты, роза лепестки, яблоко, с ароматом \"Арбуз\")","за 1 кг",1454,1454,0.25,363.5,null,null,{"$f":"IF(I196=#REF!,H196,H196*(1-$I$6))","v":{"$error":"#REF!"}}]
[50.899999976158142,"01071\n","Зеленый чай \"Мохито БУМ\" кат.В (Ганпаудер, Сенча, мята, лимон корка, сафлор, Лемонграсс, с ароматом \"Лимон и Мята\")","за 1 кг",1056,1056,0.25,264,null,null,{"$f":"IF(I197=#REF!,H197,H197*(1-$I$6))","v":{"$error":"#REF!"}}]
[50.899999976158142,"00080","Зеленый чай \"Мохито БУМ\" (Ганпаудер, Сенча, мята, лимон корка, сафлор, Лемонграсс, с ароматом \"Лимон и Мята\")","за 1 кг",1432,1432,0.25,358,null,null,{"$f":"IF(I198=#REF!,H198,H198*(1-$I$6))","v":{"$error":"#REF!"}}]
[50.899999976158142,"01072","Бенгальский Тигр кат.В (Сенча, Ганпаудер, цукаты, персик, календула, мальва, сафлор, брусника лист, с ароматом \"Брусника\")","за 1 кг",1075,1075,0.25,268.75,null,null,{"$f":"IF(I199=#REF!,H199,H199*(1-$I$6))","v":{"$error":"#REF!"}}]
[50.899999976158142,"00082","Бенгальский Тигр (Сенча, Ганпаудер, цукаты, персик, календула, мальва, сафлор, брусника лист, с ароматом \"Брусника\")","за 1 кг",1454,1454,0.25,363.5,null,null,{"$f":"IF(I200=#REF!,H200,H200*(1-$I$6))","v":{"$error":"#REF!"}}]
[50.899999976158142,"00081","Улыбка Гейши (Сенча, Ганпаудер, цукаты, сафлор, с ароматом \"Персик и Клубника\")","за 1 кг",1177,1177,0.25,294.25,null,null,{"$f":"IF(I201=#REF!,H201,H201*(1-$I$6))","v":{"$error":"#REF!"}}]
[50.899999976158142,"00088","Моргентау (Сенча, роза лепестки, календула, мальва, яблоко, изюм, с ароматом \"Персик и Роза\")","за 1 кг",1368,1368,0.25,342,null,null,{"$f":"IF(I202=#REF!,H202,H202*(1-$I$6))","v":{"$error":"#REF!"}}]
[50.899999976158142,"00073","Ванильная Сенча (Сенча, цукаты, с ароматом \"Ваниль и  Сливки\")","за 1 кг",1498,1498,0.25,374.5,null,null,{"$f":"IF(I203=#REF!,H203,H203*(1-$I$6))","v":{"$error":"#REF!"}}]
[50.899999976158142,"00074","Зеленый чай Персиковый (Сенча, цукаты, с ароматом \"Персик\")","за 1 кг",1498,1498,0.25,374.5,null,null,{"$f":"IF(I204=#REF!,H204,H204*(1-$I$6))","v":{"$error":"#REF!"}}]
[50.899999976158142,"00084","Таёжный на порохе (Ганпаудер, черноплодная рябина ягода, ежевика ягода, брусника лист, календула, мальва, с ароматом \"Лесные ягоды\")","за 1 кг",1517,1517,0.25,379.25,null,null,{"$f":"IF(I205=#REF!,H205,H205*(1-$I$6))","v":{"$error":"#REF!"}}]
[50.899999976158142,"00072","Зеленый чай Мандариновый  (Сенча, цукаты, с ароматом \"Мандарин\")","за 1 кг",1570,1412,0.25,353,"Акция!",null,{"$f":"IF(I206=#REF!,H206,H206*(1-$I$6))","v":{"$error":"#REF!"}}]
[50.899999976158142,"00086","Ягодное лукошко (Ганпаудер, Сенча, вишня ягода, смородина ягода, красная рябина ягода, брусника лист, календула, с ароматом \"Смородина\")","за 1 кг",1422,1422,0.25,355.5,null,null,{"$f":"IF(I207=#REF!,H207,H207*(1-$I$6))","v":{"$error":"#REF!"}}]
[50.899999976158142,"00087","Фруктовый бриз (Ганпаудер, смородина лист, апельсин корка, боярышник, черноплодная рябина ягода, черемуха ягода, с ароматом \"Фруктовое ассорти\")","за 1 кг",1546,1546,0.25,386.5,null,null,{"$f":"IF(I208=#REF!,H208,H208*(1-$I$6))","v":{"$error":"#REF!"}}]
[50.899999976158142,"00637","Клубника со сливками Premium (Ганпаудер, клубника ягода, гранат цветки, смородина лист, с ароматом \"Клубника-молоко\")","за 1 кг",1652,1652,0.25,413,"Premium NEW ",null,{"$f":"IF(I209=#REF!,H209,H209*(1-$I$6))","v":{"$error":"#REF!"}}]
[50.899999976158142,"00648","Моргентау Premium (Сенча, персик, банан, роза лепестки, гранат цветки, мальва, яблоко, изюм, с ароматом \"Персик и Роза\")","за 1 кг",1673,1673,0.25,418.25,"Premium NEW ",null,{"$f":"IF(I210=#REF!,H210,H210*(1-$I$6))","v":{"$error":"#REF!"}}]
[50.899999976158142,"00651","Силуэт Императрицы Premium (Ганпаудер, Чжэнь Ло, банан, боярышник, можжевельник ягода, клубника кусочки, ромашка, корица, гранат цветки, душица, с ароматом \"Клубника и Банан\")","за 1 кг",1741,1741,0.25,435.25,"Premium NEW ",null,{"$f":"IF(I211=#REF!,H211,H211*(1-$I$6))","v":{"$error":"#REF!"}}]
[50.899999976158142,"00624","Индийское Лето Premium (Сенча, брусника лист, Бай Му Дань, Каркаде, шиповник кожура, яблоко, цукаты, роза лепестки, персик, вишня ягода, с ароматом \"Тропический фрукт\")","за 1 кг",1794,1794,0.25,448.5,"Premium NEW ",null,{"$f":"IF(I212=#REF!,H212,H212*(1-$I$6))","v":{"$error":"#REF!"}}]
[50.899999976158142,"00645","Улыбка Гейши Premium (Сенча, Ганпаудер, персик, клубника кусочки, цукаты, сафлор, с ароматом \"Персик, Роза и Клубника\")","за 1 кг",1837,1837,0.25,{"$f":"G213*F213","v":459.25},"Premium NEW ",null,{"$f":"IF(I213=#REF!,H213,H213*(1-$I$6))","v":{"$error":"#REF!"}}]
[50.899999976158142,"00649","Японская липа Premium (Сенча, Чжэнь Ло, апельсин дольки, липа, ромашка, календула, с ароматом \"Апельсин\")","за 1 кг",1813,1813,0.25,453.25,"Premium NEW ",null,{"$f":"IF(I214=#REF!,H214,H214*(1-$I$6))","v":{"$error":"#REF!"}}]
[50.899999976158142,"00650","Мишки гамми зеленый Premium (Сенча, бессмертник, можжевельник ягода, ежевика ягода, цукаты, клюква ягода, малина ягода, клубника кусочки, мальва, с ароматом \"Малина\")","за 1 кг",1907,1907,0.25,476.75,"Premium NEW ",null,{"$f":"IF(I215=#REF!,H215,H215*(1-$I$6))","v":{"$error":"#REF!"}}]
[50.899999976158142,"00868","Утро в Тайланде (Сенча, Анчан, черноплодная рябина ягода, мальва, с ароматом \"Черника\")","за 1 кг",1954,1758,0.25,439.5,"Акция!",null,{"$f":"IF(I216=#REF!,H216,H216*(1-$I$6))","v":{"$error":"#REF!"}}]
[50.899999976158142,"1110240","Ледяной дракон (Бай Му Дань, Сенча, цукаты, персик, с ароматом \"Персик\")","за 1 кг",1978,1978,0.25,494.5,"NEW!",null,{"$f":"IF(I217=#REF!,H217,H217*(1-$I$6))","v":{"$error":"#REF!"}}]
[50.899999976158142,"1110242","Колибри (Сенча, красная рябина ягода, с ароматом \"Сливки\")","за 1 кг",1411,1411,0.25,352.75,"NEW!",null,{"$f":"IF(I218=#REF!,H218,H218*(1-$I$6))","v":{"$error":"#REF!"}}]
[50.899999976158142,"1110254","Королевская звезда (Сенча, Те Гуань Инь, сафлор, календула, мальва, красная рябина ягода, с ароматом \"Ваниль\")","за 1 кг",1464,1464,0.25,366,"NEW!",null,{"$f":"IF(I219=#REF!,H219,H219*(1-$I$6))","v":{"$error":"#REF!"}}]
[50.899999976158142,"1110891","Фитнес (Сенча, Те Гуань Инь, имбирь, корица, ромашка, жасмин, смородина ягода, с ароматом \"Смородина\")","за 1 кг",1464,1464,0.25,366,"NEW!",null,{"$f":"IF(I220=#REF!,H220,H220*(1-$I$6))","v":{"$error":"#REF!"}}]
[null,"kate","Зелёный чай Eco-line",null,null,null,0.25,null,null,null,{"$f":"IF(I221=#REF!,H221,H221*(1-$I$6))","v":{"$error":"#REF!"}}]
[50.899999976158142,"00103","Сенча (Зеленый среднелистовой)","за 1 кг",1069,1069,0.25,{"$f":"G222*F222","v":267.25},null,null,{"$f":"IF(I222=#REF!,H222,H222*(1-$I$6))","v":{"$error":"#REF!"}}]
[50.899999976158142,"00095","Лимон с имбирем  (Сенча, имбирь, корка лимон, Лемонграсс, календула)","за 1 кг",1249,1249,0.25,312.25,null,null,{"$f":"IF(I223=#REF!,H223,H223*(1-$I$6))","v":{"$error":"#REF!"}}]
[50.899999976158142,"00096","По-мароккански (Сенча, лимон корка, Лемонграсс, корица, мята, гвоздика, апельсин корка)","за 1 кг",1226,1226,0.25,306.5,null,null,{"$f":"IF(I224=#REF!,H224,H224*(1-$I$6))","v":{"$error":"#REF!"}}]
[50.899999976158142,"00102","Секрет егеря (Сенча, Саган-Дайля, можжевельник ягода, ромашка,  брусника лист)","за 1 кг",1349,1349,0.25,337.25,null,null,{"$f":"IF(I225=#REF!,H225,H225*(1-$I$6))","v":{"$error":"#REF!"}}]
[50.899999976158142,"00646","Секрет егеря Premium (Сенча, Саган-Дайля, бессмертник, черемуха ягода, можжевельник ягода, ромашка, брусника лист)","за 1 кг",1673,1673,0.25,418.25,"Premium NEW ",null,{"$f":"IF(I226=#REF!,H226,H226*(1-$I$6))","v":{"$error":"#REF!"}}]
[50.899999976158142,"00097","Ганпаудер (Зеленый китайский чай, стд. 9475)","за 1 кг",966,966,0.25,241.5,null,null,{"$f":"IF(I227=#REF!,H227,H227*(1-$I$6))","v":{"$error":"#REF!"}}]
[50.899999976158142,"01002","Ганпаудер  (Зеленый китайский чай, стд. 3505-5)","за 1 кг",1128,1128,0.25,282,null,null,{"$f":"IF(I228=#REF!,H228,H228*(1-$I$6))","v":{"$error":"#REF!"}}]
[50.899999976158142,"00101","Свежесть (Сенча, мята, смородина лист)","за 1 кг",1333,1333,0.25,333.25,null,null,{"$f":"IF(I229=#REF!,H229,H229*(1-$I$6))","v":{"$error":"#REF!"}}]
[50.899999976158142,"00098","Доброе утро (Сенча, яблоко, мелисса, мята, мальва)","за 1 кг",1241,1241,0.25,310.25,null,null,{"$f":"IF(I230=#REF!,H230,H230*(1-$I$6))","v":{"$error":"#REF!"}}]
[50.899999976158142,"00099","Зеленый с чабрецом (Сенча, Ганпаудер, чабрец)","за 1 кг",1349,1349,0.25,337.25,null,null,{"$f":"IF(I231=#REF!,H231,H231*(1-$I$6))","v":{"$error":"#REF!"}}]
[50.899999976158142,"00100","Зелёный имбирный (Ганпаудер, имбирь, мальва)","за 1 кг",1349,1349,0.25,337.25,null,null,{"$f":"IF(I232=#REF!,H232,H232*(1-$I$6))","v":{"$error":"#REF!"}}]
[50.899999976158142,"00497","Мохито (Сенча, мята, лимон корка)","за 1 кг",1162,1162,0.25,290.5,null,null,{"$f":"IF(I233=#REF!,H233,H233*(1-$I$6))","v":{"$error":"#REF!"}}]
[50.899999976158142,"00598","Чжэнь Ло (Зеленая Спираль )","за 1 кг",1949,1949,0.25,487.25,null,null,{"$f":"IF(I234=#REF!,H234,H234*(1-$I$6))","v":{"$error":"#REF!"}}]
[50.899999976158142,"00597","Лун Цзин  Колодец Дракона) ","за 1 кг",4361,4361,0.25,1090.25,null,null,{"$f":"IF(I235=#REF!,H235,H235*(1-$I$6))","v":{"$error":"#REF!"}}]
[50.899999976158142,"01057","Люй Мао Фэн (Чай зеленый китайс.)","за 1 кг",1352,1352,0.25,338,null,null,{"$f":"IF(I236=#REF!,H236,H236*(1-$I$6))","v":{"$error":"#REF!"}}]
[50.899999976158142,"01166","Бай Мао Хоу (Беловолосая обезьяна)","за 1 кг",1993,1993,0.25,498.25,"NEW!",null,{"$f":"IF(I237=#REF!,H237,H237*(1-$I$6))","v":{"$error":"#REF!"}}]
[50.899999976158142,"00866","Свежий Лайм (Сенча, Анчан, Лемонграсс, лимон корка)","за 1 кг",1573,1573,0.25,393.25,"NEW!",null,{"$f":"IF(I238=#REF!,H238,H238*(1-$I$6))","v":{"$error":"#REF!"}}]
[50.899999976158142,"1110348","Би Ло Чунь (Чай зеленый китайс.)","за 1 кг",2177,2177,0.25,544.25,"NEW!",null,{"$f":"IF(I239=#REF!,H239,H239*(1-$I$6))","v":{"$error":"#REF!"}}]
[null,"katf","Каркаде, Фруктовые чаи",null,null,null,0.25,null,null,null,{"$f":"IF(I240=#REF!,H240,H240*(1-$I$6))","v":{"$error":"#REF!"}}]
[50.899999976158142,"00117","Каркаде (Гибискус египетский)","за 1 кг",1067,1067,0.25,{"$f":"G241*F241","v":266.75},null,null,{"$f":"IF(I241=#REF!,H241,H241*(1-$I$6))","v":{"$error":"#REF!"}}]
[50.899999976158142,"01012","Чай \"Для двоих\" (Каркаде, клубника кубик, вишня ягода, вишня лист, мальва, сафлор, с ароматом \"Вишня+Клубника, Персик\")","за 1 кг",1236,1236,0.25,309,null,null,{"$f":"IF(I242=#REF!,H242,H242*(1-$I$6))","v":{"$error":"#REF!"}}]
[50.899999976158142,"00118","Малина с мятой (Каркаде, роза лепестки, малина лист, смородина лист, ромашка, мелисса, мята, яблоко, малина ягода, с ароматом \"Малина\")","за 1 кг",1327,1327,0.25,331.75,null,null,{"$f":"IF(I243=#REF!,H243,H243*(1-$I$6))","v":{"$error":"#REF!"}}]
[50.899999976158142,"00125","Клеопатра  (Каркаде, яблоко, мята, изюм, красная рябина ягода, календула, с ароматом \"Виноград\")","за 1 кг",1355,1355,0.25,338.75,null,null,{"$f":"IF(I244=#REF!,H244,H244*(1-$I$6))","v":{"$error":"#REF!"}}]
[50.899999976158142,"1111632","Экзотический пляж (Каркаде, кокос, карамель,цукаты,вишня,клубника, с ароматом \"Бабл гам\")","за 1 кг",1297,1297,0.25,324.25,"NEW!",null,{"$f":"IF(I245=#REF!,H245,H245*(1-$I$6))","v":{"$error":"#REF!"}}]
[50.899999976158142,"00126","Похудей (Каркаде, яблоко, роза лепестки, смородина лист, вишня лист, крапива, с ароматом \"Малина\")","за 1 кг",1318,1318,0.25,329.5,null,null,{"$f":"IF(I246=#REF!,H246,H246*(1-$I$6))","v":{"$error":"#REF!"}}]
[50.899999976158142,"00119","Пина Колада (Каркаде, яблоко, цукаты, шиповник кожура, кокос кубик, с ароматом \"Кокос+Ананас\")","за 1 кг",1296,1296,0.25,324,null,null,{"$f":"IF(I247=#REF!,H247,H247*(1-$I$6))","v":{"$error":"#REF!"}}]
[50.899999976158142,"00113","Медовое яблоко (Каркаде, Сенча, яблоко, черноплодная рябина ягода, шиповник кожура, вишня лист, с ароматом \"Яблоко+Мед\")","за 1 кг",1213,1213,0.25,303.25,null,null,{"$f":"IF(I248=#REF!,H248,H248*(1-$I$6))","v":{"$error":"#REF!"}}]
[50.899999976158142,"00531","Наглый мандарин (Каркаде, сафлор, цукаты, апельсин корка, яблоко, шиповник кожура, с ароматом \"Мандарин\")","за 1 кг",1339,1339,0.25,334.75,null,null,{"$f":"IF(I249=#REF!,H249,H249*(1-$I$6))","v":{"$error":"#REF!"}}]
[50.899999976158142,"00530","Красный апельсин (Каркаде, Лемонграсс, апельсин корка, яблоко, календула, цукаты, с ароматом \"Апельсин\")","за 1 кг",1314,1314,0.25,328.5,null,null,{"$f":"IF(I250=#REF!,H250,H250*(1-$I$6))","v":{"$error":"#REF!"}}]
[50.899999976158142,"00713","Фруктовая мечта  (Каркаде, изюм, цукаты, шиповник кожура, апельсин корка, с ароматом \"Фруктовое ассорти\")","за 1 кг",1374,1374,0.25,343.5,null,null,{"$f":"IF(I251=#REF!,H251,H251*(1-$I$6))","v":{"$error":"#REF!"}}]
[50.899999976158142,"00105","Бабушкин Сад  (Каркаде, шиповник кожура, яблоко, цукаты, персик, мальва, смородина лист, клубника кусочки, с ароматом \"Малина+вишня\")","за 1 кг",1356,1356,0.25,339,null,null,{"$f":"IF(I252=#REF!,H252,H252*(1-$I$6))","v":{"$error":"#REF!"}}]
[50.899999976158142,"00107","Императорский Сад  (Каркаде, персик, цукаты, яблоко, ежевика лист, календула, с ароматом \"Персик\")","за 1 кг",1415,1415,0.25,353.75,null,null,{"$f":"IF(I253=#REF!,H253,H253*(1-$I$6))","v":{"$error":"#REF!"}}]
[50.899999976158142,"00108","Арбузный Пунш (Каркаде,шиповник кожура, боярышник, цукаты, черноплодная рябина ягода, календула, с ароматом \"Арбуз\")","за 1 кг",1344,1344,0.25,336,null,null,{"$f":"IF(I254=#REF!,H254,H254*(1-$I$6))","v":{"$error":"#REF!"}}]
[50.899999976158142,"00109","Баунти-рафаэлло (Каркаде, яблоко, шиповник кожура, кокос кубик, мальва, с ароматом \"Кокос\")","за 1 кг",1213,1213,0.25,303.25,null,null,{"$f":"IF(I255=#REF!,H255,H255*(1-$I$6))","v":{"$error":"#REF!"}}]
[50.899999976158142,"00110","Вечер у камина (Каркаде, яблоко, корица, корка апельсин, смородина лист, вишня лист, мальва, с ароматом \"Смородина\")","за 1 кг",1319,1319,0.25,329.75,null,null,{"$f":"IF(I256=#REF!,H256,H256*(1-$I$6))","v":{"$error":"#REF!"}}]
[50.899999976158142,"00111","Тропикана (Каркаде, брусника лист, изюм, банан, апельсин корка, цукаты, яблоки, календула, с ароматом \"Тропический фрукт\")","за 1 кг",1344,1344,0.25,336,null,null,{"$f":"IF(I257=#REF!,H257,H257*(1-$I$6))","v":{"$error":"#REF!"}}]
[50.899999976158142,"00112","Чайный глинтвейн (Каркаде, душистый перец, имбирь, гвоздика, кардамон, корица, бадьян, с ароматом \"Мед\")","за 1 кг",1361,1361,0.25,340.25,null,null,{"$f":"IF(I258=#REF!,H258,H258*(1-$I$6))","v":{"$error":"#REF!"}}]
[50.899999976158142,"00116","Вишневый пунш  (Каркаде, вишня лист, яблоко, вишня ягода, цукаты, клюква ягода, с ароматом \"Вишня\")","за 1 кг",1296,1296,0.25,324,null,null,{"$f":"IF(I259=#REF!,H259,H259*(1-$I$6))","v":{"$error":"#REF!"}}]
[50.899999976158142,"00124","Веселый фрукт  (Каркаде, роза лепестки, цукаты, яблоко, изюм, шиповник кожура, смородина лист, клубника кусочки, с ароматом \"Клубника\")","за 1 кг",1376,1376,0.25,344,null,null,{"$f":"IF(I260=#REF!,H260,H260*(1-$I$6))","v":{"$error":"#REF!"}}]
[50.899999976158142,"00106","Красный сарафан (Каркаде, боярышник, шиповник кожура, черноплодная рябина ягода, можжевельник ягода, клубника кусочки, ежевика лист, с ароматом \"Лесные ягоды\")","за 1 кг",1391,1391,0.25,347.75,null,null,{"$f":"IF(I261=#REF!,H261,H261*(1-$I$6))","v":{"$error":"#REF!"}}]
[50.899999976158142,"00123","Теплый вечер (Каркаде, корица, апельсин корка, гвоздика, яблоко, облепиха лист, с ароматом \"Облепиха\")","за 1 кг",1391,1391,0.25,347.75,null,null,{"$f":"IF(I262=#REF!,H262,H262*(1-$I$6))","v":{"$error":"#REF!"}}]
[50.899999976158142,"00120","Компот (Каркаде, шиповник кожура, изюм, яблоко, с ароматом \"Абрикос\")","за 1 кг",1304,1240,0.25,310,"Акция!",null,{"$f":"IF(I263=#REF!,H263,H263*(1-$I$6))","v":{"$error":"#REF!"}}]
[50.899999976158142,"00121","Сангрия (Каркаде, цукаты, изюм, яблоко, ежевика ягода, клюква ягода, апельсин корка, вишня лист, с ароматом \"Виноград+Лесные ягоды\")","за 1 кг",1471,1471,0.25,367.75,null,null,{"$f":"IF(I264=#REF!,H264,H264*(1-$I$6))","v":{"$error":"#REF!"}}]
[50.899999976158142,"00122","Летнее настроение (Каркаде, шиповник кожура, боярышник, яблоко, цукаты, календула, роза лепестки, с ароматом \"Арбуз\")","за 1 кг",1471,1471,0.25,367.75,null,null,{"$f":"IF(I265=#REF!,H265,H265*(1-$I$6))","v":{"$error":"#REF!"}}]
[50.899999976158142,"00573","Клюквенный морс (Каркаде, клюква ягода, яблоко, шиповник кожура, смородина лист, красная рябина ягода, сафлор, с ароматом \"Клюква\")","за 1 кг",1446,1446,0.25,361.5,null,null,{"$f":"IF(I266=#REF!,H266,H266*(1-$I$6))","v":{"$error":"#REF!"}}]
[50.899999976158142,"00529","Брусничный морс (Каркаде, клюква ягода, яблоко, шиповник кожура, брусника лист, красная рябина ягода, сафлор, с ароматом \"Брусника\")","за 1 кг",1462,1462,0.25,365.5,null,null,{"$f":"IF(I267=#REF!,H267,H267*(1-$I$6))","v":{"$error":"#REF!"}}]
[50.899999976158142,"00114","Красный барбарис (Каркаде, черноплодная рябина ягода, барбарис, цукаты, смородина лист, клюква ягода, с ароматом \"Барбарис\")","за 1 кг",1367,1367,0.25,341.75,null,null,{"$f":"IF(I268=#REF!,H268,H268*(1-$I$6))","v":{"$error":"#REF!"}}]
[50.899999976158142,"00115","Танец фламинго (Каркаде, цукаты, изюм, брусника лист, роза лепестки, с ароматом \"Персик-Роза\")","за 1 кг",1512,1512,0.25,378,null,null,{"$f":"IF(I269=#REF!,H269,H269*(1-$I$6))","v":{"$error":"#REF!"}}]
[50.899999976158142,"00528","Карибский пунш (Каркаде, лимон корка, апельсин корка, корица, яблоко,  персик, бадьян, с ароматом \"Лимон\")","за 1 кг",1589,1589,0.25,397.25,null,null,{"$f":"IF(I270=#REF!,H270,H270*(1-$I$6))","v":{"$error":"#REF!"}}]
[50.899999976158142,"00867","Тайская Ночь (Каркаде, Анчан, цукаты, яблоко, изюм, с ароматом \"Манго\")","за 1 кг",1907,1907,0.25,476.75,null,null,{"$f":"IF(I271=#REF!,H271,H271*(1-$I$6))","v":{"$error":"#REF!"}}]
[null,"katg"," Ароматизированный чай на основе Ройбуша",null,null,null,0.25,null,null,null,{"$f":"IF(I272=#REF!,H272,H272*(1-$I$6))","v":{"$error":"#REF!"}}]
[50.899999976158142,"00127","Ройбуш (Африканский чайный напиток)","за 1 кг",1938,1938,0.25,{"$f":"G273*F273","v":484.5},null,null,{"$f":"IF(I273=#REF!,H273,H273*(1-$I$6))","v":{"$error":"#REF!"}}]
[50.899999976158142,"00140","Ройбуш \"Амазонка\" (Ройбуш, лимон корка, яблоко, мальва, с ароматом \"Тропический фрукт\")","за 1 кг",2095,2095,0.25,523.75,null,null,{"$f":"IF(I274=#REF!,H274,H274*(1-$I$6))","v":{"$error":"#REF!"}}]
[50.899999976158142,"00141","Виноградный ройбуш(Ройбуш, изюм, роза лепестки, с ароматом \"Виноград\" )","за 1 кг",2095,1991,0.25,497.75,"Акция!",null,{"$f":"IF(I275=#REF!,H275,H275*(1-$I$6))","v":{"$error":"#REF!"}}]
[50.899999976158142,"00129","Ройбуш \"Лимончелло\" (Ройбуш, лимон корка, Лемонграсс, календула, с ароматом \"Лимон\")","за 1 кг",2095,2095,0.25,523.75,null,null,{"$f":"IF(I276=#REF!,H276,H276*(1-$I$6))","v":{"$error":"#REF!"}}]
[50.899999976158142,"00137","Ройбуш Дыня (Ройбуш, персик, календула, с ароматом \"Дыня\")","за 1 кг",2095,2095,0.25,523.75,null,null,{"$f":"IF(I277=#REF!,H277,H277*(1-$I$6))","v":{"$error":"#REF!"}}]
[50.899999976158142,"00134","Ройбуш Фруктовый сад (Ройбуш, цукаты, персик, яблоко, с ароматом \"Фруктовое ассорти\")","за 1 кг",2118,2118,0.25,529.5,null,null,{"$f":"IF(I278=#REF!,H278,H278*(1-$I$6))","v":{"$error":"#REF!"}}]
[50.899999976158142,"00138","Ройбуш Мед и лимон (Ройбуш, лимон корка, календула, с ароматом \"Мед\")","за 1 кг",2165,2165,0.25,541.25,null,null,{"$f":"IF(I279=#REF!,H279,H279*(1-$I$6))","v":{"$error":"#REF!"}}]
[50.899999976158142,"00871","Ройбуш \"Барбара\" (Ройбуш, барбарис, мальва, календула, с ароматом \"Барбарис\")","за 1 кг",2165,2165,0.25,541.25,null,null,{"$f":"IF(I280=#REF!,H280,H280*(1-$I$6))","v":{"$error":"#REF!"}}]
[50.899999976158142,"00128","Ройбуш \"Земляника со сливками\" (Ройбуш, земляника лист, клубника кусочки, с ароматом \"Земляника\")","за 1 кг",1843,1843,0.25,460.75,null,null,{"$f":"IF(I281=#REF!,H281,H281*(1-$I$6))","v":{"$error":"#REF!"}}]
[50.899999976158142,"00131","Ройбуш \"Манго -Танго\" (Ройбуш, цукаты, персик, календула, с ароматом \"Манго\")","за 1 кг",2189,2189,0.25,547.25,null,null,{"$f":"IF(I282=#REF!,H282,H282*(1-$I$6))","v":{"$error":"#REF!"}}]
[50.899999976158142,"00132","Ройбуш Шоколад (Ройбуш, шоколад, кофе зерна, с ароматом \"Шоколад\")","за 1 кг",2004,2004,0.25,501,null,null,{"$f":"IF(I283=#REF!,H283,H283*(1-$I$6))","v":{"$error":"#REF!"}}]
[50.899999976158142,"00817","Ройбуш Малиновый (Ройбуш, малина лист, брусника лист, с ароматом \"Малина\")","за 1 кг",2236,2236,0.25,559,null,null,{"$f":"IF(I284=#REF!,H284,H284*(1-$I$6))","v":{"$error":"#REF!"}}]
[50.899999976158142,"00135","Ройбуш Клюквенный (Ройбуш, клюква ягода, сафлор, с ароматом \"Клюква\")","за 1 кг",2236,2236,0.25,559,null,null,{"$f":"IF(I285=#REF!,H285,H285*(1-$I$6))","v":{"$error":"#REF!"}}]
[50.899999976158142,"00136","Ройбуш Мандарин (Ройбуш, апельсин корка, сафлор, с ароматом \"Мандарин\")","за 1 кг",2057,2057,0.25,514.25,null,null,{"$f":"IF(I286=#REF!,H286,H286*(1-$I$6))","v":{"$error":"#REF!"}}]
[50.899999976158142,"00142","Ройбуш Цитрус (Ройбуш, Лемонграсс, лимон корка, апельсин корка, с ароматом \"Апельсин\")","за 1 кг",2236,2236,0.25,559,null,null,{"$f":"IF(I287=#REF!,H287,H287*(1-$I$6))","v":{"$error":"#REF!"}}]
[50.899999976158142,"00143","Ройбуш Яблочный (Ройбуш, календула, смородина лист, яблоко, с ароматом \"Яблоко\")","за 1 кг",2236,2236,0.25,559,null,null,{"$f":"IF(I288=#REF!,H288,H288*(1-$I$6))","v":{"$error":"#REF!"}}]
[50.899999976158142,"00133","Ройбуш Карамель (Ройбуш, цукаты, персик, сафлор, с ароматом \"Карамель\")","за 1 кг",2032,2032,0.25,508,null,null,{"$f":"IF(I289=#REF!,H289,H289*(1-$I$6))","v":{"$error":"#REF!"}}]
[50.899999976158142,"00145","Вишневый сад (Ройбуш, яблоко, вишня ягода, вишня лист, с ароматом \"Вишня\")","за 1 кг",2306,2306,0.25,576.5,null,null,{"$f":"IF(I290=#REF!,H290,H290*(1-$I$6))","v":{"$error":"#REF!"}}]
[50.899999976158142,"00532","Ройбуш \"Малина с мятой\" (Ройбуш, малина ягода, брусника лист, мята)","за 1 кг",2306,2306,0.25,576.5,null,null,{"$f":"IF(I291=#REF!,H291,H291*(1-$I$6))","v":{"$error":"#REF!"}}]
[50.899999976158142,"00144","Ройбуш Клубничный (Ройбуш, Каркаде, смородина лист, клубника кусочки, календула, с ароматом \"Клубника\")","за 1 кг",2446,2446,0.25,611.5,null,null,{"$f":"IF(I292=#REF!,H292,H292*(1-$I$6))","v":{"$error":"#REF!"}}]
[null,"kath"," чай на основе Мате (МАТЭ) ",null,null,null,0.25,null,null,null,{"$f":"IF(I293=#REF!,H293,H293*(1-$I$6))","v":{"$error":"#REF!"}}]
[50.899999976158142,"00454","Мате","за 1 кг",2153,2153,0.25,{"$f":"G294*F294","v":538.25},null,null,{"$f":"IF(I294=#REF!,H294,H294*(1-$I$6))","v":{"$error":"#REF!"}}]
[50.899999976158142,"00148","Мате Имбирный (Мате, имбирь)","за 1 кг",2165,2165,0.25,541.25,null,null,{"$f":"IF(I295=#REF!,H295,H295*(1-$I$6))","v":{"$error":"#REF!"}}]
[50.899999976158142,"00146","Мате Мятный (Мате, мята)","за 1 кг",2165,2165,0.25,541.25,null,null,{"$f":"IF(I296=#REF!,H296,H296*(1-$I$6))","v":{"$error":"#REF!"}}]
[50.899999976158142,"00147","Мате Мохито (Мате, лимон корка, мята, с ароматом \"Лимон\")","за 1 кг",2165,2165,0.25,541.25,null,null,{"$f":"IF(I297=#REF!,H297,H297*(1-$I$6))","v":{"$error":"#REF!"}}]
[50.899999976158142,"1110243","Земляничный мате (Мате, ежевика лист, клубника целая, с ароматом \"Земляника+Сливки\")","за 1 кг",2152,2152,0.25,538,null,null,{"$f":"IF(I298=#REF!,H298,H298*(1-$I$6))","v":{"$error":"#REF!"}}]
[50.899999976158142,"1110244","Совершенство (Мате, Сенча, ромашка, мальва, черноплодная рябина ягода)","за 1 кг",2216,2106,0.25,526.5,"Акция!",null,{"$f":"IF(I299=#REF!,H299,H299*(1-$I$6))","v":{"$error":"#REF!"}}]
[null,"kati","Связанный чай",null,null,null,0.25,null,null,null,{"$f":"IF(I300=#REF!,H300,H300*(1-$I$6))","v":{"$error":"#REF!"}}]
[50.899999976158142,"00979","Связанный чай с цветами с ароматом соусеп","за 1 кг",4456,4456,0.25,{"$f":"G301*F301","v":1114},null,null,{"$f":"IF(I301=#REF!,H301,H301*(1-$I$6))","v":{"$error":"#REF!"}}]
[50.899999976158142,"00149","Связанный чай с цветами с ароматом персика","за 1 кг",4456,4456,0.25,1114,null,null,{"$f":"IF(I302=#REF!,H302,H302*(1-$I$6))","v":{"$error":"#REF!"}}]
[50.899999976158142,"00150","Связанный чай с цветами с ароматом апельсина","за 1 кг",4456,4456,0.25,1114,null,null,{"$f":"IF(I303=#REF!,H303,H303*(1-$I$6))","v":{"$error":"#REF!"}}]
[50.899999976158142,"00151","Связанный чай с цветами с ароматом жасмина","за 1 кг",4456,4456,0.25,1114,null,null,{"$f":"IF(I304=#REF!,H304,H304*(1-$I$6))","v":{"$error":"#REF!"}}]
[50.899999976158142,"00980","Связанный чай с цветами с ароматом манго","за 1 кг",4456,4456,0.25,1114,null,null,{"$f":"IF(I305=#REF!,H305,H305*(1-$I$6))","v":{"$error":"#REF!"}}]
[50.899999976158142,"01015","Связанный чай с цветами с ароматом банана","за 1 кг",4456,4456,0.25,1114,null,null,{"$f":"IF(I306=#REF!,H306,H306*(1-$I$6))","v":{"$error":"#REF!"}}]
[50.899999976158142,"00998","Связанный чай с цветами с ароматом дыни","за 1 кг",4456,4456,0.25,1114,null,null,{"$f":"IF(I307=#REF!,H307,H307*(1-$I$6))","v":{"$error":"#REF!"}}]
[50.899999976158142,"00982","Связанный чай с цветами с ароматом личи","за 1 кг",4456,4456,0.25,1114,null,null,{"$f":"IF(I308=#REF!,H308,H308*(1-$I$6))","v":{"$error":"#REF!"}}]
[50.899999976158142,"01160","Связанный чай с цветами с ароматом ананаса","за 1 кг",4456,4456,0.25,1114,null,null,{"$f":"IF(I309=#REF!,H309,H309*(1-$I$6))","v":{"$error":"#REF!"}}]
[50.899999976158142,"01022","Связанный чай с цветами с ароматом арбуза","за 1 кг",4456,4456,0.25,1114,null,null,{"$f":"IF(I310=#REF!,H310,H310*(1-$I$6))","v":{"$error":"#REF!"}}]
[50.899999976158142,"00983","Связанный чай с цветами с ароматом мандарина","за 1 кг",4456,4456,0.25,1114,null,null,{"$f":"IF(I311=#REF!,H311,H311*(1-$I$6))","v":{"$error":"#REF!"}}]
[50.899999976158142,"1110811","Связанный чай с цветами Дерево красоты со вкусом манго","за 1 кг",6937,6937,0.25,1734.25,"NEW!",null,{"$f":"IF(I312=#REF!,H312,H312*(1-$I$6))","v":{"$error":"#REF!"}}]
[null,"katj","Гречишный,рисовый чаи",null,null,null,0.25,null,null,null,{"$f":"IF(I313=#REF!,H313,H313*(1-$I$6))","v":{"$error":"#REF!"}}]
[50.899999976158142,"1110006","Гречишный чай","за 1 кг",1204,1204,0.25,{"$f":"G314*F314","v":301},null,null,{"$f":"IF(I314=#REF!,H314,H314*(1-$I$6))","v":{"$error":"#REF!"}}]
[50.899999976158142,"1110005","Рисовый чай","за 1 кг",1088,1088,0.25,272,null,null,{"$f":"IF(I315=#REF!,H315,H315*(1-$I$6))","v":{"$error":"#REF!"}}]
[50.899999976158142,"1110095","Генмайча (Рисовый чай, Сенча)","за 1 кг",1390,973,0.25,243.25,"Акция!",null,{"$f":"IF(I316=#REF!,H316,H316*(1-$I$6))","v":{"$error":"#REF!"}}]
[50.899999976158142,"1110096","Рисовый чай \"Попкорн\" (Рисовый чай, Сенча, цукаты, сафлор, с ароматом \"Карамель\")","за 1 кг",1142,1142,0.25,285.5,null,null,{"$f":"IF(I317=#REF!,H317,H317*(1-$I$6))","v":{"$error":"#REF!"}}]
[50.899999976158142,"1110097","Гречишный чай с имбирем и корицей","за 1 кг",1206,1206,0.25,301.5,null,null,{"$f":"IF(I318=#REF!,H318,H318*(1-$I$6))","v":{"$error":"#REF!"}}]
[50.899999976158142,"1111703","Гречишный чай \"Лас Вегас\" (Гречишный чай, мате, мята, лемонграсс, календула)","за 1 кг",1349,1349,0.25,337.25,"NEW!",null,{"$f":"IF(I319=#REF!,H319,H319*(1-$I$6))","v":{"$error":"#REF!"}}]
[50.899999976158142,"1110098","Гречишный чай \"Африканский урожай\" (Гречишный чай, ройбуш, имбирь, мята)","за 1 кг",1514,1514,0.25,378.5,null,null,{"$f":"IF(I320=#REF!,H320,H320*(1-$I$6))","v":{"$error":"#REF!"}}]
[null,"katk","Травяные чаи, завары, травы, ягоды",null,null,null,0.25,null,null,null,{"$f":"IF(I321=#REF!,H321,H321*(1-$I$6))","v":{"$error":"#REF!"}}]
[50.899999976158142,"00154","Долина семи озер (Крапива, ромашка, мелисса, мята, малина лист, земляника лист, ежевика лист, Лемонграсс)","за 1 кг",1308,1308,0.25,{"$f":"G322*F322","v":327},null,null,{"$f":"IF(I322=#REF!,H322,H322*(1-$I$6))","v":{"$error":"#REF!"}}]
[50.899999976158142,"00163","Песня Шриланки (Мелисса, ромашка, валерьяна корень, лаванда)","за 1 кг",1411,1411,0.25,352.75,null,null,{"$f":"IF(I323=#REF!,H323,H323*(1-$I$6))","v":{"$error":"#REF!"}}]
[50.899999976158142,"00158","Успокаивающий (Валерьяна корень, лаванда, курильский чай, Каркаде, яблоко)","за 1 кг",1241,1241,0.25,310.25,null,null,{"$f":"IF(I324=#REF!,H324,H324*(1-$I$6))","v":{"$error":"#REF!"}}]
[50.899999976158142,"00159","Тонизирующий (Мелисса,крапива, мята, имбирь, Лемонграсс, шиповник кожура)","за 1 кг",1391,1391,0.25,347.75,null,null,{"$f":"IF(I325=#REF!,H325,H325*(1-$I$6))","v":{"$error":"#REF!"}}]
[50.899999976158142,"00152","Альпийский коктейль (Каркаде, смородина лист, шиповник кожура, земляника лист, ромашка, роза лепестки, календула, мальва, черноплодная рябина ягода, яблоко, чабрец)","за 1 кг",1391,1391,0.25,347.75,null,null,{"$f":"IF(I326=#REF!,H326,H326*(1-$I$6))","v":{"$error":"#REF!"}}]
[50.899999976158142,"00153","Сказатель Алтая (Душица, мелисса, смородина лист, крапива, апельсин корка, Лемонграсс, шалфей, земляника лист, малина лист)","за 1 кг",1397,1397,0.25,349.25,null,null,{"$f":"IF(I327=#REF!,H327,H327*(1-$I$6))","v":{"$error":"#REF!"}}]
[50.899999976158142,"00156","Цветущий луг (Душица, мята, чабрец, облепиха, малина лист, брусника лист, вишня лист, смородина лист, Лемонграсс,шиповник кожура)","за 1 кг",1316,1316,0.25,329,null,null,{"$f":"IF(I328=#REF!,H328,H328*(1-$I$6))","v":{"$error":"#REF!"}}]
[50.899999976158142,"00166","Вечерний Чай (Мята, мелисса, земляника лист, Иван-чай, ромашка, шалфей, мальва, ежевика лист, вишня лист, корица)","за 1 кг",1432,1432,0.25,358,null,null,{"$f":"IF(I329=#REF!,H329,H329*(1-$I$6))","v":{"$error":"#REF!"}}]
[50.899999976158142,"00164","Осенний букет (Лемонграсс, шиповник кожура, корица, фенхель, лимон корка)","за 1 кг",1446,1446,0.25,361.5,null,null,{"$f":"IF(I330=#REF!,H330,H330*(1-$I$6))","v":{"$error":"#REF!"}}]
[50.899999976158142,"00165","Сила Урала (Душица, мелисса, брусника лист, земляника лист, смородина лист, кожура шиповника)","за 1 кг",1446,1446,0.25,361.5,null,null,{"$f":"IF(I331=#REF!,H331,H331*(1-$I$6))","v":{"$error":"#REF!"}}]
[50.899999976158142,"00160","Русские традиции (Земляника лист, мята, ромашка, чабрец)","за 1 кг",1291,1291,0.25,322.75,null,null,{"$f":"IF(I332=#REF!,H332,H332*(1-$I$6))","v":{"$error":"#REF!"}}]
[50.899999976158142,"00161","Таежный сбор (Бадан, брусника лист, земляника лист, курильский чай, малина лист, можжевельник ягода, смородина лист, чабрец)","за 1 кг",1291,1291,0.25,322.75,null,null,{"$f":"IF(I333=#REF!,H333,H333*(1-$I$6))","v":{"$error":"#REF!"}}]
[50.899999976158142,"00162","Целебные травы (Душица, лаванда, малина лист, мята, смородина лист, фенхель, чабрец, шалфей)","за 1 кг",1462,1462,0.25,365.5,null,null,{"$f":"IF(I334=#REF!,H334,H334*(1-$I$6))","v":{"$error":"#REF!"}}]
[50.899999976158142,"00155","Липовый сад (Крапива, шиповник кожура, липа, лаванда, бессмертник, лист брусники, мята, вишня лист, мальва, душица)","за 1 кг",1530,1530,0.25,382.5,null,null,{"$f":"IF(I335=#REF!,H335,H335*(1-$I$6))","v":{"$error":"#REF!"}}]
[50.899999976158142,"00157","Витаминный (можжевельник ягода, шиповник кожура, курильский чай, смородина лист, вишня лист, бадан, Каркаде, календула)","за 1 кг",1344,1344,0.25,336,null,null,{"$f":"IF(I336=#REF!,H336,H336*(1-$I$6))","v":{"$error":"#REF!"}}]
[null,"katl","Иван-чай",null,null,null,0.25,null,null,null,{"$f":"IF(I337=#REF!,H337,H337*(1-$I$6))","v":{"$error":"#REF!"}}]
[50.899999976158142,"1110009","Иван-чай кат.B","за 1 кг",780,780,0.25,{"$f":"G338*F338","v":195},null,null,{"$f":"IF(I338=#REF!,H338,H338*(1-$I$6))","v":{"$error":"#REF!"}}]
[50.899999976158142,"00981","Иван-чай Листовой (Ферментированный)","за 1 кг",1471,1471,0.25,367.75,null,null,{"$f":"IF(I339=#REF!,H339,H339*(1-$I$6))","v":{"$error":"#REF!"}}]
[50.899999976158142,"00167","Иван-чай гранулированный (Ферментированный) ","за 1 кг",1420,1420,0.25,355,null,null,{"$f":"IF(I340=#REF!,H340,H340*(1-$I$6))","v":{"$error":"#REF!"}}]
[50.899999976158142,"01120","Иван-чай Листовой (Зеленый)","за 1 кг",1420,1420,0.25,355,null,null,{"$f":"IF(I341=#REF!,H341,H341*(1-$I$6))","v":{"$error":"#REF!"}}]
[50.899999976158142,"00168","Иван-чай с чабрецом (Иван-чай гранулированный, чабрец)","за 1 кг",1436,1436,0.25,359,null,null,{"$f":"IF(I342=#REF!,H342,H342*(1-$I$6))","v":{"$error":"#REF!"}}]
[50.899999976158142,"00169","Иван-чай с листьями смородины и вишни (Иван-чай гранулированный, смородина лист, вишня лист)","за 1 кг",1345,1345,0.25,336.25,null,null,{"$f":"IF(I343=#REF!,H343,H343*(1-$I$6))","v":{"$error":"#REF!"}}]
[50.899999976158142,"00787","Иван-чай с ароматом облепихи (Иван-чай гранулированный, земляника лист, облепиха лист, календула, с ароматом \"Облепиха\")","за 1 кг",1438,1438,0.25,359.5,null,null,{"$f":"IF(I344=#REF!,H344,H344*(1-$I$6))","v":{"$error":"#REF!"}}]
[50.899999976158142,"00171","Иван-чай \"Спелый лимон\" (Иван-чай гранулированный, Лемонграсс, лимон корка, с ароматом \"Лимон\")","за 1 кг",1555,1555,0.25,388.75,null,null,{"$f":"IF(I345=#REF!,H345,H345*(1-$I$6))","v":{"$error":"#REF!"}}]
[50.899999976158142,"00172","Иван-чай \"Малинник\" (Иван-чай гранулированный, малина лист, малина ягода, с ароматом \"Малина\")","за 1 кг",1562,1562,0.25,390.5,null,null,{"$f":"IF(I346=#REF!,H346,H346*(1-$I$6))","v":{"$error":"#REF!"}}]
[50.899999976158142,"00173","Иван-чай \"Иван-Барин\" (Иван-чай гранулированный, боярышник, шиповник кожура)","за 1 кг",1564,1564,0.25,391,null,null,{"$f":"IF(I347=#REF!,H347,H347*(1-$I$6))","v":{"$error":"#REF!"}}]
[50.899999976158142,"00174","Иван-чай \"Ягодное лукошко\" (Иван-чай гранулированный, клюква ягода, черноплодная рябина ягода, брусника лист, смородина лист, календула, с ароматом \"Клюква\")","за 1 кг",1454,1454,0.25,363.5,null,null,{"$f":"IF(I348=#REF!,H348,H348*(1-$I$6))","v":{"$error":"#REF!"}}]
[50.899999976158142,"00175","Иван-чай с вишней (Иван-чай гранулированный, вишня ягода, вишня лист , роза лепестки, с ароматом \"Вишня\")","за 1 кг",1595,1595,0.25,398.75,null,null,{"$f":"IF(I349=#REF!,H349,H349*(1-$I$6))","v":{"$error":"#REF!"}}]
[50.899999976158142,"00176","Иван-чай \"Сибирская ягода\" (Иван-чай гранулированный, клюква ягода, красная рябина ягода, смородина лист, календула, с ароматом \"Брусника\")","за 1 кг",1686,1686,0.25,421.5,null,null,{"$f":"IF(I350=#REF!,H350,H350*(1-$I$6))","v":{"$error":"#REF!"}}]
[50.899999976158142,"01085","Иван-чай со смородиной и мятой (Иван-чай листовой, мята, смородина лист)","за 1 кг",1711,1711,0.25,427.75,null,null,{"$f":"IF(I351=#REF!,H351,H351*(1-$I$6))","v":{"$error":"#REF!"}}]
[50.899999976158142,"01086","Иван-чай \"Сладкие ягоды\" (Иван-чай листовой, клюква ягода, смородина ягода, красная рябина ягода, с ароматом \"Лесные ягоды\")","за 1 кг",1768,1768,0.25,442,null,null,{"$f":"IF(I352=#REF!,H352,H352*(1-$I$6))","v":{"$error":"#REF!"}}]
[null,"katm","Белый чай",null,null,null,0.25,null,null,null,{"$f":"IF(I353=#REF!,H353,H353*(1-$I$6))","v":{"$error":"#REF!"}}]
[50.899999976158142,"00177","Бай Му Дань (Белый пион)","за 1 кг",2734,2734,0.25,{"$f":"G354*F354","v":683.5},null,null,{"$f":"IF(I354=#REF!,H354,H354*(1-$I$6))","v":{"$error":"#REF!"}}]
[null,"katn","Улун ",null,null,null,0.25,null,null,null,{"$f":"IF(I355=#REF!,H355,H355*(1-$I$6))","v":{"$error":"#REF!"}}]
[50.899999976158142,"00178","Те Гуань Инь ","за 1 кг",1439,1439,0.25,{"$f":"G356*F356","v":359.75},null,null,{"$f":"IF(I356=#REF!,H356,H356*(1-$I$6))","v":{"$error":"#REF!"}}]
[50.899999976158142,"00206","Молочный улун \"Най Сян\" (Улун, с ароматом \"Молоко\")","за 1 кг",1456,1456,0.25,364,null,null,{"$f":"IF(I357=#REF!,H357,H357*(1-$I$6))","v":{"$error":"#REF!"}}]
[50.899999976158142,"00203","Улун Дыня (Улун, календула, сафлор, цукаты, с ароматом \"Дыня\")","за 1 кг",1476,1476,0.25,369,null,null,{"$f":"IF(I358=#REF!,H358,H358*(1-$I$6))","v":{"$error":"#REF!"}}]
[50.899999976158142,"1110263","Южный Китай (Улун, цукаты, банан, персик, ягоды малины, имбирь, календула, сафлор, с ароматом \"Тропик\")","за 1 кг",1386,1386,0.25,346.5,null,null,{"$f":"IF(I359=#REF!,H359,H359*(1-$I$6))","v":{"$error":"#REF!"}}]
[50.899999976158142,"00182","Банановый улун (Улун, банан, календула, с ароматом \"Банан\")","за 1 кг",1520,1445,0.25,361.25,"Акция!",null,{"$f":"IF(I360=#REF!,H360,H360*(1-$I$6))","v":{"$error":"#REF!"}}]
[50.899999976158142,"1111678","Манговый улун (Те гуань инь, цукаты, с ароматом \"Манго\")","за 1 кг",1289,1289,0.25,322.25,"NEW!",null,{"$f":"IF(I361=#REF!,H361,H361*(1-$I$6))","v":{"$error":"#REF!"}}]
[50.899999976158142,"00205","Улун Клюква (Улун, клюква, гранат цветки, с ароматом \"Клюква\")","за 1 кг",1456,1456,0.25,364,null,null,{"$f":"IF(I362=#REF!,H362,H362*(1-$I$6))","v":{"$error":"#REF!"}}]
[50.899999976158142,"00200","Улун Мандарин (Улун, апельсин корка, сафлор, с ароматом \"Мандарин\")","за 1 кг",1465,1465,0.25,366.25,null,null,{"$f":"IF(I363=#REF!,H363,H363*(1-$I$6))","v":{"$error":"#REF!"}}]
[50.899999976158142,"00190","Клубничный улун (Улун, клубника кусочки, с ароматом \"Клубника\")","за 1 кг",1483,1483,0.25,370.75,null,null,{"$f":"IF(I364=#REF!,H364,H364*(1-$I$6))","v":{"$error":"#REF!"}}]
[50.899999976158142,"00194","Улун Виноградный (Улун, изюм, роза лепестки, с ароматом \"Виноград\")","за 1 кг",1583,1583,0.25,395.75,null,null,{"$f":"IF(I365=#REF!,H365,H365*(1-$I$6))","v":{"$error":"#REF!"}}]
[50.899999976158142,"00195","Улун Шоколадный (Улун, шоколад, кофе зерна, с ароматом \"Шоколад\")","за 1 кг",1456,1456,0.25,364,null,null,{"$f":"IF(I366=#REF!,H366,H366*(1-$I$6))","v":{"$error":"#REF!"}}]
[50.899999976158142,"00185","Вишневый Улун (Улун, вишня лист, вишня ягода, гранат цветки, с ароматом \"Вишня\")","за 1 кг",1483,1483,0.25,370.75,null,null,{"$f":"IF(I367=#REF!,H367,H367*(1-$I$6))","v":{"$error":"#REF!"}}]
[50.899999976158142,"00196","Улун Сочный Арбуз (Улун, цукаты, сафлор, с ароматом \"Арбуз\")","за 1 кг",1507,1507,0.25,376.75,null,null,{"$f":"IF(I368=#REF!,H368,H368*(1-$I$6))","v":{"$error":"#REF!"}}]
[50.899999976158142,"00186","Малиновый Улун (Улун, малина лист, малина ягода, с ароматом \"Малина\")","за 1 кг",1483,1483,0.25,370.75,null,null,{"$f":"IF(I369=#REF!,H369,H369*(1-$I$6))","v":{"$error":"#REF!"}}]
[50.899999976158142,"00188","Апельсиновый улун (Улун, апельсин корка, Лемонграсс, с ароматом \"Апельсин\")","за 1 кг",1726,1726,0.25,431.5,null,null,{"$f":"IF(I370=#REF!,H370,H370*(1-$I$6))","v":{"$error":"#REF!"}}]
[50.899999976158142,"00189","Улун тропический (Улун, календула, мальва, лимон корка, цукаты, яблоко, с ароматом \"Тропический фрукт\")","за 1 кг",1522,1522,0.25,380.5,null,null,{"$f":"IF(I371=#REF!,H371,H371*(1-$I$6))","v":{"$error":"#REF!"}}]
[50.899999976158142,"00202","Улун Мятный ( Улун, с ароматом \"Мята\" )","за 1 кг",1498,1423,0.25,355.75,"Акция!",null,{"$f":"IF(I372=#REF!,H372,H372*(1-$I$6))","v":{"$error":"#REF!"}}]
[50.899999976158142,"00204","Улун Соусеп ( Улун, календула, с ароматом \"Соусеп\")","за 1 кг",1498,1498,0.25,374.5,null,null,{"$f":"IF(I373=#REF!,H373,H373*(1-$I$6))","v":{"$error":"#REF!"}}]
[50.899999976158142,"00201","Улун Бергамот (Улун, с ароматом \"Бергамот\" )","за 1 кг",1378,1378,0.25,344.5,null,null,{"$f":"IF(I374=#REF!,H374,H374*(1-$I$6))","v":{"$error":"#REF!"}}]
[50.899999976158142,"00187","Яблочный улун (Улун, яблоко, смородина лист, с ароматом \"Яблоко\")","за 1 кг",1386,1386,0.25,346.5,null,null,{"$f":"IF(I375=#REF!,H375,H375*(1-$I$6))","v":{"$error":"#REF!"}}]
[50.899999976158142,"00180","Ананасовый улун (Улун, цукаты, календула, с ароматом \"Ананас\")","за 1 кг",1530,1530,0.25,382.5,null,null,{"$f":"IF(I376=#REF!,H376,H376*(1-$I$6))","v":{"$error":"#REF!"}}]
[50.899999976158142,"00192","Улун \"Кокос-Рафаэлло\" (Улун, кокос кубик, с ароматом \"Кокос\")","за 1 кг",1506,1430,0.25,357.5,"Акция!",null,{"$f":"IF(I377=#REF!,H377,H377*(1-$I$6))","v":{"$error":"#REF!"}}]
[50.899999976158142,"00197","Улун \"Мохито\"  (Улун, лимон корка, с ароматом \"Мята и Лимон\")","за 1 кг",1506,1355,0.25,338.75,"Акция!",null,{"$f":"IF(I378=#REF!,H378,H378*(1-$I$6))","v":{"$error":"#REF!"}}]
[50.899999976158142,"00198","Улун \"Взрывной Абрикос\" (Улун, персик, календула, с ароматом \"Абрикос\")","за 1 кг",1506,1506,0.25,376.5,null,null,{"$f":"IF(I379=#REF!,H379,H379*(1-$I$6))","v":{"$error":"#REF!"}}]
[50.899999976158142,"00199","Улун \"Земляничная поляна\" (Улун, смородина лист, клубника кусочки, с ароматом \"Земляника\")","за 1 кг",1506,1506,0.25,376.5,null,null,{"$f":"IF(I380=#REF!,H380,H380*(1-$I$6))","v":{"$error":"#REF!"}}]
[50.899999976158142,"00193","Улун \"Персик\" (Улун, персик, цукаты, с ароматом \"Персик\")","за 1 кг",1530,1530,0.25,382.5,null,null,{"$f":"IF(I381=#REF!,H381,H381*(1-$I$6))","v":{"$error":"#REF!"}}]
[50.899999976158142,"00191","Улун Ванильно-сливочный (Улун, цукаты, с ароматом \"Ваниль и Сливки\")","за 1 кг",1530,1530,0.25,382.5,null,null,{"$f":"IF(I382=#REF!,H382,H382*(1-$I$6))","v":{"$error":"#REF!"}}]
[50.899999976158142,"00183","Жасминовый улун (Улун, жасмин, с ароматом \"Жасмин\")","за 1 кг",1506,1506,0.25,376.5,null,null,{"$f":"IF(I383=#REF!,H383,H383*(1-$I$6))","v":{"$error":"#REF!"}}]
[50.899999976158142,"00184","Улун с лепестками роз  (Улун, роза лепестки, с ароматом \"Персик и Роза\")","за 1 кг",1506,1506,0.25,376.5,null,null,{"$f":"IF(I384=#REF!,H384,H384*(1-$I$6))","v":{"$error":"#REF!"}}]
[50.899999976158142,"1110738","Milk Oolong 355 Китай","за 1 кг",1598,1598,0.25,399.5,"NEW!",null,{"$f":"IF(I385=#REF!,H385,H385*(1-$I$6))","v":{"$error":"#REF!"}}]
[50.899999976158142,"1110270","Молочный улун кат. А","за 1 кг",2291,2291,0.25,572.75,null,null,{"$f":"IF(I386=#REF!,H386,H386*(1-$I$6))","v":{"$error":"#REF!"}}]
[50.899999976158142,"00181","Жень Шень улун (Те Гуань Инь, Женьшень)","за 1 кг",2053,2053,0.25,513.25,null,null,{"$f":"IF(I387=#REF!,H387,H387*(1-$I$6))","v":{"$error":"#REF!"}}]
[50.899999976158142,"00179","Да Хун Пао (Большой красный халат)","за 1 кг",2623,2623,0.25,655.75,null,null,{"$f":"IF(I388=#REF!,H388,H388*(1-$I$6))","v":{"$error":"#REF!"}}]
[50.899999976158142,"01079","Да Хун Пао Premium","за 1 кг",4195,4195,0.25,1048.75,null,null,{"$f":"IF(I389=#REF!,H389,H389*(1-$I$6))","v":{"$error":"#REF!"}}]
[null,"kato","Элитные улуны",null,null,null,0.25,null,null,null,{"$f":"IF(I390=#REF!,H390,H390*(1-$I$6))","v":{"$error":"#REF!"}}]
[50.899999976158142,"00207","Те гуань инь кат. А","за 1 кг",2218,2218,0.25,{"$f":"G391*F391","v":554.5},null,null,{"$f":"IF(I391=#REF!,H391,H391*(1-$I$6))","v":{"$error":"#REF!"}}]
[50.899999976158142,"00211","Сы Цзы Чунь «Весна четырёх сезонов» ","за 1 кг",4379,4379,0.25,1094.75,null,null,{"$f":"IF(I392=#REF!,H392,H392*(1-$I$6))","v":{"$error":"#REF!"}}]
[50.899999976158142,"1110805","Габа чай - Медовая","за 1 кг",6750,6750,0.25,1687.5,null,null,{"$f":"IF(I393=#REF!,H393,H393*(1-$I$6))","v":{"$error":"#REF!"}}]
[50.899999976158142,"01056","Габа чай - Премиум","за 1 кг",8011,8011,0.25,2002.75,null,null,{"$f":"IF(I394=#REF!,H394,H394*(1-$I$6))","v":{"$error":"#REF!"}}]
[50.899999976158142,"01055","Габа чай - Сильная прожарка","за 1 кг",8011,8011,0.25,2002.75,null,null,{"$f":"IF(I395=#REF!,H395,H395*(1-$I$6))","v":{"$error":"#REF!"}}]
[50.899999976158142,"00208","Габа чай - Янтарная","за 1 кг",8436,8436,0.25,2109,null,null,{"$f":"IF(I396=#REF!,H396,H396*(1-$I$6))","v":{"$error":"#REF!"}}]
[null,"katp","Пуэр прессованный ",null,null,null,null,null,null,null,{"$f":"IF(I397=#REF!,H397,H397*(1-$I$6))","v":{"$error":"#REF!"}}]
[50.899999976158142,"00216","Мини-точа  \"Маленькая чаша\" ","за 1 кг",1361,1361,0.25,{"$f":"G398*F398","v":340.25},null,null,{"$f":"IF(I398=#REF!,H398,H398*(1-$I$6))","v":{"$error":"#REF!"}}]
[40,"1110049","Пуэр в мандарине (шу)","за 1 шт",137,137,0.25,34.25,null,null,{"$f":"IF(I399=#REF!,H399,H399*(1-$I$6))","v":{"$error":"#REF!"}}]
[100,"1111658","Шу Пуэр блин 100 г \"Ван Ван Нянь\" (Изобилие) (фаб. Цай Чже, 2018 год.)","за 1 шт",336,336,0.25,84,null,null,{"$f":"IF(I400=#REF!,H400,H400*(1-$I$6))","v":{"$error":"#REF!"}}]
[100,"00212","Гнездо (шу) 100 г ","за 1 шт",497,497,0.25,124.25,null,null,{"$f":"IF(I401=#REF!,H401,H401*(1-$I$6))","v":{"$error":"#REF!"}}]
[100,"00213","Гнездо (шен) 100 г ","за 1 шт",497,497,0.25,124.25,null,null,{"$f":"IF(I402=#REF!,H402,H402*(1-$I$6))","v":{"$error":"#REF!"}}]
[150,"1111659","Шу пуэр в бамбуке кирпич 2019 год, 250 г","за 1 шт",618,618,0.25,154.5,null,null,{"$f":"IF(I403=#REF!,H403,H403*(1-$I$6))","v":{"$error":"#REF!"}}]
[150,"1111660","Шу Пуэр блин 357 г \"Фу Юань\" (фаб. Сишуанбанна Ваньгун 2019 год) ","за 1 шт",677,677,0.25,169.25,null,null,{"$f":"IF(I404=#REF!,H404,H404*(1-$I$6))","v":{"$error":"#REF!"}}]
[340,"00445","Блин (шен) 150 г \"Холодный остров\" ","за 1 шт",812,812,0.25,203,null,null,{"$f":"IF(I405=#REF!,H405,H405*(1-$I$6))","v":{"$error":"#REF!"}}]
[357,"1111661","Шу Пуэр блин 357 г \"Пуэр Ван\" (фаб. Менхай Саньмао 2019 год)","за 1 шт",938,938,0.25,234.5,null,null,{"$f":"IF(I406=#REF!,H406,H406*(1-$I$6))","v":{"$error":"#REF!"}}]
[357,"1111662","Шу Пуэр блин 357 г \"Биндао Гушу\" (фаб. Дачжай и Синьчжай 2019 год.) ","за 1 шт",982,982,0.25,245.5,null,null,{"$f":"IF(I407=#REF!,H407,H407*(1-$I$6))","v":{"$error":"#REF!"}}]
[57.800000071525574,"1111663","Шен Пуэр блин 357 г \"Да Сюе Шань\" (фаб. Лаоху 2019 год)","за 1 шт",991,991,0.25,247.75,null,null,{"$f":"IF(I408=#REF!,H408,H408*(1-$I$6))","v":{"$error":"#REF!"}}]
[null,"1111664","Шен Пуэр блин 357 г \"Лао бань Чжан\" (ручное производство Си шуан баньна, Юньнань Мэнхай, 2008 год.)","за 1 шт",1051,1051,0.25,262.75,null,null,{"$f":"IF(I409=#REF!,H409,H409*(1-$I$6))","v":{"$error":"#REF!"}}]
[null,"1111665","Шу Пуэр блин 357 г \"Бань Чжан Гушу\" (фаб. Жень Гуань, Юньнань Мэнхай, 2015 год.)","за 1 шт",1188,1188,0.25,297,null,null,{"$f":"IF(I410=#REF!,H410,H410*(1-$I$6))","v":{"$error":"#REF!"}}]
[null,"1111666","Гун Тин Пуэр блин 357 г \"Бань Чжан Гушу\" (фаб. Кан Пинь, Юньнань Мэнхай, 2015 год.)","за 1 шт",1188,1188,0.25,297,null,null,{"$f":"IF(I411=#REF!,H411,H411*(1-$I$6))","v":{"$error":"#REF!"}}]
[null,"1111667","Шен Пуэр блин 357 г \"Лао бань Чжан\" (зеленый) (фаб. Цунь Минь, Юньнань Мэнхай,2008 год.)","за 1 шт",1471,1471,0.25,367.75,null,null,{"$f":"IF(I412=#REF!,H412,H412*(1-$I$6))","v":{"$error":"#REF!"}}]
[null,"1111841","Шен Пуэр блин 357 г \"Дашу Булан шань\" (фаб. Гу Чаюань, Юньнань Мэнхай), 2013 год","за 1 шт",1010,1010,0.25,252.5,null,null,{"$f":"IF(I413=#REF!,H413,H413*(1-$I$6))","v":{"$error":"#REF!"}}]
[50.899999976158142,"1110172","Смола Пуэра ","за 1 кг",26377,26377,0.25,6594.25,null,null,{"$f":"IF(I414=#REF!,H414,H414*(1-$I$6))","v":{"$error":"#REF!"}}]
[5,"1110816","Подставка для пресованных Пуэров 13,5 см","за 1 шт",36,36,0.25,9,null,null,{"$f":"IF(I415=#REF!,H415,H415*(1-$I$6))","v":{"$error":"#REF!"}}]
[null,"katq","Пуэр",null,null,null,0.25,null,null,null,{"$f":"IF(I416=#REF!,H416,H416*(1-$I$6))","v":{"$error":"#REF!"}}]
[50.899999976158142,"00223","\"Дворцовый Пуэр\" (стд. 310)","за 1 кг",2000,2000,0.25,{"$f":"G417*F417","v":500},null,null,{"$f":"IF(I417=#REF!,H417,H417*(1-$I$6))","v":{"$error":"#REF!"}}]
[50.899999976158142,"00224","\"Дикий Пуэр\" (стд. 392)","за 1 кг",1427,1427,0.25,356.75,null,null,{"$f":"IF(I418=#REF!,H418,H418*(1-$I$6))","v":{"$error":"#REF!"}}]
[50.899999976158142,"00225","Гун Тин \"Императорский Пуэр\" (10 лет) ","за 1 кг",3809,3809,0.25,952.25,null,null,{"$f":"IF(I419=#REF!,H419,H419*(1-$I$6))","v":{"$error":"#REF!"}}]
[50.899999976158142,"00230","Лао Ча Тоу  \"Дикий в камнях Пуэр\" (5 лет)  ","за 1 кг",2809,2809,0.25,702.25,null,null,{"$f":"IF(I420=#REF!,H420,H420*(1-$I$6))","v":{"$error":"#REF!"}}]
[50.899999976158142,"01010","Лао Ча Тоу  \"Дикий в камнях Пуэр\" (10 лет)  ","за 1 кг",4057,4057,0.25,1014.25,null,null,{"$f":"IF(I421=#REF!,H421,H421*(1-$I$6))","v":{"$error":"#REF!"}}]
[50.899999976158142,"1110007","Многолетний, дикорастущий  Пуэр  Premium","за 1 кг",5675,5675,0.25,1418.75,null,null,{"$f":"IF(I422=#REF!,H422,H422*(1-$I$6))","v":{"$error":"#REF!"}}]
[50.899999976158142,"01007","Многолетний, дикорастущий  Пуэр   (10 лет)","за 1 кг",2809,2809,0.25,702.25,null,null,{"$f":"IF(I423=#REF!,H423,H423*(1-$I$6))","v":{"$error":"#REF!"}}]
[null,"katr","Ароматизированный чай на основе Пуэра",null,null,null,0.25,null,null,null,{"$f":"IF(I424=#REF!,H424,H424*(1-$I$6))","v":{"$error":"#REF!"}}]
[50.899999976158142,"00232","Шоколадный Пуэр (Пуэр, кофе зерна, сафлор, с ароматом \"Шоколад\")","за 1 кг",1609,1609,0.25,{"$f":"G425*F425","v":402.25},null,null,{"$f":"IF(I425=#REF!,H425,H425*(1-$I$6))","v":{"$error":"#REF!"}}]
[50.899999976158142,"00229","Молочный Пуэр (Пуэр, с ароматом \"Молоко\") ","за 1 кг",1530,1530,0.25,382.5,null,null,{"$f":"IF(I426=#REF!,H426,H426*(1-$I$6))","v":{"$error":"#REF!"}}]
[50.899999976158142,"00231","Апельсиновый Пуэр (Пуэр, Лемонграсс, апельсин корка, календула, с ароматом \"Апельсин\")","за 1 кг",1736,1736,0.25,434,null,null,{"$f":"IF(I427=#REF!,H427,H427*(1-$I$6))","v":{"$error":"#REF!"}}]
[50.899999976158142,"00233","Пуэр Вишня (Пуэр, вишня ягода, с ароматом \"Вишня\")","за 1 кг",1615,1615,0.25,403.75,null,null,{"$f":"IF(I428=#REF!,H428,H428*(1-$I$6))","v":{"$error":"#REF!"}}]
[50.899999976158142,"00236","Спелая слива (Пуэр, гранат цветки, с ароматом \"Слива\")","за 1 кг",1530,1530,0.25,382.5,null,null,{"$f":"IF(I429=#REF!,H429,H429*(1-$I$6))","v":{"$error":"#REF!"}}]
[50.899999976158142,"00239","Пуэр \"Эрл грей\" (Пуэр, с ароматом \"Бергамот\")","за 1 кг",1530,1530,0.25,382.5,null,null,{"$f":"IF(I430=#REF!,H430,H430*(1-$I$6))","v":{"$error":"#REF!"}}]
[50.899999976158142,"00240","Пуэр \"Черная смородина\" (Пуэр, смородина лист, смородина ягода, с ароматом \"Смородина\")","за 1 кг",1560,1560,0.25,390,null,null,{"$f":"IF(I431=#REF!,H431,H431*(1-$I$6))","v":{"$error":"#REF!"}}]
[50.899999976158142,"00242","Пуэр \"Рафаэлло\" (Пуэр, цукаты, кокос кубик, с ароматом \"Кокос\")","за 1 кг",1625,1625,0.25,406.25,null,null,{"$f":"IF(I432=#REF!,H432,H432*(1-$I$6))","v":{"$error":"#REF!"}}]
[50.899999976158142,"00237","Пуэр Ванильный (Пуэр, жасмин, с ароматом \"Ваниль\")","за 1 кг",1615,1615,0.25,403.75,null,null,{"$f":"IF(I433=#REF!,H433,H433*(1-$I$6))","v":{"$error":"#REF!"}}]
[50.899999976158142,"00238","Пуэр Лимон (Пуэр, Лемонграсс, календула, с ароматом \"Лимон\")","за 1 кг",1338,1338,0.25,334.5,null,null,{"$f":"IF(I434=#REF!,H434,H434*(1-$I$6))","v":{"$error":"#REF!"}}]
[50.899999976158142,"1110213","Пуэр Земляника (Пуэр, клубника кусочки, смородина лист, кокос кубик, с ароматом \"Земляника+Сливки\")","за 1 кг",1754,1754,0.25,438.5,null,null,{"$f":"IF(I435=#REF!,H435,H435*(1-$I$6))","v":{"$error":"#REF!"}}]
[50.899999976158142,"1110250","Согревающий (Пуэр, мальва, календула, лимон корка, с ароматом \"Бергамот и Орех\")","за 1 кг",1673,1673,0.25,418.25,"NEW!",null,{"$f":"IF(I436=#REF!,H436,H436*(1-$I$6))","v":{"$error":"#REF!"}}]
[50.899999976158142,"1110261","Бог солнца (Пуэр, апельсин корка, лимон корка, корица, розовый перец, с ароматом \"Абрикос\")","за 1 кг",1673,1673,0.25,418.25,"NEW!",null,{"$f":"IF(I437=#REF!,H437,H437*(1-$I$6))","v":{"$error":"#REF!"}}]
[50.899999976158142,"00526","Пуэр Карамельный (Пуэр, календула, гранат цветки, с ароматом \"Карамель\")","за 1 кг",1673,1673,0.25,418.25,null,null,{"$f":"IF(I438=#REF!,H438,H438*(1-$I$6))","v":{"$error":"#REF!"}}]
[50.899999976158142,"00241","Пуэр \"Клюквенный морс\" (Пуэр, клюква ягода, красная рябина ягода, цукаты, гранат цветки, с ароматом \"Клюква\")","за 1 кг",1790,1790,0.25,447.5,null,null,{"$f":"IF(I439=#REF!,H439,H439*(1-$I$6))","v":{"$error":"#REF!"}}]
[50.899999976158142,"00235","Пуэр с розой (Пуэр, роза лепестки, с ароматом \"Персик и Роза\")","за 1 кг",1741,1741,0.25,435.25,null,null,{"$f":"IF(I440=#REF!,H440,H440*(1-$I$6))","v":{"$error":"#REF!"}}]
[50.899999976158142,"00234","Крупнолистовой Пуэр с Саган-Дайля (Пуэр, Саган-Дайля)","за 1 кг",2306,2306,0.25,576.5,null,null,{"$f":"IF(I441=#REF!,H441,H441*(1-$I$6))","v":{"$error":"#REF!"}}]
[null,"kats","Эксклюзивные чаи",null,null,null,0.25,null,null,null,{"$f":"IF(I442=#REF!,H442,H442*(1-$I$6))","v":{"$error":"#REF!"}}]
[50.899999976158142,"00243","Анчан - тайский синий чай","за 1 кг",3626,3626,0.25,{"$f":"G443*F443","v":906.5},null,null,{"$f":"IF(I443=#REF!,H443,H443*(1-$I$6))","v":{"$error":"#REF!"}}]
[50.899999976158142,"00244","Китайский чай \"Матча\" ","за 1 кг",3419,3419,0.25,854.75,null,null,{"$f":"IF(I444=#REF!,H444,H444*(1-$I$6))","v":{"$error":"#REF!"}}]
[50.899999976158142,"01060","Японский чай \"Матча\"","за 1 кг",6564,6564,0.25,1641,null,null,{"$f":"IF(I445=#REF!,H445,H445*(1-$I$6))","v":{"$error":"#REF!"}}]
[50.899999976158142,"01125","Синяя \"Матча\"","за 1 кг",3637,3637,0.25,909.25,null,null,{"$f":"IF(I446=#REF!,H446,H446*(1-$I$6))","v":{"$error":"#REF!"}}]
[50.899999976158142,"00910","Кудин (Горькая слеза)","за 1 кг",2863,2863,0.25,715.75,null,null,{"$f":"IF(I447=#REF!,H447,H447*(1-$I$6))","v":{"$error":"#REF!"}}]
[50.899999976158142,"01008","Жасминовая жемчужина (Моли Лун Чжу)","за 1 кг",4152,4152,0.25,1038,null,null,{"$f":"IF(I448=#REF!,H448,H448*(1-$I$6))","v":{"$error":"#REF!"}}]
[50.899999976158142,"01063","Жасминовый улун (Тайвань)","за 1 кг",2660,2660,0.25,665,null,null,{"$f":"IF(I449=#REF!,H449,H449*(1-$I$6))","v":{"$error":"#REF!"}}]
[null,"katt","Кофе зерновой",null,null,null,0.25,null,null,null,{"$f":"IF(I450=#REF!,H450,H450*(1-$I$6))","v":{"$error":"#REF!"}}]
[50.899999976158142,"00247","Бразилия Сантос (100% арабика, моносорт)  / Brazil Fine Cup","за 1 кг",1325,1325,0.25,{"$f":"G451*F451","v":331.25},null,null,{"$f":"H451","v":331.25}]
[50.899999976158142,"1111608","Бразилия Сантос \"Итальянская обжарка\" (Арабика 100% моносорт)","за 1 кг",1325,1325,0.25,331.25,null,null,331.25]
[50.899999976158142,"1111607","Бразилия Сантос \"Венская обжарка\" (Арабика 100% моносорт)","за 1 кг",1325,1325,0.25,331.25,null,null,331.25]
[50.899999976158142,"01054","Бразилия Феникс (100% арабика, моносорт) / Brazil Fenix","за 1 кг",1334,1334,0.25,333.5,null,null,333.5]
[50.899999976158142,"01018","Эфиопия Джима 5 (100% арабика моносорт) / Ethiopia Djima 5","за 1 кг",1405,1405,0.25,351.25,null,null,351.25]
[50.899999976158142,"01016","Никарагуа Роял (100% арабика моносорт) / Nicaragoua Royal","за 1 кг",1936,1936,0.25,484,null,null,484]
[50.899999976158142,"01017","Уганда Другар (100% арабика моносорт) / Uganda Drugar","за 1 кг",1560,1560,0.25,390,null,null,390]
[50.899999976158142,"00254","Office Blend 1/5 ( смесь, 80% арабика, 20% робуста) ","за 1 кг",1670,1670,0.25,417.5,null,null,417.5]
[50.899999976158142,"00249","Гондурас Сан-Маркос (100% арабика, моносорт) / Honduras San-Marcos","за 1 кг",1397,1397,0.25,349.25,null,null,349.25]
[50.899999976158142,"00253","Карузо (смесь, 100% арабика) / Caruso","за 1 кг",1622,1622,0.25,405.5,null,null,405.5]
[50.899999976158142,"00251","Эфиопия Сидамо 2 (100% арабика, моносорт) / Ethiopia Sidamo 2","за 1 кг",1670,1670,0.25,417.5,null,null,417.5]
[50.899999976158142,"00252","Очарование Гватемалы (100% арабика, моносорт) / Guatemala fancy","за 1 кг",1978,1978,0.25,494.5,null,null,494.5]
[50.899999976158142,"00882","Перу Чачапояс (100% арабика, моносорт) / Peru Chachapoyas","за 1 кг",1409,1409,0.25,352.25,null,null,352.25]
[50.899999976158142,"1110733","Марагоджип Никарагуа (100% арабика) /  Maragogipe Nicaragoua","за 1 кг",3305,3305,0.25,826.25,null,null,826.25]
[null,"katu","Кофе зерновой Aroma",null,null,null,0.25,null,null,null,0]
[50.899999976158142,"00255","Ирландский крем (кофе)","за 1 кг",1284,1284,0.25,{"$f":"G466*F466","v":321},null,null,321]
[50.899999976158142,"00262","Молочный шоколад (кофе)","за 1 кг",1284,1284,0.25,321,null,null,321]
[50.899999976158142,"00267","Вишня в коньяке (кофе)","за 1 кг",1284,1284,0.25,321,null,null,321]
[50.899999976158142,"00268","Лесной орех (кофе)","за 1 кг",1284,1284,0.25,321,null,null,321]
[50.899999976158142,"00256","Пряная корица (кофе)","за 1 кг",1284,1284,0.25,321,null,null,321]
[50.899999976158142,"00257","Сливочный пломбир (кофе)","за 1 кг",1284,1284,0.25,321,null,null,321]
[50.899999976158142,"1111668","Виноградная долина (кофе)","за 1 кг",1284,1284,0.25,321,null,null,321]
[50.899999976158142,"1111669","Нежный миндаль (кофе)","за 1 кг",1284,1156,0.25,289,"Акция!",null,289]
[50.899999976158142,"1111670","Пленительный ром (кофе)","за 1 кг",1284,1156,0.25,289,"Акция!",null,289]
[50.899999976158142,"1111671","Капучино (кофе) ","за 1 кг",1284,1156,0.25,289,"Акция!",null,289]
[50.899999976158142,"1111672","Сгущеное молоко (кофе)","за 1 кг",1284,1284,0.25,321,null,null,321]
[50.899999976158142,"1111673","Фисташка (кофе)","за 1 кг",1284,1156,0.25,289,"Акция!",null,289]
[50.899999976158142,"00258","Зимняя вишня (кофе)","за 1 кг",1284,1156,0.25,289,"Акция!",null,289]
[50.899999976158142,"00259","Клубничный десерт (кофе)","за 1 кг",1284,1284,0.25,321,null,null,321]
[50.899999976158142,"00260","Английские сливки (кофе)","за 1 кг",1284,1284,0.25,321,null,null,321]
[50.899999976158142,"00261","Карамельное настроение (кофе)","за 1 кг",1284,1156,0.25,289,"Акция!",null,289]
[50.899999976158142,"00263","Малина со сливками (кофе)","за 1 кг",1284,1156,0.25,289,"Акция!",null,289]
[50.899999976158142,"00264","Клубника со сливками (кофе)","за 1 кг",1284,1156,0.25,289,"Акция!",null,289]
[50.899999976158142,"00265","Медовая карамель (кофе)","за 1 кг",1284,1284,0.25,321,null,null,321]
[50.899999976158142,"00657","Бейлиз (кофе)","за 1 кг",1284,1284,0.25,321,null,null,321]
[50.899999976158142,"00266","Апельсин в шоколаде (кофе)","за 1 кг",1284,1156,0.25,289,"Акция!",null,289]
[50.899999976158142,"00270","Баварский шоколад (кофе)","за 1 кг",1284,1284,0.25,321,null,null,321]
[50.899999976158142,"00271","Кофе с коньяком (кофе)","за 1 кг",1284,1156,0.25,289,"Акция!",null,289]
[50.899999976158142,"00272","Банановый рай (кофе)","за 1 кг",1284,1284,0.25,321,null,null,321]
[null,"katv","Тара, упаковки",null,null,null,0.25,null,null,null,{"$f":"IF(I490=#REF!,H490,H490*(1-$I$6))","v":{"$error":"#REF!"}}]
[4.8,"00273","Крафт-пакет (вместимость до 100 гр)","за 1 шт",2,2,null,{"$f":"G491*F491","v":0},null,null,{"$f":"IF(I491=#REF!,H491,H491*(1-$I$6))","v":{"$error":"#REF!"}}]
[6.9,"00891","Крафт-пакет полоска+ПЭТ металл (вместимость до 100 гр)","за 1 шт",6,6,null,0,null,null,{"$f":"IF(I492=#REF!,H492,H492*(1-$I$6))","v":{"$error":"#REF!"}}]
[7.7,"01036","Крафт-пакет с окном (вместимость до 100 гр)","за 1 шт",11,11,null,0,null,null,{"$f":"IF(I493=#REF!,H493,H493*(1-$I$6))","v":{"$error":"#REF!"}}]
[null,"1111790","Пакет 3-х слойн. 100х60х260 мм, Новогодний с окнами елки/красный","за 1 шт",14,14,null,0,null,null,{"$f":"IF(I494=#REF!,H494,H494*(1-$I$6))","v":{"$error":"#REF!"}}]
[null,"1111791","Пакет 3-х слойн. 100х60х260 мм, Новогодний с окнами елки/синий","за 1 шт",14,14,null,0,null,null,{"$f":"IF(I495=#REF!,H495,H495*(1-$I$6))","v":{"$error":"#REF!"}}]
[8,"00890","Пакет зеленый с окном \"Елка\" (вместимость до 100 гр)","за 1 шт",10,10,null,0,null,null,{"$f":"IF(I496=#REF!,H496,H496*(1-$I$6))","v":{"$error":"#REF!"}}]
[10,"01035","Пакет зеленый с окном \"Лист\" (вместимость до 100 гр)","за 1 шт",10,10,null,0,null,null,{"$f":"IF(I497=#REF!,H497,H497*(1-$I$6))","v":{"$error":"#REF!"}}]
[7.2,"01034","Пакет \"Бронза\" 100гр (вместимость до 100 гр)","за 1 шт",6,6,null,0,null,null,{"$f":"IF(I498=#REF!,H498,H498*(1-$I$6))","v":{"$error":"#REF!"}}]
[4,"00892","Пакет \"Бронза\" 50г (вместимость до 50 гр)","за 1 шт",6,6,null,0,null,null,{"$f":"IF(I499=#REF!,H499,H499*(1-$I$6))","v":{"$error":"#REF!"}}]
[7.2,"1110734","Пакет \"Белый\" 100гр (вместимость до 100 гр)","за 1 шт",7,7,null,0,null,null,{"$f":"IF(I500=#REF!,H500,H500*(1-$I$6))","v":{"$error":"#REF!"}}]
[4,"1110735","Пакет \"Белый\" 50г (вместимость до 50 гр)","за 1 шт",6,6,null,0,null,null,{"$f":"IF(I501=#REF!,H501,H501*(1-$I$6))","v":{"$error":"#REF!"}}]
[2,"00578","Упаковка зип-Лок (вместимость до 50 гр)","за 1 шт",7,7,null,0,null,null,{"$f":"IF(I502=#REF!,H502,H502*(1-$I$6))","v":{"$error":"#REF!"}}]
[16,"00491","Крафт-коробка (вместимость до 50 гр)","за 1 шт",12,12,null,0,null,null,{"$f":"IF(I503=#REF!,H503,H503*(1-$I$6))","v":{"$error":"#REF!"}}]
[0.9,"00274","Клип-лента","за 1 шт",1,1,null,0,null,null,{"$f":"IF(I504=#REF!,H504,H504*(1-$I$6))","v":{"$error":"#REF!"}}]
[522,"00894","Банка \"Чешни\" 1500мл.","за 1 шт",256,256,null,0,null,null,{"$f":"IF(I505=#REF!,H505,H505*(1-$I$6))","v":{"$error":"#REF!"}}]
[469,"00276","Банка \"Чешни\" 1100мл.","за 1 шт",204,204,null,0,null,null,{"$f":"IF(I506=#REF!,H506,H506*(1-$I$6))","v":{"$error":"#REF!"}}]
[954,"1110815","Банка-клипса 1300мл.","за 1 шт",264,264,null,0,null,null,{"$f":"IF(I507=#REF!,H507,H507*(1-$I$6))","v":{"$error":"#REF!"}}]
[388,"01040","Френч-пресс 600 мл","за 1 шт",691,691,null,0,null,null,{"$f":"IF(I508=#REF!,H508,H508*(1-$I$6))","v":{"$error":"#REF!"}}]
[72,"1110147","Совочек стальной (24 см в длину)","за 1 шт",216,216,null,0,null,null,{"$f":"IF(I509=#REF!,H509,H509*(1-$I$6))","v":{"$error":"#REF!"}}]
[678,"1110175","Стойка для чая Samovar-time","за 1 шт",780,780,null,0,null,null,{"$f":"IF(I510=#REF!,H510,H510*(1-$I$6))","v":{"$error":"#REF!"}}]
[null,"1111782","Бирка для банки ","за 1 шт",6,6,null,0,null,null,{"$f":"IF(I511=#REF!,H511,H511*(1-$I$6))","v":{"$error":"#REF!"}}]
[null,"katw","Добавки к чаю",null,null,null,null,null,null,null,{"$f":"IF(I512=#REF!,H512,H512*(1-$I$6))","v":{"$error":"#REF!"}}]
[50.899999976158142,"01126","Дольки апельсина сушеные","за 1 кг",1681,1681,null,{"$f":"G513*F513","v":0},null,null,{"$f":"IF(I513=#REF!,H513,H513*(1-$I$6))","v":{"$error":"#REF!"}}]
[61,"00279","Набор для глинтвейна в упаковке \"Зип-Лок\" (корица, кардамон, перец душистый, имбирь, бадьян) упаковка 60 гр","за 1 шт",191,191,null,0,null,null,{"$f":"IF(I514=#REF!,H514,H514*(1-$I$6))","v":{"$error":"#REF!"}}]
[176,"00280","Набор для глинтвейна в стекляной банке 130мл (корица, кардамон, перец душистый, имбирь, бадьян, перец розовый) упаковка 50 гр","за 1 шт",203,203,null,0,null,null,{"$f":"IF(I515=#REF!,H515,H515*(1-$I$6))","v":{"$error":"#REF!"}}]
[50.899999976158142,"00479","Плоды боярышника","за 1 кг",617,617,null,0,null,null,{"$f":"IF(I516=#REF!,H516,H516*(1-$I$6))","v":{"$error":"#REF!"}}]
[50.899999976158142,"00451","Ежевика лист","за 1 кг",677,677,null,0,null,null,{"$f":"IF(I517=#REF!,H517,H517*(1-$I$6))","v":{"$error":"#REF!"}}]
[50.899999976158142,"00511","Облепиха лист","за 1 кг",700,700,null,0,null,null,{"$f":"IF(I518=#REF!,H518,H518*(1-$I$6))","v":{"$error":"#REF!"}}]
[50.899999976158142,"00926","Сахар тростниковый леденцовый кристаллический коричневый","за 1 кг",754,754,null,0,null,null,{"$f":"IF(I519=#REF!,H519,H519*(1-$I$6))","v":{"$error":"#REF!"}}]
[50.899999976158142,"00952","Сахар тростниковый леденцовый кристаллический бесцветный","за 1 кг",700,700,null,0,null,null,{"$f":"IF(I520=#REF!,H520,H520*(1-$I$6))","v":{"$error":"#REF!"}}]
[50.899999976158142,"00286","Фенхель семя","за 1 кг",1187,1187,null,0,null,null,{"$f":"IF(I521=#REF!,H521,H521*(1-$I$6))","v":{"$error":"#REF!"}}]
[50.899999976158142,"00292","Мята ","за 1 кг",1032,1032,null,0,null,null,{"$f":"IF(I522=#REF!,H522,H522*(1-$I$6))","v":{"$error":"#REF!"}}]
[50.899999976158142,"00293","Чабрец трава","за 1 кг",1032,1032,null,0,null,null,{"$f":"IF(I523=#REF!,H523,H523*(1-$I$6))","v":{"$error":"#REF!"}}]
[50.899999976158142,"1110718","Почки сосны","за 1 кг",1163,1163,null,0,null,null,{"$f":"IF(I524=#REF!,H524,H524*(1-$I$6))","v":{"$error":"#REF!"}}]
[50.899999976158142,"1111656","Чага дробленая (3-7 мм)","за 1 кг",960,960,null,0,"NEW!",null,{"$f":"IF(I525=#REF!,H525,H525*(1-$I$6))","v":{"$error":"#REF!"}}]
[50.899999976158142,"00290","Душица (Орегано)","за 1 кг",1309,1309,null,0,null,null,{"$f":"IF(I526=#REF!,H526,H526*(1-$I$6))","v":{"$error":"#REF!"}}]
[50.899999976158142,"00288","Имбирь корень","за 1 кг",3560,3560,null,0,null,null,{"$f":"IF(I527=#REF!,H527,H527*(1-$I$6))","v":{"$error":"#REF!"}}]
[50.899999976158142,"00294","Смородина лист","за 1 кг",1286,1286,null,0,null,null,{"$f":"IF(I528=#REF!,H528,H528*(1-$I$6))","v":{"$error":"#REF!"}}]
[50.899999976158142,"00282","Можжевельник","за 1 кг",1410,1410,null,0,null,null,{"$f":"IF(I529=#REF!,H529,H529*(1-$I$6))","v":{"$error":"#REF!"}}]
[50.899999976158142,"00295","Лемонграсс","за 1 кг",604,604,null,0,null,null,{"$f":"IF(I530=#REF!,H530,H530*(1-$I$6))","v":{"$error":"#REF!"}}]
[50.899999976158142,"00283","Корица палочки","за 1 кг",1466,1466,null,0,null,null,{"$f":"IF(I531=#REF!,H531,H531*(1-$I$6))","v":{"$error":"#REF!"}}]
[50.899999976158142,"00285","Бадьян (Анис звездочный)","за 1 кг",1733,1733,null,0,null,null,{"$f":"IF(I532=#REF!,H532,H532*(1-$I$6))","v":{"$error":"#REF!"}}]
[50.899999976158142,"00289","Лаванда (Цветы)","за 1 кг",1512,1512,null,0,null,null,{"$f":"IF(I533=#REF!,H533,H533*(1-$I$6))","v":{"$error":"#REF!"}}]
[50.899999976158142,"00291","Гвоздика","за 1 кг",2044,2044,null,0,null,null,{"$f":"IF(I534=#REF!,H534,H534*(1-$I$6))","v":{"$error":"#REF!"}}]
[50.899999976158142,"00284","Кардамон Зерно","за 1 кг",6244,6244,null,0,null,null,{"$f":"IF(I535=#REF!,H535,H535*(1-$I$6))","v":{"$error":"#REF!"}}]
[50.899999976158142,"00690","Чайная роза","за 1 кг",1444,1444,null,0,null,null,{"$f":"IF(I536=#REF!,H536,H536*(1-$I$6))","v":{"$error":"#REF!"}}]
[50.899999976158142,"01100","Роза (Бутон)","за 1 кг",1848,1848,null,0,null,null,{"$f":"IF(I537=#REF!,H537,H537*(1-$I$6))","v":{"$error":"#REF!"}}]
[50.899999976158142,"1110349","Смесь для глинтвейна","за 1 кг",1853,1853,null,0,null,null,{"$f":"IF(I538=#REF!,H538,H538*(1-$I$6))","v":{"$error":"#REF!"}}]
[50.899999976158142,"00281","Саган-Дайля (Белое крыло)","за 1 кг",5309,5309,null,0,null,null,{"$f":"IF(I539=#REF!,H539,H539*(1-$I$6))","v":{"$error":"#REF!"}}]
[null,"katx","Ароматизатор пищевой натуральный 10 мл",null,null,null,null,null,null,null,{"$f":"IF(I540=#REF!,H540,H540*(1-$I$6))","v":{"$error":"#REF!"}}]
[40,"1111049","Апельсин","за 1 шт",66,66,null,{"$f":"G541*F541","v":0},null,null,{"$f":"IF(I541=#REF!,H541,H541*(1-$I$6))","v":{"$error":"#REF!"}}]
[40,"1111050","Ананас","за 1 шт",66,66,null,0,null,null,{"$f":"IF(I542=#REF!,H542,H542*(1-$I$6))","v":{"$error":"#REF!"}}]
[40,"1111051","Арбуз","за 1 шт",66,66,null,0,null,null,{"$f":"IF(I543=#REF!,H543,H543*(1-$I$6))","v":{"$error":"#REF!"}}]
[40,"1111052","Абрикос","за 1 шт",66,66,null,0,null,null,{"$f":"IF(I544=#REF!,H544,H544*(1-$I$6))","v":{"$error":"#REF!"}}]
[40,"1111053","Бергамот","за 1 шт",66,66,null,0,null,null,{"$f":"IF(I545=#REF!,H545,H545*(1-$I$6))","v":{"$error":"#REF!"}}]
[40,"1111054","Брусника","за 1 шт",66,66,null,0,null,null,{"$f":"IF(I546=#REF!,H546,H546*(1-$I$6))","v":{"$error":"#REF!"}}]
[40,"1111055","Барбарис","за 1 шт",66,66,null,0,null,null,{"$f":"IF(I547=#REF!,H547,H547*(1-$I$6))","v":{"$error":"#REF!"}}]
[40,"1111056","Банан","за 1 шт",66,66,null,0,null,null,{"$f":"IF(I548=#REF!,H548,H548*(1-$I$6))","v":{"$error":"#REF!"}}]
[40,"1111057","Ваниль-сливки","за 1 шт",66,66,null,0,null,null,{"$f":"IF(I549=#REF!,H549,H549*(1-$I$6))","v":{"$error":"#REF!"}}]
[40,"1111058","Вишня","за 1 шт",66,66,null,0,null,null,{"$f":"IF(I550=#REF!,H550,H550*(1-$I$6))","v":{"$error":"#REF!"}}]
[40,"1111059","Виноград","за 1 шт",66,66,null,0,null,null,{"$f":"IF(I551=#REF!,H551,H551*(1-$I$6))","v":{"$error":"#REF!"}}]
[40,"1111060","Гранат","за 1 шт",66,66,null,0,null,null,{"$f":"IF(I552=#REF!,H552,H552*(1-$I$6))","v":{"$error":"#REF!"}}]
[40,"1111061","Дыня","за 1 шт",66,66,null,0,null,null,{"$f":"IF(I553=#REF!,H553,H553*(1-$I$6))","v":{"$error":"#REF!"}}]
[40,"1111062","Жасмин","за 1 шт",66,66,null,0,null,null,{"$f":"IF(I554=#REF!,H554,H554*(1-$I$6))","v":{"$error":"#REF!"}}]
[40,"1111063","Земляника","за 1 шт",66,66,null,0,null,null,{"$f":"IF(I555=#REF!,H555,H555*(1-$I$6))","v":{"$error":"#REF!"}}]
[40,"1111064","Ирландский крем","за 1 шт",66,66,null,0,null,null,{"$f":"IF(I556=#REF!,H556,H556*(1-$I$6))","v":{"$error":"#REF!"}}]
[40,"1111065","Киви","за 1 шт",66,66,null,0,null,null,{"$f":"IF(I557=#REF!,H557,H557*(1-$I$6))","v":{"$error":"#REF!"}}]
[40,"1111066","Корица","за 1 шт",66,66,null,0,null,null,{"$f":"IF(I558=#REF!,H558,H558*(1-$I$6))","v":{"$error":"#REF!"}}]
[40,"1111067","Клюква","за 1 шт",66,66,null,0,null,null,{"$f":"IF(I559=#REF!,H559,H559*(1-$I$6))","v":{"$error":"#REF!"}}]
[40,"1111068","Клубника","за 1 шт",66,66,null,0,null,null,{"$f":"IF(I560=#REF!,H560,H560*(1-$I$6))","v":{"$error":"#REF!"}}]
[40,"1111069","Карамель","за 1 шт",66,66,null,0,null,null,{"$f":"IF(I561=#REF!,H561,H561*(1-$I$6))","v":{"$error":"#REF!"}}]
[40,"1111070","Кокос","за 1 шт",66,66,null,0,null,null,{"$f":"IF(I562=#REF!,H562,H562*(1-$I$6))","v":{"$error":"#REF!"}}]
[40,"1111071","Коньяк","за 1 шт",66,66,null,0,null,null,{"$f":"IF(I563=#REF!,H563,H563*(1-$I$6))","v":{"$error":"#REF!"}}]
[40,"1111072","Лимон","за 1 шт",66,66,null,0,null,null,{"$f":"IF(I564=#REF!,H564,H564*(1-$I$6))","v":{"$error":"#REF!"}}]
[40,"1111073","Лесной орех","за 1 шт",66,66,null,0,null,null,{"$f":"IF(I565=#REF!,H565,H565*(1-$I$6))","v":{"$error":"#REF!"}}]
[40,"1111074","Лесные ягоды","за 1 шт",66,66,null,0,null,null,{"$f":"IF(I566=#REF!,H566,H566*(1-$I$6))","v":{"$error":"#REF!"}}]
[40,"1111075","Манго","за 1 шт",66,66,null,0,null,null,{"$f":"IF(I567=#REF!,H567,H567*(1-$I$6))","v":{"$error":"#REF!"}}]
[40,"1111076","Мандарин","за 1 шт",66,66,null,0,null,null,{"$f":"IF(I568=#REF!,H568,H568*(1-$I$6))","v":{"$error":"#REF!"}}]
[40,"1111077","Мёд","за 1 шт",66,66,null,0,null,null,{"$f":"IF(I569=#REF!,H569,H569*(1-$I$6))","v":{"$error":"#REF!"}}]
[40,"1111078","Мята","за 1 шт",66,66,null,0,null,null,{"$f":"IF(I570=#REF!,H570,H570*(1-$I$6))","v":{"$error":"#REF!"}}]
[40,"1111079","Малина","за 1 шт",66,66,null,0,null,null,{"$f":"IF(I571=#REF!,H571,H571*(1-$I$6))","v":{"$error":"#REF!"}}]
[40,"1111080","Молоко","за 1 шт",66,66,null,0,null,null,{"$f":"IF(I572=#REF!,H572,H572*(1-$I$6))","v":{"$error":"#REF!"}}]
[40,"1111081","Облепиха","за 1 шт",66,66,null,0,null,null,{"$f":"IF(I573=#REF!,H573,H573*(1-$I$6))","v":{"$error":"#REF!"}}]
[40,"1111082","Пломбир","за 1 шт",66,66,null,0,null,null,{"$f":"IF(I574=#REF!,H574,H574*(1-$I$6))","v":{"$error":"#REF!"}}]
[40,"1111083","Персик-роза","за 1 шт",66,66,null,0,null,null,{"$f":"IF(I575=#REF!,H575,H575*(1-$I$6))","v":{"$error":"#REF!"}}]
[40,"1111084","Тропик (Личи)","за 1 шт",66,66,null,0,null,null,{"$f":"IF(I576=#REF!,H576,H576*(1-$I$6))","v":{"$error":"#REF!"}}]
[40,"1111085","Слива","за 1 шт",66,66,null,0,null,null,{"$f":"IF(I577=#REF!,H577,H577*(1-$I$6))","v":{"$error":"#REF!"}}]
[40,"1111086","Соусеп (Черимойя-айва)","за 1 шт",66,66,null,0,null,null,{"$f":"IF(I578=#REF!,H578,H578*(1-$I$6))","v":{"$error":"#REF!"}}]
[40,"1111087","Смородина","за 1 шт",66,66,null,0,null,null,{"$f":"IF(I579=#REF!,H579,H579*(1-$I$6))","v":{"$error":"#REF!"}}]
[40,"1111088","Фруктовое ассорти","за 1 шт",66,66,null,0,null,null,{"$f":"IF(I580=#REF!,H580,H580*(1-$I$6))","v":{"$error":"#REF!"}}]
[40,"1111089","Черника","за 1 шт",66,66,null,0,null,null,{"$f":"IF(I581=#REF!,H581,H581*(1-$I$6))","v":{"$error":"#REF!"}}]
[40,"1111090","Шоколад","за 1 шт",66,66,null,0,null,null,{"$f":"IF(I582=#REF!,H582,H582*(1-$I$6))","v":{"$error":"#REF!"}}]
[40,"1111091","Яблоко","за 1 шт",66,66,null,0,null,null,{"$f":"IF(I583=#REF!,H583,H583*(1-$I$6))","v":{"$error":"#REF!"}}]
[null,"katy","Фруктовые чипсы",null,null,null,null,null,null,null,{"$f":"IF(I584=#REF!,H584,H584*(1-$I$6))","v":{"$error":"#REF!"}}]
[null,"1111716","Чипсы из манго за 50 гр","за 1 шт",132,132,null,{"$f":"G585*F585","v":0},"NEW!",null,{"$f":"IF(I585=#REF!,H585,H585*(1-$I$6))","v":{"$error":"#REF!"}}]
[null,"1111717","Чипсы из груши за 50 гр","за 1 шт",132,132,null,0,"NEW!",null,{"$f":"IF(I586=#REF!,H586,H586*(1-$I$6))","v":{"$error":"#REF!"}}]
[null,"1111718","Банановые чипсы за 50 гр","за 1 шт",132,132,null,0,"NEW!",null,{"$f":"IF(I587=#REF!,H587,H587*(1-$I$6))","v":{"$error":"#REF!"}}]
[null,"1111719","Ананасовые чипсы за 50 гр","за 1 шт",132,132,null,0,"NEW!",null,{"$f":"IF(I588=#REF!,H588,H588*(1-$I$6))","v":{"$error":"#REF!"}}]
[null,"1111720","Кокосовые чипсы за 50 гр","за 1 шт",132,132,null,0,"NEW!",null,{"$f":"IF(I589=#REF!,H589,H589*(1-$I$6))","v":{"$error":"#REF!"}}]
[null,"1111721","Чипсы из киви за 50 гр","за 1 шт",132,132,null,0,"NEW!",null,{"$f":"IF(I590=#REF!,H590,H590*(1-$I$6))","v":{"$error":"#REF!"}}]
[null,"1111722","Чипсы из манго за 100 гр","за 1 шт",240,240,null,0,"NEW!",null,{"$f":"IF(I591=#REF!,H591,H591*(1-$I$6))","v":{"$error":"#REF!"}}]
[null,"1111723","Чипсы из груши за 100 гр","за 1 шт",240,240,null,0,"NEW!",null,{"$f":"IF(I592=#REF!,H592,H592*(1-$I$6))","v":{"$error":"#REF!"}}]
[null,"1111724","Банановые чипсы за 100 гр","за 1 шт",240,240,null,0,"NEW!",null,{"$f":"IF(I593=#REF!,H593,H593*(1-$I$6))","v":{"$error":"#REF!"}}]
[null,"1111725","Ананасовые чипсы за 100 гр","за 1 шт",240,240,null,0,"NEW!",null,{"$f":"IF(I594=#REF!,H594,H594*(1-$I$6))","v":{"$error":"#REF!"}}]
[null,"1111726","Кокосовые чипсы за 100 гр","за 1 шт",240,240,null,0,"NEW!",null,{"$f":"IF(I595=#REF!,H595,H595*(1-$I$6))","v":{"$error":"#REF!"}}]
[null,"1111727","Чипсы из киви за 100 гр","за 1 шт",240,240,null,0,"NEW!",null,{"$f":"IF(I596=#REF!,H596,H596*(1-$I$6))","v":{"$error":"#REF!"}}]
[null,"katy","Фильтр пакеты",null,null,null,null,null,null,null,{"$f":"IF(I597=#REF!,H597,H597*(1-$I$6))","v":{"$error":"#REF!"}}]
[43,"00968","Фильтр пакеты \"Для Чашки\" (100 шт)","за 1 шт",187,187,null,{"$f":"G598*F598","v":0},null,null,{"$f":"IF(I598=#REF!,H598,H598*(1-$I$6))","v":{"$error":"#REF!"}}]
[71,"00930","Фильтр пакеты \"Для Чайника\" (100 шт)","за 1 шт",200,200,null,0,null,null,{"$f":"IF(I599=#REF!,H599,H599*(1-$I$6))","v":{"$error":"#REF!"}}]
[40,"00296","Чистая Чашка. Пакеты для заваривания Чая, Кофе и Трав (50 шт), фильтр-волокно, с завязками. Размер: \"Для Чашки\"","за 1 шт",200,200,null,0,null,null,{"$f":"IF(I600=#REF!,H600,H600*(1-$I$6))","v":{"$error":"#REF!"}}]
[56,"00297","Чистая Чашка. Пакеты для заваривания Чая, Кофе и Трав (50 шт), фильтр-волокно, с завязками. Размер: \"Для Чайника\"","за 1 шт",200,200,null,0,null,null,{"$f":"IF(I601=#REF!,H601,H601*(1-$I$6))","v":{"$error":"#REF!"}}]
[45,"00298","Чистая Чашка. Пакеты для заваривания Чая и Трав (100 шт), бумажные, с клапаном. Размер: \"Для Чашки\".","за 1 шт",200,200,null,0,null,null,{"$f":"IF(I602=#REF!,H602,H602*(1-$I$6))","v":{"$error":"#REF!"}}]
[88,"00299","Чистая Чашка. Пакеты для заваривания Чая и Трав (100 шт), бумажные, с клапаном. Размер: \"Для Чайника\". ","за 1 шт",208,208,null,0,null,null,{"$f":"IF(I603=#REF!,H603,H603*(1-$I$6))","v":{"$error":"#REF!"}}]
[null,"00301","Чистая Чашка. Фильтр пакеты для заваривания Чая, Кофе и Трав ( 25 шт) \"Для кофе\"","за 1 шт",414,414,null,0,null,null,{"$f":"IF(I604=#REF!,H604,H604*(1-$I$6))","v":{"$error":"#REF!"}}]
[null,"kataa","КРЕМ-МЕД",null,null,null,null,null,null,null,{"$f":"IF(I605=#REF!,H605,H605*(1-$I$6))","v":{"$error":"#REF!"}}]
[436,"00960",{"$f":"HYPERLINK(\"https://samovar-time.ru/product/krem-med-s-kedrovym-orehom-250g/\",\"Крем-мед с Кедровым Орехом 250г\")","v":"Крем-мед с Кедровым Орехом 250г"},"за 1 шт",198,198,null,{"$f":"G606*F606","v":0},null,null,{"$f":"IF(I606=#REF!,H606,H606*(1-$I$6))","v":{"$error":"#REF!"}}]
[436,"1110850","Крем-мед с Яблоком и корицей 250г","за 1 шт",198,198,null,0,null,null,{"$f":"IF(I607=#REF!,H607,H607*(1-$I$6))","v":{"$error":"#REF!"}}]
[436,"1110851","Крем-мед с Лесными ягодами 250г","за 1 шт",198,198,null,0,null,null,{"$f":"IF(I608=#REF!,H608,H608*(1-$I$6))","v":{"$error":"#REF!"}}]
[436,"1110852","Крем-мед с Ананасом 250г","за 1 шт",198,198,null,0,null,null,{"$f":"IF(I609=#REF!,H609,H609*(1-$I$6))","v":{"$error":"#REF!"}}]
[436,"1110853","Крем-мед с Грецким орехом 250г","за 1 шт",198,198,null,0,null,null,{"$f":"IF(I610=#REF!,H610,H610*(1-$I$6))","v":{"$error":"#REF!"}}]
[436,"1110854","Крем-мед с Фисташкой 250г","за 1 шт",198,198,null,0,null,null,{"$f":"IF(I611=#REF!,H611,H611*(1-$I$6))","v":{"$error":"#REF!"}}]
[436,"00963",{"$f":"HYPERLINK(\"https://samovar-time.ru/product/krem-med-s-chernoj-smorodinoj-250g/\",\"Крем-мед  с Черной Смородиной 250г\")","v":"Крем-мед  с Черной Смородиной 250г"},"за 1 шт",198,198,null,0,null,null,{"$f":"IF(I612=#REF!,H612,H612*(1-$I$6))","v":{"$error":"#REF!"}}]
[436,"00966",{"$f":"HYPERLINK(\"https://samovar-time.ru/product/krem-med-s-malinoj-250g/\",\"Крем-мед с Малиной 250г\")","v":"Крем-мед с Малиной 250г"},"за 1 шт",198,198,null,0,null,null,{"$f":"IF(I613=#REF!,H613,H613*(1-$I$6))","v":{"$error":"#REF!"}}]
[436,"00961",{"$f":"HYPERLINK(\"https://samovar-time.ru/product/krem-med-s-limonom-250g/\",\"Крем-мед с Лимоном 250г\")","v":"Крем-мед с Лимоном 250г"},"за 1 шт",198,198,null,0,null,null,{"$f":"IF(I614=#REF!,H614,H614*(1-$I$6))","v":{"$error":"#REF!"}}]
[436,"00964",{"$f":"HYPERLINK(\"https://samovar-time.ru/product/krem-med-s-propolisom-250g/\",\"Крем-мед с Прополисом 250г\")","v":"Крем-мед с Прополисом 250г"},"за 1 шт",198,198,null,0,null,null,{"$f":"IF(I615=#REF!,H615,H615*(1-$I$6))","v":{"$error":"#REF!"}}]
[436,"00962",{"$f":"HYPERLINK(\"https://samovar-time.ru/product/krem-med-cvetochnoe-raznotrave-250g/\",\"Крем-мед Цветочный 250г\")","v":"Крем-мед Цветочный 250г"},"за 1 шт",198,198,null,0,null,null,{"$f":"IF(I616=#REF!,H616,H616*(1-$I$6))","v":{"$error":"#REF!"}}]
[436,"01115",{"$f":"HYPERLINK(\"https://samovar-time.ru/product/%D0%BA%D1%80%D0%B5%D0%BC-%D0%BC%D0%B5%D0%B4-%D1%81-%D0%BA%D0%BE%D1%84%D0%B5-250-%D0%B3/\",\"Крем-мед с Кофе 250г\")","v":"Крем-мед с Кофе 250г"},"за 1 шт",198,198,null,0,null,null,{"$f":"IF(I617=#REF!,H617,H617*(1-$I$6))","v":{"$error":"#REF!"}}]
[436,"01116",{"$f":"HYPERLINK(\"https://samovar-time.ru/product/%D0%BA%D1%80%D0%B5%D0%BC-%D0%BC%D0%B5%D0%B4-%D1%81-%D0%B8%D0%BC%D0%B1%D0%B8%D1%80%D1%91%D0%BC-%D0%B8-%D0%BB%D0%B0%D0%B9%D0%BC%D0%BE%D0%BC-250-%D0%B3/\",\"Крем-мед с Имбирем и Лаймом 250г\")","v":"Крем-мед с Имбирем и Лаймом 250г"},"за 1 шт",198,198,null,0,null,null,{"$f":"IF(I618=#REF!,H618,H618*(1-$I$6))","v":{"$error":"#REF!"}}]
[436,"katab","Карамель",null,null,null,null,null,null,null,{"$f":"IF(I619=#REF!,H619,H619*(1-$I$6))","v":{"$error":"#REF!"}}]
[null,"1111748","Карамель \"Кофе\" объем 100г","за 1 шт",192,192,null,{"$f":"G620*F620","v":0},"NEW!",null,{"$f":"IF(I620=#REF!,H620,H620*(1-$I$6))","v":{"$error":"#REF!"}}]
[null,"1111750","Карамель \"Виски\" объем 100г","за 1 шт",192,192,null,0,"NEW!",null,{"$f":"IF(I621=#REF!,H621,H621*(1-$I$6))","v":{"$error":"#REF!"}}]
[null,"1111752","Карамель \"Шоколад и перец чили\" объем 100г","за 1 шт",192,192,null,0,"NEW!",null,{"$f":"IF(I622=#REF!,H622,H622*(1-$I$6))","v":{"$error":"#REF!"}}]
[null,"1111754","Карамель \"Ваниль\" объем 100г","за 1 шт",192,192,null,0,"NEW!",null,{"$f":"IF(I623=#REF!,H623,H623*(1-$I$6))","v":{"$error":"#REF!"}}]
[null,"1111756","Карамель \"Мята\" объем 100г","за 1 шт",192,192,null,0,"NEW!",null,{"$f":"IF(I624=#REF!,H624,H624*(1-$I$6))","v":{"$error":"#REF!"}}]
[null,"1111749","Карамель \"Кофе\" объем 40г","за 1 шт",120,120,null,0,"NEW!",null,{"$f":"IF(I625=#REF!,H625,H625*(1-$I$6))","v":{"$error":"#REF!"}}]
[null,"1111751","Карамель \"Виски\" объем 40г","за 1 шт",120,120,null,0,"NEW!",null,{"$f":"IF(I626=#REF!,H626,H626*(1-$I$6))","v":{"$error":"#REF!"}}]
[null,"1111753","Карамель \"Шоколад и перец чили\" объем 40г","за 1 шт",120,120,null,0,"NEW!",null,{"$f":"IF(I627=#REF!,H627,H627*(1-$I$6))","v":{"$error":"#REF!"}}]
[null,"1111755","Карамель \"Ваниль\" объем 40г","за 1 шт",120,120,null,0,"NEW!",null,{"$f":"IF(I628=#REF!,H628,H628*(1-$I$6))","v":{"$error":"#REF!"}}]
[null,"1111757","Карамель \"Мята\" объем 40г","за 1 шт",120,120,null,0,"NEW!",null,{"$f":"IF(I629=#REF!,H629,H629*(1-$I$6))","v":{"$error":"#REF!"}}]
[null,"katab","Варенье ",null,null,null,null,null,null,null,{"$f":"IF(I630=#REF!,H630,H630*(1-$I$6))","v":{"$error":"#REF!"}}]
[null,"1110181","Варенье из хвои 130 мл.","за 1 шт",190,190,null,{"$f":"G631*F631","v":0},null,null,{"$f":"IF(I631=#REF!,H631,H631*(1-$I$6))","v":{"$error":"#REF!"}}]
[300,"1110182","Варенье из сосновых шишек 130 мл.","за 1 шт",190,190,null,0,null,null,{"$f":"IF(I632=#REF!,H632,H632*(1-$I$6))","v":{"$error":"#REF!"}}]
[300,"1110294","Варенье с грецким орехом 130 мл.","за 1 шт",190,190,null,0,null,null,{"$f":"IF(I633=#REF!,H633,H633*(1-$I$6))","v":{"$error":"#REF!"}}]
[300,"1110178","Варенье из имбиря с апельсином и лимоном 130 мл.","за 1 шт",190,190,null,0,null,null,{"$f":"IF(I634=#REF!,H634,H634*(1-$I$6))","v":{"$error":"#REF!"}}]
[300,"1110180","Варенье из винограда 130 мл.","за 1 шт",190,190,null,0,null,null,{"$f":"IF(I635=#REF!,H635,H635*(1-$I$6))","v":{"$error":"#REF!"}}]
[300,"1110179","Samovartime варенье из липового цвета 130 мл.","за 1 шт",190,190,null,0,null,null,{"$f":"IF(I636=#REF!,H636,H636*(1-$I$6))","v":{"$error":"#REF!"}}]
[300,"katac","Чай в фильтр-пакетах для чайника",null,null,null,null,null,null,null,{"$f":"IF(I637=#REF!,H637,H637*(1-$I$6))","v":{"$error":"#REF!"}}]
[null,"1110350","Чай чёрный цейлонский высокогорный \"EASTFORD\" 12х4 г черный ","за 1 уп",138,138,null,{"$f":"G638*F638","v":0},"NEW!",null,{"$f":"IF(I638=#REF!,H638,H638*(1-$I$6))","v":{"$error":"#REF!"}}]
[55,"1110351","Чай зелёный китайский высокогорный  \"EASTFORD\" 12х4 г зеленый","за 1 уп",138,138,null,{"$f":"G639*F639","v":0},"NEW!",null,{"$f":"IF(I639=#REF!,H639,H639*(1-$I$6))","v":{"$error":"#REF!"}}]
[55,"1110352","Чайный напиток ТМ \"EASTFORD\" (плоды шиповника с яблоком) 12х6 г","за 1 уп",188,188,null,{"$f":"G640*F640","v":0},"NEW!",null,{"$f":"IF(I640=#REF!,H640,H640*(1-$I$6))","v":{"$error":"#REF!"}}]
[82,"katad","Пакетированный чай в саше-конвертах для чашки  ",null,null,null,null,null,null,null,{"$f":"IF(I641=#REF!,H641,H641*(1-$I$6))","v":{"$error":"#REF!"}}]
[null,"0000","Чай SIGURD BLACK ASSAM черный Ассам  150*2 г.","за 1 уп",758,758,null,{"$f":"G642*F642","v":0},null,null,{"$f":"IF(I642=#REF!,H642,H642*(1-$I$6))","v":{"$error":"#REF!"}}]
[320,"0000","Чай SIGURD MILKY OOLONG молочный улун 150*2 гр.","за 1 уп",758,758,null,0,null,null,{"$f":"IF(I643=#REF!,H643,H643*(1-$I$6))","v":{"$error":"#REF!"}}]
[320,"0000","Чайный напиток SIGURD FOREST BERRY лесные ягоды 150*2 гр.","за 1 уп",758,758,null,0,null,null,{"$f":"IF(I644=#REF!,H644,H644*(1-$I$6))","v":{"$error":"#REF!"}}]
[320,"0000","Чай черный RAMUK  Assam Black Tea Ассам 150 шт*1,8г","за 1 уп",608,608,null,0,null,null,{"$f":"IF(I645=#REF!,H645,H645*(1-$I$6))","v":{"$error":"#REF!"}}]
[280,"0000","Чай черный RAMUK Earl Grey Black Tea  с ароматом бергамота 150 шт*1,8г  ","за 1 уп",608,608,null,0,null,null,{"$f":"IF(I646=#REF!,H646,H646*(1-$I$6))","v":{"$error":"#REF!"}}]
[280,"0000","Чай черный RAMUK Thyme Black Tea с чабрецом  150 шт*1,8г.","за 1 уп",608,608,null,0,null,null,{"$f":"IF(I647=#REF!,H647,H647*(1-$I$6))","v":{"$error":"#REF!"}}]
[280,"0000","Чай RAMUK favorit черный 200 шт*1,5гр.","за 1 уп",466,466,null,0,null,null,{"$f":"IF(I648=#REF!,H648,H648*(1-$I$6))","v":{"$error":"#REF!"}}]
[320,"0000","Чай RAMUK favorit зеленый 200 шт*1,5гр.","за 1 уп",466,466,null,0,null,null,{"$f":"IF(I649=#REF!,H649,H649*(1-$I$6))","v":{"$error":"#REF!"}}]
[320,"0000","Чайный напиток RAMUK favorit фруктовый 200 шт*1,5гр.","за 1 уп",466,466,null,0,null,null,{"$f":"IF(I650=#REF!,H650,H650*(1-$I$6))","v":{"$error":"#REF!"}}]
[320,"katae","Сиропы RICHEZA",null,null,null,null,null,null,null,{"$f":"IF(I651=#REF!,H651,H651*(1-$I$6))","v":{"$error":"#REF!"}}]
[null,"1110764","Сироп RICHEZA Ананас (стекло, 1 литр)","за 1 шт",536,536,null,{"$f":"G652*F652","v":0},"NEW!",null,{"$f":"IF(I652=#REF!,H652,H652*(1-$I$6))","v":{"$error":"#REF!"}}]
[1930,"1110765","Сироп RICHEZA Апельсин (стекло, 1 литр)","за 1 шт",536,536,null,0,"NEW!",null,{"$f":"IF(I653=#REF!,H653,H653*(1-$I$6))","v":{"$error":"#REF!"}}]
[1930,"1110766","Сироп RICHEZA Арбуз (стекло, 1 литр)","за 1 шт",536,536,null,0,"NEW!",null,{"$f":"IF(I654=#REF!,H654,H654*(1-$I$6))","v":{"$error":"#REF!"}}]
[1930,"1110273","Сироп RICHEZA Банан (стекло, 1 литр)","за 1 шт",508,508,null,0,"NEW!",null,{"$f":"IF(I655=#REF!,H655,H655*(1-$I$6))","v":{"$error":"#REF!"}}]
[1930,"1110767","Сироп RICHEZA Бабл Гам (стекло, 1 литр)","за 1 шт",536,536,null,0,"NEW!",null,{"$f":"IF(I656=#REF!,H656,H656*(1-$I$6))","v":{"$error":"#REF!"}}]
[1930,"1110274","Сироп RICHEZA Ваниль (стекло, 1 литр)","за 1 шт",536,536,null,0,"NEW!",null,{"$f":"IF(I657=#REF!,H657,H657*(1-$I$6))","v":{"$error":"#REF!"}}]
[1930,"1110768","Сироп RICHEZA Вишня (стекло, 1 литр)","за 1 шт",536,536,null,0,"NEW!",null,{"$f":"IF(I658=#REF!,H658,H658*(1-$I$6))","v":{"$error":"#REF!"}}]
[1930,"1110769","Сироп RICHEZA Груша (стекло, 1 литр)","за 1 шт",508,508,null,0,"NEW!",null,{"$f":"IF(I659=#REF!,H659,H659*(1-$I$6))","v":{"$error":"#REF!"}}]
[1930,"1110770","Сироп RICHEZA Дыня (стекло, 1 литр)","за 1 шт",508,508,null,0,"NEW!",null,{"$f":"IF(I660=#REF!,H660,H660*(1-$I$6))","v":{"$error":"#REF!"}}]
[1930,"1110771","Сироп RICHEZA Зеленая Мята (стекло, 1 литр)","за 1 шт",486,486,null,0,"NEW!",null,{"$f":"IF(I661=#REF!,H661,H661*(1-$I$6))","v":{"$error":"#REF!"}}]
[1930,"1110772","Сироп RICHEZA Зеленое Яблоко (стекло, 1 литр)","за 1 шт",536,536,null,0,"NEW!",null,{"$f":"IF(I662=#REF!,H662,H662*(1-$I$6))","v":{"$error":"#REF!"}}]
[1930,"1110773","Сироп RICHEZA Ирландский Крем (стекло, 1 литр)","за 1 шт",508,508,null,0,"NEW!",null,{"$f":"IF(I663=#REF!,H663,H663*(1-$I$6))","v":{"$error":"#REF!"}}]
[1930,"1110275","Сироп RICHEZA Карамель (стекло, 1 литр)","за 1 шт",508,508,null,0,"NEW!",null,{"$f":"IF(I664=#REF!,H664,H664*(1-$I$6))","v":{"$error":"#REF!"}}]
[1930,"1110276","Сироп RICHEZA Клубника (стекло, 1 литр)","за 1 шт",536,536,null,0,"NEW!",null,{"$f":"IF(I665=#REF!,H665,H665*(1-$I$6))","v":{"$error":"#REF!"}}]
[1930,"1110277","Сироп RICHEZA Кокос (стекло, 1 литр)","за 1 шт",493,493,null,0,"NEW!",null,{"$f":"IF(I666=#REF!,H666,H666*(1-$I$6))","v":{"$error":"#REF!"}}]
[1930,"1110774","Сироп RICHEZA Кленовый (стекло, 1 литр)","за 1 шт",536,536,null,0,"NEW!",null,{"$f":"IF(I667=#REF!,H667,H667*(1-$I$6))","v":{"$error":"#REF!"}}]
[1930,"1110775","Сироп RICHEZA Корица (стекло, 1 литр)","за 1 шт",508,508,null,0,"NEW!",null,{"$f":"IF(I668=#REF!,H668,H668*(1-$I$6))","v":{"$error":"#REF!"}}]
[1930,"1110776","Сироп RICHEZA Лесной Орех (стекло, 1 литр)","за 1 шт",508,508,null,0,"NEW!",null,{"$f":"IF(I669=#REF!,H669,H669*(1-$I$6))","v":{"$error":"#REF!"}}]
[1930,"1110777","Сироп RICHEZA Лесные Ягоды (стекло, 1 литр)","за 1 шт",551,551,null,0,"NEW!",null,{"$f":"IF(I670=#REF!,H670,H670*(1-$I$6))","v":{"$error":"#REF!"}}]
[1930,"1110778","Сироп RICHEZA Манго  (стекло, 1 литр)","за 1 шт",551,551,null,0,"NEW!",null,{"$f":"IF(I671=#REF!,H671,H671*(1-$I$6))","v":{"$error":"#REF!"}}]
[1930,"1110779","Сироп RICHEZA Мандарин  (стекло, 1 литр)","за 1 шт",536,536,null,0,"NEW!",null,{"$f":"IF(I672=#REF!,H672,H672*(1-$I$6))","v":{"$error":"#REF!"}}]
[1930,"1110780","Сироп RICHEZA Персик  (стекло, 1 литр)","за 1 шт",536,536,null,0,"NEW!",null,{"$f":"IF(I673=#REF!,H673,H673*(1-$I$6))","v":{"$error":"#REF!"}}]
[1930,"1110781","Сироп RICHEZA Фисташка  (стекло, 1 литр)","за 1 шт",536,536,null,0,"NEW!",null,{"$f":"IF(I674=#REF!,H674,H674*(1-$I$6))","v":{"$error":"#REF!"}}]
[1930,"1110782","Сироп RICHEZA Шоколад  (стекло, 1 литр)","за 1 шт",551,551,null,0,"NEW!",null,{"$f":"IF(I675=#REF!,H675,H675*(1-$I$6))","v":{"$error":"#REF!"}}]
[1930,"1110783","Сироп RICHEZA Ваниль (стекло, 0,33 литра)","за 1 шт",186,186,null,0,"NEW!",null,{"$f":"IF(I676=#REF!,H676,H676*(1-$I$6))","v":{"$error":"#REF!"}}]
[750,"1110784","Сироп RICHEZA Имбирный Пряник (стекло, 0,33 литра)","за 1 шт",197,197,null,0,"NEW!",null,{"$f":"IF(I677=#REF!,H677,H677*(1-$I$6))","v":{"$error":"#REF!"}}]
[750,"1110785","Сироп RICHEZA Ирландский Крем (стекло, 0,33 литра)","за 1 шт",186,186,null,0,"NEW!",null,{"$f":"IF(I678=#REF!,H678,H678*(1-$I$6))","v":{"$error":"#REF!"}}]
[750,"1110786","Сироп RICHEZA Карамель (стекло, 0,33 литра)","за 1 шт",186,186,null,0,"NEW!",null,{"$f":"IF(I679=#REF!,H679,H679*(1-$I$6))","v":{"$error":"#REF!"}}]
[750,"1110787","Сироп RICHEZA Кленовый (стекло, 0,33 литра)","за 1 шт",197,197,null,0,"NEW!",null,{"$f":"IF(I680=#REF!,H680,H680*(1-$I$6))","v":{"$error":"#REF!"}}]
[750,"1110788","Сироп RICHEZA Клубника (стекло, 0,33 литра)","за 1 шт",197,197,null,0,"NEW!",null,{"$f":"IF(I681=#REF!,H681,H681*(1-$I$6))","v":{"$error":"#REF!"}}]
[750,"1110789","Сироп RICHEZA Кокос (стекло, 0,33 литра)","за 1 шт",186,186,null,0,"NEW!",null,{"$f":"IF(I682=#REF!,H682,H682*(1-$I$6))","v":{"$error":"#REF!"}}]
[750,"1110790","Сироп RICHEZA Лесной Орех (стекло, 0,33 литра)","за 1 шт",186,186,null,0,"NEW!",null,{"$f":"IF(I683=#REF!,H683,H683*(1-$I$6))","v":{"$error":"#REF!"}}]
[750,"1110791","Сироп RICHEZA Миндаль (стекло, 0,33 литра)","за 1 шт",186,186,null,0,"NEW!",null,{"$f":"IF(I684=#REF!,H684,H684*(1-$I$6))","v":{"$error":"#REF!"}}]
[750,"1110792","Сироп RICHEZA Шоколад (стекло, 0,33 литра)","за 1 шт",197,197,null,0,"NEW!",null,{"$f":"IF(I685=#REF!,H685,H685*(1-$I$6))","v":{"$error":"#REF!"}}]
[750,"1110793","Сироп RICHEZA Шоколадное Печенье (стекло, 0,33 литра)","за 1 шт",197,197,null,0,"NEW!",null,{"$f":"IF(I686=#REF!,H686,H686*(1-$I$6))","v":{"$error":"#REF!"}}]
[750,"1110809","Помпа-дозатор 31 мм., 5 мл","за 1 шт",336,336,null,0,"NEW!",null,{"$f":"IF(I687=#REF!,H687,H687*(1-$I$6))","v":{"$error":"#REF!"}}]
[750,"kataf","Джем \"Русский лес\"",null,null,null,null,null,"рекомендованная розничная цена",null,{"$f":"IF(I688=#REF!,H688,H688*(1-$I$6))","v":{"$error":"#REF!"}}]
[null,"00537","Джем \"Русский лес\"  ПРЕМИУМ Клюква/Черника 220 гр. ","за 1 шт",238,238,null,{"$f":"G689*F689","v":0},297,null,{"$f":"H689","v":0}]
[363,"00538","Джем \"Русский лес\"  ПРЕМИУМ Облепиха 220 гр. ","за 1 шт",238,238,null,0,297,null,{"$f":"H690","v":0}]
[363,"00539","Джем \"Русский лес\"  ПРЕМИУМ Брусника 220 гр. ","за 1 шт",238,238,null,0,297,null,{"$f":"H691","v":0}]
[363,"00540","Джем \"Русский лес\" ПРЕМИУМ Красная смородина 220 гр. ","за 1 шт",238,238,null,0,297,null,0]
[363,"00541","Джем \"Русский лес\" ПРЕМИУМ Малина/Брусника 220 гр. \"","за 1 шт",238,238,null,0,297,null,0]
[363,"00542","Подарочный набор \"КРАСНЫЙ\". Джем \"Русский лес\". Ассорти из порционных баночек (3шт х 25 гр.) В наборе: черника, брусника, ежевика.","за 1 шт",204,204,null,0,255,null,0]
[241,"00901","Подарочный набор \"ФИОЛЕТОВЫЙ\". Десерты \"Русский лес\". Ассорти из порционных баночек (3шт х 25 гр.) В наборе: грецкий орех,ежевика,миндаль.   ","за 1 шт",217,217,null,0,271,null,0]
[241,"00543","Подарочный набор \"ЗЕЛЕНЫЙ\". Джем \"Русский лес\". Ассорти из порционных баночек (3шт х 25 гр.) В наборе: малина, клубника, клюква/черника.","за 1 шт",204,204,null,0,255,null,0]
[241,"00902","Подарочный набор \"ОРАНЖЕВЫЙ\". Джем \"Русский лес\". Ассорти из порционных баночек (3шт х 25 гр.) В наборе: облепиха, красная смородина, малина/брусника.","за 1 шт",204,204,null,0,255,null,0]
[241,"00544","Подарочный набор \"СЕРЕБРЯНЫЙ\". Десерты \"Русский лес\". Ассорти из порционных баночек (3шт х 25 гр.) В наборе: кедр, брусника, шишка. ","за 1 шт",265,265,null,0,331,null,0]
[241,"1111794","Подарочный набор \"ЗОЛОТОЙ\". Джем \"Русский лес\". Ассорти из порционных баночек (3шт х 25 гр.) В наборе:лесной орех, миндаль, кедр.","за 1 шт",265,265,null,0,331,null,0]
[241,"1111793","Подарочный набор \"ЧЕРНЫЙ\". Джем \"Русский лес\". Ассорти из порционных баночек (3шт х 25 гр.) В наборе: черника, лесной орех, грецкий орех.","за 1 шт",265,265,null,0,331,"NEW!",0]
[null,"00545","Джем \"Русский лес\" Черника 220 гр.","за 1 шт",238,238,null,0,297,"NEW!",0]
[363,"00546","Джем \"Русский лес\" Ежевика 220 гр.","за 1 шт",238,238,null,0,297,null,0]
[363,"00547","Джем \"Русский лес\" Клубника 220 гр.","за 1 шт",238,238,null,0,297,null,0]
[363,"00548","Джем \"Русский лес\" Малина 220 гр.","за 1 шт",238,238,null,0,297,null,0]
[363,"00549","Джем \"Русский лес\" Клюква/Черника 25 гр.","за 1 шт",52,52,null,0,64,null,0]
[77,"00550","Джем \"Русский лес\" Черника 25 гр.","за 1 шт",52,52,null,0,64,null,0]
[77,"00551"," Джем \"Русский лес\" Брусника 25 гр.","за 1 шт",52,52,null,0,64,null,0]
[77,"00552","Джем \"Русский лес\" Ежевика 25 гр.","за 1 шт",52,52,null,0,64,null,0]
[77,"00553","Джем \"Русский лес\" Клубника 25 гр.","за 1 шт",52,52,null,0,64,null,0]
[77,"00554","Джем \"Русский лес\" Малина 25 гр.","за 1 шт",52,52,null,0,64,null,0]
[77,"1110372","Варенье из сосновых шишек \"Русский лес\" 250 гр.","за 1 шт",323,323,null,0,403,null,0]
[363,"00903","Миндаль в сиропе шиповника \"Русский лес\" 25гр.","за 1 шт",64,64,null,0,79,null,0]
[77,"00904","Грецкий орех в сосновом сиропе \"Русский лес\" 25гр.","за 1 шт",64,64,null,0,79,null,0]
[77,"00556","Варенье из сосновых шишек \"Русский лес\" 25 гр.","за 1 шт",64,64,null,0,79,null,0]
[77,"00897","Миндаль в сиропе шиповника \"Русский лес\" 220 гр. ","за 1 шт",323,323,null,0,403,null,0]
[363,"00898","Грецкий орех в сосновом сиропе \"Русский лес\" 220 гр.   ","за 1 шт",323,323,null,0,403,null,0]
[363,"00557","Кедровые орешки в сосновом сиропе \"Русский лес\" 220 гр.","за 1 шт",431,431,null,0,538,null,0]
[363,"00558","Кедровые орешки в сосновом сиропе \"Русский лес\" 25 гр.","за 1 шт",82,82,null,0,102,null,0]
[77,"katg","ЛЕДЕНЦЫ И КАРАМЕЛЬ",null,null,null,null,null,null,null,0]
[null,"1110797","Карамель леденцовая \"Звезда\" 20гр      (21 шт в боксе)","за 1 бокс",496,496,null,{"$f":"G720*F720","v":0},null,null,0]
[600,"1110794","Карамель леденцовая       \"МИКС №1 Петушок/Сердце\"   20гр          (24 шт в боксе)","за 1 бокс",518,518,null,0,null,null,{"$f":"H721","v":0}]
[600,"1110795","Карамель леденцовая \"Сердце\" 35гр            (16 шт в боксе)","за 1 бокс",499,499,null,0,null,null,0]
[600,"1110796","Карамель леденцовая       \"МИКС №6 Гребешок/Сердце             (14 шт в боксе)","за 1 бокс",499,499,null,0,null,null,0]
[600,"1110798","Карамель леденцовая       \"МИКС №4 ЗВЕРИ\" 20гр        (24 шт в боксе)","за 1 бокс",691,691,null,0,null,null,0]
[600,"1110799","Карамель атласная       \"Диск\" 20гр                      (24 шт в боксе)","за 1 бокс",881,881,null,0,null,null,0]
[600,"1110801","Карамель атласная  \"Спираль 20гр\"            (24 шт в боксе)","за 1 бокс",881,881,null,0,null,null,0]
[600,"1110802","Карамель атласная \"МИКС №8 Диск/сердце/спираль\" 30гр (18шт в боксе)","за 1 бокс",894,894,null,0,null,null,0]
[600,"1110849","Карамель леденцовая       \"Без сахара с мятой\"  20гр             (24 шт в боксе)","за 1 бокс",1440,1440,null,0,null,null,0]
[600,null,"Доставка","за 1 шт",1,1,null,0,null,null,0]
[77,null,null,null,null,null,null,null,null,null,0]
[]
[]
[]
[]
[]
[]
[]
[]
[]
[]
[]
[]
[]
[]
[]
[null,"kat"]
[null,"kat"]

{"sheet":"Лист1","index":1,"n_rows":34,"n_cols":2,"rows_kept":34,"cut":false,"hidden":false,"merged":[]}
["Черный чай AROMA","kata"]
["Чёрный чай Eco-line","katb"]
["Чёрные (Индия, Кения, Цейлон, Китай, Вьетнам)","katc"]
["Зеленый чай AROMA","katd"]
["Зелёный чай Eco-line","kate"]
["Каркаде, Фруктовые чаи","katf"]
[" Ароматизированный чай на основе Ройбуша","katg"]
[" чай на основе Мате (МАТЭ) ","kath"]
["Связанный чай","kati"]
["Гречишный,рисовый чаи","katj"]
["Травяные чаи, завары, травы, ягоды","katk"]
["Иван-чай","katl"]
["Белый чай","katm"]
["Улун ","katn"]
["Элитные улуны","kato"]
["Пуэр прессованный ","katp"]
["Пуэр","katq"]
["Ароматизированный чай на основе Пуэра","katr"]
["Эксклюзивные чаи","kats"]
["Кофе зерновой","katt"]
["Кофе зерновой Aroma","katu"]
["Тара, упаковки","katv"]
["Добавки к чаю","katw"]
["Ароматизатор пищевой натуральный 10 мл","katx"]
["Фильтр пакеты","katy"]
["Шоколад Плитка","katz"]
["КРЕМ-МЕД","kataa"]
["Варенье ","katab"]
["Чай в фильтр-пакетах для чайника","katac"]
["Пакетированный чай в саше-конвертах для чашки  ","katad"]
["Сиропы RICHEZA","katae"]
["Джем \"Русский лес\"","kataf"]
["ЛЕДЕНЦЫ И КАРАМЕЛЬ","katg"]
[null,"kat"]